BEGIN:VCALENDAR
VERSION:2.0
PRODID:-//AIA ETN - ECPv6.15.20//NONSGML v1.0//EN
CALSCALE:GREGORIAN
METHOD:PUBLISH
X-ORIGINAL-URL:https://www.aiaetn.org
X-WR-CALDESC:Events for AIA ETN
REFRESH-INTERVAL;VALUE=DURATION:PT1H
X-Robots-Tag:noindex
X-PUBLISHED-TTL:PT1H
BEGIN:VTIMEZONE
TZID:America/New_York
BEGIN:DAYLIGHT
TZOFFSETFROM:-0500
TZOFFSETTO:-0400
TZNAME:EDT
DTSTART:20230312T070000
END:DAYLIGHT
BEGIN:STANDARD
TZOFFSETFROM:-0400
TZOFFSETTO:-0500
TZNAME:EST
DTSTART:20231105T060000
END:STANDARD
BEGIN:DAYLIGHT
TZOFFSETFROM:-0500
TZOFFSETTO:-0400
TZNAME:EDT
DTSTART:20240310T070000
END:DAYLIGHT
BEGIN:STANDARD
TZOFFSETFROM:-0400
TZOFFSETTO:-0500
TZNAME:EST
DTSTART:20241103T060000
END:STANDARD
BEGIN:DAYLIGHT
TZOFFSETFROM:-0500
TZOFFSETTO:-0400
TZNAME:EDT
DTSTART:20250309T070000
END:DAYLIGHT
BEGIN:STANDARD
TZOFFSETFROM:-0400
TZOFFSETTO:-0500
TZNAME:EST
DTSTART:20251102T060000
END:STANDARD
END:VTIMEZONE
BEGIN:VEVENT
DTSTART;TZID=America/New_York:20240924T115000
DTEND;TZID=America/New_York:20240924T130000
DTSTAMP:20260421T183639
CREATED:20240824T182900Z
LAST-MODIFIED:20240824T183159Z
UID:10000456-1727178600-1727182800@www.aiaetn.org
SUMMARY:September Design Feed- Kim Yao\, FAIA
DESCRIPTION:Speaker: Kim Yao\, FAIA with the Architecture Research Office in Brooklyn\, NY.  \n\n\n\nDescription: In conjunction with the Fall 2024 publication of the monograph Architecture. Research. Office. Principal Kim Yao will present the practice design as a project. “Architecture” is the firm’s ultimate objective\, which for ARO means creating beautifully crafted work that benefits people; “research” grounds its methodology and informs its approach; and “office” reflects the idea that creating architecture in support of people starts with the community and culture of the firm itself. Key past and current projects representing the firm’s diverse body of work will be the means to describe the principles that guide ARO’s work\, the firm’s methodology\, and its culture. \n\n\n\nCEU: 1 LU \n\n\n\nLearning Objectives: \n\n\n\n\nLearn how to create a collaborative\, nurturing office culture supporting design excellence.\n\n\n\nLearn how to implement research techniques in diverse project types.\n\n\n\nUnderstand how to structure the design process as a form of research and inquiry.\n\n\n\nUnderstand how to engage clients as thought partners\, translate mission into project principles\, and create designs that are vehicles for positive change.
URL:https://www.aiaetn.org/calendar/kimyao-2/
LOCATION:The Foundry on the Fair Site\, 747 World's Fair Park Drive\, Knoxville\, TN\, United States
CATEGORIES:Design Feed
ATTACH;FMTTYPE=image/png:https://www.aiaetn.org/site/wp-content/uploads/2024/01/1-6.png
GEO:35.965252;-83.926507
X-APPLE-STRUCTURED-LOCATION;VALUE=URI;X-ADDRESS=The Foundry on the Fair Site 747 World's Fair Park Drive Knoxville TN United States;X-APPLE-RADIUS=500;X-TITLE=747 World's Fair Park Drive:geo:-83.926507,35.965252
END:VEVENT
END:VCALENDAR