BEGIN:VCALENDAR
VERSION:2.0
PRODID:-//AIA ETN - ECPv6.15.20//NONSGML v1.0//EN
CALSCALE:GREGORIAN
METHOD:PUBLISH
X-WR-CALNAME:AIA ETN
X-ORIGINAL-URL:https://www.aiaetn.org
X-WR-CALDESC:Events for AIA ETN
REFRESH-INTERVAL;VALUE=DURATION:PT1H
X-Robots-Tag:noindex
X-PUBLISHED-TTL:PT1H
BEGIN:VTIMEZONE
TZID:America/New_York
BEGIN:DAYLIGHT
TZOFFSETFROM:-0500
TZOFFSETTO:-0400
TZNAME:EDT
DTSTART:20240310T070000
END:DAYLIGHT
BEGIN:STANDARD
TZOFFSETFROM:-0400
TZOFFSETTO:-0500
TZNAME:EST
DTSTART:20241103T060000
END:STANDARD
BEGIN:DAYLIGHT
TZOFFSETFROM:-0500
TZOFFSETTO:-0400
TZNAME:EDT
DTSTART:20250309T070000
END:DAYLIGHT
BEGIN:STANDARD
TZOFFSETFROM:-0400
TZOFFSETTO:-0500
TZNAME:EST
DTSTART:20251102T060000
END:STANDARD
BEGIN:DAYLIGHT
TZOFFSETFROM:-0500
TZOFFSETTO:-0400
TZNAME:EDT
DTSTART:20260308T070000
END:DAYLIGHT
BEGIN:STANDARD
TZOFFSETFROM:-0400
TZOFFSETTO:-0500
TZNAME:EST
DTSTART:20261101T060000
END:STANDARD
END:VTIMEZONE
BEGIN:VEVENT
DTSTART;TZID=America/New_York:20250325T115000
DTEND;TZID=America/New_York:20250325T130000
DTSTAMP:20260421T183808
CREATED:20240108T140501Z
LAST-MODIFIED:20250317T144539Z
UID:10000396-1742903400-1742907600@www.aiaetn.org
SUMMARY:Design Feed
DESCRIPTION:We are no longer selling in-person tickets for this Design Feed to ensure that we have enough food and seats for attendees. If you’d like to attend this Design Feed\, limited walk-ins are available or have a guaranteed digital seat via ZOOM.
URL:https://www.aiaetn.org/calendar/df2025march/
LOCATION:The Press Room\, 730 N Broadway\, Knoxville\, TN 37917\, USA\, 2301 Rim St NE\, United States
CATEGORIES:Design Feed
ATTACH;FMTTYPE=image/png:https://www.aiaetn.org/site/wp-content/uploads/2024/01/2025DF-March-24x36-2.png
GEO:35.996752;-83.91157
X-APPLE-STRUCTURED-LOCATION;VALUE=URI;X-ADDRESS=The Press Room 730 N Broadway Knoxville TN 37917 USA 2301 Rim St NE United States;X-APPLE-RADIUS=500;X-TITLE=2301 Rim St NE:geo:-83.91157,35.996752
END:VEVENT
END:VCALENDAR