BEGIN:VCALENDAR
VERSION:2.0
PRODID:-//AIA ETN - ECPv6.15.20//NONSGML v1.0//EN
CALSCALE:GREGORIAN
METHOD:PUBLISH
X-ORIGINAL-URL:https://www.aiaetn.org
X-WR-CALDESC:Events for AIA ETN
REFRESH-INTERVAL;VALUE=DURATION:PT1H
X-Robots-Tag:noindex
X-PUBLISHED-TTL:PT1H
BEGIN:VTIMEZONE
TZID:America/New_York
BEGIN:DAYLIGHT
TZOFFSETFROM:-0500
TZOFFSETTO:-0400
TZNAME:EDT
DTSTART:20230312T070000
END:DAYLIGHT
BEGIN:STANDARD
TZOFFSETFROM:-0400
TZOFFSETTO:-0500
TZNAME:EST
DTSTART:20231105T060000
END:STANDARD
BEGIN:DAYLIGHT
TZOFFSETFROM:-0500
TZOFFSETTO:-0400
TZNAME:EDT
DTSTART:20240310T070000
END:DAYLIGHT
BEGIN:STANDARD
TZOFFSETFROM:-0400
TZOFFSETTO:-0500
TZNAME:EST
DTSTART:20241103T060000
END:STANDARD
BEGIN:DAYLIGHT
TZOFFSETFROM:-0500
TZOFFSETTO:-0400
TZNAME:EDT
DTSTART:20250309T070000
END:DAYLIGHT
BEGIN:STANDARD
TZOFFSETFROM:-0400
TZOFFSETTO:-0500
TZNAME:EST
DTSTART:20251102T060000
END:STANDARD
BEGIN:DAYLIGHT
TZOFFSETFROM:-0500
TZOFFSETTO:-0400
TZNAME:EDT
DTSTART:20260308T070000
END:DAYLIGHT
BEGIN:STANDARD
TZOFFSETFROM:-0400
TZOFFSETTO:-0500
TZNAME:EST
DTSTART:20261101T060000
END:STANDARD
END:VTIMEZONE
BEGIN:VEVENT
DTSTART;TZID=America/New_York:20250422T115000
DTEND;TZID=America/New_York:20250422T130000
DTSTAMP:20260421T185804
CREATED:20240108T140501Z
LAST-MODIFIED:20250415T033358Z
UID:10000397-1745322600-1745326800@www.aiaetn.org
SUMMARY:Design Feed
DESCRIPTION:We are no longer selling in-person tickets for this Design Feed to ensure that we have enough food and seats for attendees. If you’d like to attend this Design Feed\, limited walk-ins are available (without a guarantee for food)\, or have a guaranteed digital seat via ZOOM.\n\nThe Zoom link will be sent out in an email the day before the Feed.
URL:https://www.aiaetn.org/calendar/design-feed-15/
LOCATION:Foundry On The Fair Site\, 747 Worlds Fair Park Dr\, Knoxville\, TN\, United States
CATEGORIES:Design Feed
ATTACH;FMTTYPE=image/png:https://www.aiaetn.org/site/wp-content/uploads/2024/01/2025DF-April-24x36-1.png
GEO:35.965318;-83.926049
X-APPLE-STRUCTURED-LOCATION;VALUE=URI;X-ADDRESS=Foundry On The Fair Site 747 Worlds Fair Park Dr Knoxville TN United States;X-APPLE-RADIUS=500;X-TITLE=747 Worlds Fair Park Dr:geo:-83.926049,35.965318
END:VEVENT
BEGIN:VEVENT
DTSTART;TZID=America/New_York:20250225T115000
DTEND;TZID=America/New_York:20250225T130000
DTSTAMP:20260421T185804
CREATED:20240108T140501Z
LAST-MODIFIED:20250213T153355Z
UID:10000395-1740484200-1740488400@www.aiaetn.org
SUMMARY:Design Feed
DESCRIPTION:We are no longer selling in-person tickets for this Design Feed to ensure that we have enough food and seats for attendees. If you’d like to attend this Design Feed\, limited walk-ins are available or have a guaranteed digital seat via ZOOM.
URL:https://www.aiaetn.org/calendar/df2025-feb/
LOCATION:Foundry On The Fair Site\, 747 Worlds Fair Park Dr\, Knoxville\, TN\, United States
CATEGORIES:Design Feed
ATTACH;FMTTYPE=image/png:https://www.aiaetn.org/site/wp-content/uploads/2024/01/2025-DF.png
GEO:35.965318;-83.926049
X-APPLE-STRUCTURED-LOCATION;VALUE=URI;X-ADDRESS=Foundry On The Fair Site 747 Worlds Fair Park Dr Knoxville TN United States;X-APPLE-RADIUS=500;X-TITLE=747 Worlds Fair Park Dr:geo:-83.926049,35.965318
END:VEVENT
BEGIN:VEVENT
DTSTART;TZID=America/New_York:20241119T115000
DTEND;TZID=America/New_York:20241119T130000
DTSTAMP:20260421T185804
CREATED:20240108T140459Z
LAST-MODIFIED:20241111T160503Z
UID:10000392-1732017000-1732021200@www.aiaetn.org
SUMMARY:November 2024 Design Feed
DESCRIPTION:Speaker: Melissa Rome and Brian Rome with ROME Office in New Orleans\, LA.  \n\n\n\n\n\nWe are no longer selling in-person tickets for this Design Feed to ensure that we have enough food and seats for attendees. If you’d like to attend this Design Feed\, limited walk-ins are available or have a guaranteed digital seat via ZOOM.
URL:https://www.aiaetn.org/calendar/nov24-df/
LOCATION:Foundry On The Fair Site\, 747 Worlds Fair Park Dr\, Knoxville\, TN\, United States
CATEGORIES:Design Feed
ATTACH;FMTTYPE=image/png:https://www.aiaetn.org/site/wp-content/uploads/2024/01/2024-November-Design-Feed.png
GEO:35.965318;-83.926049
X-APPLE-STRUCTURED-LOCATION;VALUE=URI;X-ADDRESS=Foundry On The Fair Site 747 Worlds Fair Park Dr Knoxville TN United States;X-APPLE-RADIUS=500;X-TITLE=747 Worlds Fair Park Dr:geo:-83.926049,35.965318
END:VEVENT
BEGIN:VEVENT
DTSTART;TZID=America/New_York:20241022T115000
DTEND;TZID=America/New_York:20241022T130000
DTSTAMP:20260421T185804
CREATED:20240108T140459Z
LAST-MODIFIED:20240209T204404Z
UID:10000391-1729597800-1729602000@www.aiaetn.org
SUMMARY:Design Feed- Jesse Fearins\, AIA LEED AP
DESCRIPTION:Speaker: Jesse Fearins\, AIA LEED AP with The Brooklyn Studio in Brooklyn\, NY.
URL:https://www.aiaetn.org/calendar/design-feed-9/
LOCATION:Foundry On The Fair Site\, 747 Worlds Fair Park Dr\, Knoxville\, TN\, United States
CATEGORIES:Design Feed
ATTACH;FMTTYPE=image/png:https://www.aiaetn.org/site/wp-content/uploads/2024/01/Screen-Shot-2024-01-11-at-12.29.48-PM.png
GEO:35.965318;-83.926049
X-APPLE-STRUCTURED-LOCATION;VALUE=URI;X-ADDRESS=Foundry On The Fair Site 747 Worlds Fair Park Dr Knoxville TN United States;X-APPLE-RADIUS=500;X-TITLE=747 Worlds Fair Park Dr:geo:-83.926049,35.965318
END:VEVENT
BEGIN:VEVENT
DTSTART;TZID=America/New_York:20240227T115000
DTEND;TZID=America/New_York:20240227T130000
DTSTAMP:20260421T185804
CREATED:20240111T145930Z
LAST-MODIFIED:20240227T132956Z
UID:10000430-1709034600-1709038800@www.aiaetn.org
SUMMARY:Design Feed- Timothy Maddox\, AIA
DESCRIPTION:Speaker: Timothy Maddox\, AIA\, Principal with DEMX Architecture. \nDescription: This course provides an introduction to regional architecture and its benefits. Contextual Response and Regional Architecture are crucial in keeping an idea of place. DEMX Architecture is located in Fayetteville\, Arkansas\, and strives to respect the local context in which we reside. Vernacular buildings – such as barns\, sheds\, and local housing types each exhibit our most essential responses to the environment. They are built in defining style with context and function being priority. Combining the values of regional architectural principles and modernism\, it allows designers to pursue sustainable practices rooted in efficiency\, appropriate material choices\, and contextual response. DEMX Architecture heavily emphasizes the iterative process to develop their work. This process is accomplished through sketches\, group design critiques\, model making\, and continuous study of the project. \nCEU: 1 LU \nTickets: CLICK HERE to Purchase.
URL:https://www.aiaetn.org/calendar/design-feed-timothy-maddox-aia/
LOCATION:Foundry On The Fair Site\, 747 Worlds Fair Park Dr\, Knoxville\, TN\, United States
CATEGORIES:Design Feed
ATTACH;FMTTYPE=image/png:https://www.aiaetn.org/site/wp-content/uploads/2024/01/Feb-2024-Timothy-Maddox-AIA-2.png
GEO:35.965318;-83.926049
X-APPLE-STRUCTURED-LOCATION;VALUE=URI;X-ADDRESS=Foundry On The Fair Site 747 Worlds Fair Park Dr Knoxville TN United States;X-APPLE-RADIUS=500;X-TITLE=747 Worlds Fair Park Dr:geo:-83.926049,35.965318
END:VEVENT
END:VCALENDAR