BEGIN:VCALENDAR
VERSION:2.0
PRODID:-//AIA ETN - ECPv6.15.20//NONSGML v1.0//EN
CALSCALE:GREGORIAN
METHOD:PUBLISH
X-WR-CALNAME:AIA ETN
X-ORIGINAL-URL:https://www.aiaetn.org
X-WR-CALDESC:Events for AIA ETN
REFRESH-INTERVAL;VALUE=DURATION:PT1H
X-Robots-Tag:noindex
X-PUBLISHED-TTL:PT1H
BEGIN:VTIMEZONE
TZID:America/New_York
BEGIN:DAYLIGHT
TZOFFSETFROM:-0500
TZOFFSETTO:-0400
TZNAME:EDT
DTSTART:20250309T070000
END:DAYLIGHT
BEGIN:STANDARD
TZOFFSETFROM:-0400
TZOFFSETTO:-0500
TZNAME:EST
DTSTART:20251102T060000
END:STANDARD
BEGIN:DAYLIGHT
TZOFFSETFROM:-0500
TZOFFSETTO:-0400
TZNAME:EDT
DTSTART:20260308T070000
END:DAYLIGHT
BEGIN:STANDARD
TZOFFSETFROM:-0400
TZOFFSETTO:-0500
TZNAME:EST
DTSTART:20261101T060000
END:STANDARD
BEGIN:DAYLIGHT
TZOFFSETFROM:-0500
TZOFFSETTO:-0400
TZNAME:EDT
DTSTART:20270314T070000
END:DAYLIGHT
BEGIN:STANDARD
TZOFFSETFROM:-0400
TZOFFSETTO:-0500
TZNAME:EST
DTSTART:20271107T060000
END:STANDARD
END:VTIMEZONE
BEGIN:VEVENT
DTSTART;TZID=America/New_York:20260421T120000
DTEND;TZID=America/New_York:20260421T130000
DTSTAMP:20260421T094827
CREATED:20251203T184636Z
LAST-MODIFIED:20251203T192016Z
UID:10000577-1776772800-1776776400@www.aiaetn.org
SUMMARY:Programming Committee
DESCRIPTION:The Programming Committee plans and coordinates the Chapter’s monthly programming\, selecting speakers through a criteria-based system that includes HSW credit(s)\, sustainability\, diversity\, design excellence\, and tangential disciplines to our profession. \n\n\n\nIf you would like to be a part of this committee\, please reach out to our Programming Chair\, John Sanders\, at jsanders@sanderspace.com. 
URL:https://www.aiaetn.org/calendar/programming-committee/2026-04-21/
ATTACH;FMTTYPE=image/png:https://www.aiaetn.org/site/wp-content/uploads/2025/12/Committees-14.png
END:VEVENT
BEGIN:VEVENT
DTSTART;TZID=America/New_York:20260519T120000
DTEND;TZID=America/New_York:20260519T130000
DTSTAMP:20260421T094827
CREATED:20251203T184636Z
LAST-MODIFIED:20251203T192016Z
UID:10000578-1779192000-1779195600@www.aiaetn.org
SUMMARY:Programming Committee
DESCRIPTION:The Programming Committee plans and coordinates the Chapter’s monthly programming\, selecting speakers through a criteria-based system that includes HSW credit(s)\, sustainability\, diversity\, design excellence\, and tangential disciplines to our profession. \n\n\n\nIf you would like to be a part of this committee\, please reach out to our Programming Chair\, John Sanders\, at jsanders@sanderspace.com. 
URL:https://www.aiaetn.org/calendar/programming-committee/2026-05-19/
ATTACH;FMTTYPE=image/png:https://www.aiaetn.org/site/wp-content/uploads/2025/12/Committees-14.png
END:VEVENT
BEGIN:VEVENT
DTSTART;TZID=America/New_York:20260616T120000
DTEND;TZID=America/New_York:20260616T130000
DTSTAMP:20260421T094827
CREATED:20251203T184636Z
LAST-MODIFIED:20251203T192016Z
UID:10000579-1781611200-1781614800@www.aiaetn.org
SUMMARY:Programming Committee
DESCRIPTION:The Programming Committee plans and coordinates the Chapter’s monthly programming\, selecting speakers through a criteria-based system that includes HSW credit(s)\, sustainability\, diversity\, design excellence\, and tangential disciplines to our profession. \n\n\n\nIf you would like to be a part of this committee\, please reach out to our Programming Chair\, John Sanders\, at jsanders@sanderspace.com. 
URL:https://www.aiaetn.org/calendar/programming-committee/2026-06-16/
ATTACH;FMTTYPE=image/png:https://www.aiaetn.org/site/wp-content/uploads/2025/12/Committees-14.png
END:VEVENT
BEGIN:VEVENT
DTSTART;TZID=America/New_York:20260721T120000
DTEND;TZID=America/New_York:20260721T130000
DTSTAMP:20260421T094827
CREATED:20251203T184636Z
LAST-MODIFIED:20251203T192016Z
UID:10000580-1784635200-1784638800@www.aiaetn.org
SUMMARY:Programming Committee
DESCRIPTION:The Programming Committee plans and coordinates the Chapter’s monthly programming\, selecting speakers through a criteria-based system that includes HSW credit(s)\, sustainability\, diversity\, design excellence\, and tangential disciplines to our profession. \n\n\n\nIf you would like to be a part of this committee\, please reach out to our Programming Chair\, John Sanders\, at jsanders@sanderspace.com. 
URL:https://www.aiaetn.org/calendar/programming-committee/2026-07-21/
ATTACH;FMTTYPE=image/png:https://www.aiaetn.org/site/wp-content/uploads/2025/12/Committees-14.png
END:VEVENT
BEGIN:VEVENT
DTSTART;TZID=America/New_York:20260818T120000
DTEND;TZID=America/New_York:20260818T130000
DTSTAMP:20260421T094827
CREATED:20251203T184636Z
LAST-MODIFIED:20251203T192016Z
UID:10000581-1787054400-1787058000@www.aiaetn.org
SUMMARY:Programming Committee
DESCRIPTION:The Programming Committee plans and coordinates the Chapter’s monthly programming\, selecting speakers through a criteria-based system that includes HSW credit(s)\, sustainability\, diversity\, design excellence\, and tangential disciplines to our profession. \n\n\n\nIf you would like to be a part of this committee\, please reach out to our Programming Chair\, John Sanders\, at jsanders@sanderspace.com. 
URL:https://www.aiaetn.org/calendar/programming-committee/2026-08-18/
ATTACH;FMTTYPE=image/png:https://www.aiaetn.org/site/wp-content/uploads/2025/12/Committees-14.png
END:VEVENT
BEGIN:VEVENT
DTSTART;TZID=America/New_York:20260915T120000
DTEND;TZID=America/New_York:20260915T130000
DTSTAMP:20260421T094827
CREATED:20251203T184636Z
LAST-MODIFIED:20251203T192016Z
UID:10000582-1789473600-1789477200@www.aiaetn.org
SUMMARY:Programming Committee
DESCRIPTION:The Programming Committee plans and coordinates the Chapter’s monthly programming\, selecting speakers through a criteria-based system that includes HSW credit(s)\, sustainability\, diversity\, design excellence\, and tangential disciplines to our profession. \n\n\n\nIf you would like to be a part of this committee\, please reach out to our Programming Chair\, John Sanders\, at jsanders@sanderspace.com. 
URL:https://www.aiaetn.org/calendar/programming-committee/2026-09-15/
ATTACH;FMTTYPE=image/png:https://www.aiaetn.org/site/wp-content/uploads/2025/12/Committees-14.png
END:VEVENT
BEGIN:VEVENT
DTSTART;TZID=America/New_York:20261020T120000
DTEND;TZID=America/New_York:20261020T130000
DTSTAMP:20260421T094827
CREATED:20251203T184636Z
LAST-MODIFIED:20251203T192016Z
UID:10000583-1792497600-1792501200@www.aiaetn.org
SUMMARY:Programming Committee
DESCRIPTION:The Programming Committee plans and coordinates the Chapter’s monthly programming\, selecting speakers through a criteria-based system that includes HSW credit(s)\, sustainability\, diversity\, design excellence\, and tangential disciplines to our profession. \n\n\n\nIf you would like to be a part of this committee\, please reach out to our Programming Chair\, John Sanders\, at jsanders@sanderspace.com. 
URL:https://www.aiaetn.org/calendar/programming-committee/2026-10-20/
ATTACH;FMTTYPE=image/png:https://www.aiaetn.org/site/wp-content/uploads/2025/12/Committees-14.png
END:VEVENT
BEGIN:VEVENT
DTSTART;TZID=America/New_York:20261117T120000
DTEND;TZID=America/New_York:20261117T130000
DTSTAMP:20260421T094827
CREATED:20251203T184636Z
LAST-MODIFIED:20251203T192016Z
UID:10000584-1794916800-1794920400@www.aiaetn.org
SUMMARY:Programming Committee
DESCRIPTION:The Programming Committee plans and coordinates the Chapter’s monthly programming\, selecting speakers through a criteria-based system that includes HSW credit(s)\, sustainability\, diversity\, design excellence\, and tangential disciplines to our profession. \n\n\n\nIf you would like to be a part of this committee\, please reach out to our Programming Chair\, John Sanders\, at jsanders@sanderspace.com. 
URL:https://www.aiaetn.org/calendar/programming-committee/2026-11-17/
ATTACH;FMTTYPE=image/png:https://www.aiaetn.org/site/wp-content/uploads/2025/12/Committees-14.png
END:VEVENT
BEGIN:VEVENT
DTSTART;TZID=America/New_York:20261215T120000
DTEND;TZID=America/New_York:20261215T130000
DTSTAMP:20260421T094827
CREATED:20251203T184636Z
LAST-MODIFIED:20251203T192016Z
UID:10000585-1797336000-1797339600@www.aiaetn.org
SUMMARY:Programming Committee
DESCRIPTION:The Programming Committee plans and coordinates the Chapter’s monthly programming\, selecting speakers through a criteria-based system that includes HSW credit(s)\, sustainability\, diversity\, design excellence\, and tangential disciplines to our profession. \n\n\n\nIf you would like to be a part of this committee\, please reach out to our Programming Chair\, John Sanders\, at jsanders@sanderspace.com. 
URL:https://www.aiaetn.org/calendar/programming-committee/2026-12-15/
ATTACH;FMTTYPE=image/png:https://www.aiaetn.org/site/wp-content/uploads/2025/12/Committees-14.png
END:VEVENT
END:VCALENDAR