BEGIN:VCALENDAR
VERSION:2.0
PRODID:-//AIA ETN - ECPv6.15.20//NONSGML v1.0//EN
CALSCALE:GREGORIAN
METHOD:PUBLISH
X-ORIGINAL-URL:https://www.aiaetn.org
X-WR-CALDESC:Events for AIA ETN
REFRESH-INTERVAL;VALUE=DURATION:PT1H
X-Robots-Tag:noindex
X-PUBLISHED-TTL:PT1H
BEGIN:VTIMEZONE
TZID:America/New_York
BEGIN:DAYLIGHT
TZOFFSETFROM:-0500
TZOFFSETTO:-0400
TZNAME:EDT
DTSTART:20260308T070000
END:DAYLIGHT
BEGIN:STANDARD
TZOFFSETFROM:-0400
TZOFFSETTO:-0500
TZNAME:EST
DTSTART:20261101T060000
END:STANDARD
BEGIN:DAYLIGHT
TZOFFSETFROM:-0500
TZOFFSETTO:-0400
TZNAME:EDT
DTSTART:20270314T070000
END:DAYLIGHT
BEGIN:STANDARD
TZOFFSETFROM:-0400
TZOFFSETTO:-0500
TZNAME:EST
DTSTART:20271107T060000
END:STANDARD
BEGIN:DAYLIGHT
TZOFFSETFROM:-0500
TZOFFSETTO:-0400
TZNAME:EDT
DTSTART:20280312T070000
END:DAYLIGHT
BEGIN:STANDARD
TZOFFSETFROM:-0400
TZOFFSETTO:-0500
TZNAME:EST
DTSTART:20281105T060000
END:STANDARD
END:VTIMEZONE
BEGIN:VEVENT
DTSTART;TZID=America/New_York:20271101T120000
DTEND;TZID=America/New_York:20271101T130000
DTSTAMP:20260422T184147
CREATED:20250703T193507Z
LAST-MODIFIED:20251203T192503Z
UID:10000514-1825070400-1825074000@www.aiaetn.org
SUMMARY:Equity\, Diversity\, & Inclusion (EDI) Committee
DESCRIPTION:Our EDI Committee’s mission is to assist other committees and the Chapter with recognizing and eliminating institutional injustice\, increasing the diversity of the profession and of future professionals\, and fostering a spirit of inclusiveness for all members\, while working to promote a completely just society for all members of our communities. \n\n\n\nThis committee meets on the first Monday of the month. If you would like to join this committee or want a link to the virtual meetings\, please contact our Chair\, Geoffrey Cavalier\, at cavaliergeoffrey@gmail.com
URL:https://www.aiaetn.org/calendar/edi_comm/2027-11-01/
CATEGORIES:Committees,EDI
ATTACH;FMTTYPE=image/png:https://www.aiaetn.org/site/wp-content/uploads/2025/07/Committees-15.png
END:VEVENT
BEGIN:VEVENT
DTSTART;TZID=America/New_York:20271110T130000
DTEND;TZID=America/New_York:20271110T140000
DTSTAMP:20260422T184147
CREATED:20260129T171718Z
LAST-MODIFIED:20260209T154847Z
UID:10000694-1825851600-1825855200@www.aiaetn.org
SUMMARY:Regional Affairs Committee
DESCRIPTION:The Regional Affairs Committee discusses the communities and counties in our Chapter outside of the Knox County metro and the issues facing those areas of East Tennessee. All meetings virtual unless otherwise noted.
URL:https://www.aiaetn.org/calendar/regional-affairs-committee/2027-11-10/
ATTACH;FMTTYPE=image/png:https://www.aiaetn.org/site/wp-content/uploads/2026/01/Committees-17.png
END:VEVENT
END:VCALENDAR