BEGIN:VCALENDAR
VERSION:2.0
PRODID:-//AIA ETN - ECPv6.15.20//NONSGML v1.0//EN
CALSCALE:GREGORIAN
METHOD:PUBLISH
X-WR-CALNAME:AIA ETN
X-ORIGINAL-URL:https://www.aiaetn.org
X-WR-CALDESC:Events for AIA ETN
REFRESH-INTERVAL;VALUE=DURATION:PT1H
X-Robots-Tag:noindex
X-PUBLISHED-TTL:PT1H
BEGIN:VTIMEZONE
TZID:America/New_York
BEGIN:DAYLIGHT
TZOFFSETFROM:-0500
TZOFFSETTO:-0400
TZNAME:EDT
DTSTART:20250309T070000
END:DAYLIGHT
BEGIN:STANDARD
TZOFFSETFROM:-0400
TZOFFSETTO:-0500
TZNAME:EST
DTSTART:20251102T060000
END:STANDARD
BEGIN:DAYLIGHT
TZOFFSETFROM:-0500
TZOFFSETTO:-0400
TZNAME:EDT
DTSTART:20260308T070000
END:DAYLIGHT
BEGIN:STANDARD
TZOFFSETFROM:-0400
TZOFFSETTO:-0500
TZNAME:EST
DTSTART:20261101T060000
END:STANDARD
BEGIN:DAYLIGHT
TZOFFSETFROM:-0500
TZOFFSETTO:-0400
TZNAME:EDT
DTSTART:20270314T070000
END:DAYLIGHT
BEGIN:STANDARD
TZOFFSETFROM:-0400
TZOFFSETTO:-0500
TZNAME:EST
DTSTART:20271107T060000
END:STANDARD
END:VTIMEZONE
BEGIN:VEVENT
DTSTART;TZID=America/New_York:20260309T140000
DTEND;TZID=America/New_York:20260309T150000
DTSTAMP:20260421T113640
CREATED:20251203T182836Z
LAST-MODIFIED:20251203T191844Z
UID:10000561-1773064800-1773068400@www.aiaetn.org
SUMMARY:K-12 Committee
DESCRIPTION:Our K-12 Outreach Committee’s focus is introducing architecture to primary and secondary students\, broadening an understanding of the profession’s contributions to our communities\, and encouraging and mentoring those interested in a career in architecture and design.
URL:https://www.aiaetn.org/calendar/k-12-committee/2026-03-09/
ATTACH;FMTTYPE=image/png:https://www.aiaetn.org/site/wp-content/uploads/2025/12/Committees-12.png
END:VEVENT
BEGIN:VEVENT
DTSTART;TZID=America/New_York:20260310T114500
DTEND;TZID=America/New_York:20260310T130000
DTSTAMP:20260421T113640
CREATED:20260116T171155Z
LAST-MODIFIED:20260306T025743Z
UID:10000602-1773143100-1773147600@www.aiaetn.org
SUMMARY:Tri-Cities Tech Session
DESCRIPTION:Email Mike Stone for more details and to RSVP. Cost is $25 for non-members and free to AIA members. mike@mikestonearchitect.com
URL:https://www.aiaetn.org/calendar/tri-cities-tech-session-11/
END:VEVENT
BEGIN:VEVENT
DTSTART;TZID=America/New_York:20260311T130000
DTEND;TZID=America/New_York:20260311T140000
DTSTAMP:20260421T113640
CREATED:20260129T171718Z
LAST-MODIFIED:20260209T154847Z
UID:10000674-1773234000-1773237600@www.aiaetn.org
SUMMARY:Regional Affairs Committee
DESCRIPTION:The Regional Affairs Committee discusses the communities and counties in our Chapter outside of the Knox County metro and the issues facing those areas of East Tennessee. All meetings virtual unless otherwise noted.
URL:https://www.aiaetn.org/calendar/regional-affairs-committee/2026-03-11/
ATTACH;FMTTYPE=image/png:https://www.aiaetn.org/site/wp-content/uploads/2026/01/Committees-17.png
END:VEVENT
BEGIN:VEVENT
DTSTART;TZID=America/New_York:20260317T120000
DTEND;TZID=America/New_York:20260317T130000
DTSTAMP:20260421T113640
CREATED:20251203T184636Z
LAST-MODIFIED:20251203T192016Z
UID:10000576-1773748800-1773752400@www.aiaetn.org
SUMMARY:Programming Committee
DESCRIPTION:The Programming Committee plans and coordinates the Chapter’s monthly programming\, selecting speakers through a criteria-based system that includes HSW credit(s)\, sustainability\, diversity\, design excellence\, and tangential disciplines to our profession. \n\n\n\nIf you would like to be a part of this committee\, please reach out to our Programming Chair\, John Sanders\, at jsanders@sanderspace.com. 
URL:https://www.aiaetn.org/calendar/programming-committee/2026-03-17/
ATTACH;FMTTYPE=image/png:https://www.aiaetn.org/site/wp-content/uploads/2025/12/Committees-14.png
END:VEVENT
BEGIN:VEVENT
DTSTART;TZID=America/New_York:20260324T114000
DTEND;TZID=America/New_York:20260324T130000
DTSTAMP:20260421T113640
CREATED:20260223T152641Z
LAST-MODIFIED:20260324T001439Z
UID:10000593-1774352400-1774357200@www.aiaetn.org
SUMMARY:Design Feed
DESCRIPTION:Access the Zoom Webinar\n\n\n\n\nSign up below! If you are joining via Zoom\, make sure you enter your full name and email when you join the webinar so we can get you credit (if you are an AIA member) and can send you an invoice (if you were unable to register in advance).  \n\n\nWe are no longer selling in-person tickets for this Design Feed to ensure that we have enough food and seats for attendees. If you’d like to attend this Design Feed\, limited walk-ins are available or have a guaranteed digital seat via ZOOM.
URL:https://www.aiaetn.org/calendar/design-feed-13/
CATEGORIES:Design Feed
ATTACH;FMTTYPE=image/png:https://www.aiaetn.org/site/wp-content/uploads/2025/12/TCTS-DF-graphics-2026.png
END:VEVENT
BEGIN:VEVENT
DTSTART;TZID=America/New_York:20260326T073000
DTEND;TZID=America/New_York:20260326T100000
DTSTAMP:20260421T113640
CREATED:20260302T182211Z
LAST-MODIFIED:20260302T182232Z
UID:10000739-1774510200-1774519200@www.aiaetn.org
SUMMARY:
DESCRIPTION:
URL:https://www.aiaetn.org/calendar/57235/
CATEGORIES:EYPA
ATTACH;FMTTYPE=image/png:https://www.aiaetn.org/site/wp-content/uploads/2026/03/2026.03.02.AIA-General-Shale-Coffee-Hour-Flyer.png
END:VEVENT
BEGIN:VEVENT
DTSTART;TZID=America/New_York:20260326T120000
DTEND;TZID=America/New_York:20260326T130000
DTSTAMP:20260421T113640
CREATED:20260305T015423Z
LAST-MODIFIED:20260309T155817Z
UID:10000740-1774526400-1774530000@www.aiaetn.org
SUMMARY:COTE March Meeting
DESCRIPTION:Join AIA ETN COTE for our first guest presentation of the year framed on Building/Material Reuse with Julia Siple and Sara Langmead of Quinn Evans. Quinn Evans is nationwide firm recognized for expertise in historic preservation\, sustainable design\, and adaptive reuse. In 2024 they were awarded the AIA Architecture Firm of the Year Award. Julia Siple\, Principal | Director of Sustainability\, and Sara Langmead\, Associate | Senior Architect\, lead the firm’s sustainable design initiatives with a focus on the building reuse and preservation. https://www.quinnevans.com/mission/sustainability. Aligning with the 2026 AIA ETN COTE program focused on environmental and embodied carbon implications in material selection/application\, Julia and Sara will present Quinn Evans’ work in exemplary material and building reuse.   \n\n\n\nThis presentation has also been submitted for 1 HSW AIA CEU credit. Please join us and bring a friend! \n\n\n\nWhere: Office of BarberMcMurry Architects and via Zoom (https://us02web.zoom.us/j/88668283223?pwd=FwPIw4WFMXpV8mCaDXhJK5OtzzzamA.1)
URL:https://www.aiaetn.org/calendar/cote-meeting/
CATEGORIES:COTE
END:VEVENT
BEGIN:VEVENT
DTSTART;TZID=America/New_York:20260327T120000
DTEND;TZID=America/New_York:20260327T170000
DTSTAMP:20260421T113640
CREATED:20260302T152506Z
LAST-MODIFIED:20260302T152922Z
UID:10000736-1774612800-1774630800@www.aiaetn.org
SUMMARY:
DESCRIPTION:See our full Golf page HERE.
URL:https://www.aiaetn.org/calendar/57228/
ATTACH;FMTTYPE=image/png:https://www.aiaetn.org/site/wp-content/uploads/2026/03/Committees-18.png
END:VEVENT
END:VCALENDAR