BEGIN:VCALENDAR
VERSION:2.0
PRODID:-//AIA ETN - ECPv6.15.20//NONSGML v1.0//EN
CALSCALE:GREGORIAN
METHOD:PUBLISH
X-ORIGINAL-URL:https://www.aiaetn.org
X-WR-CALDESC:Events for AIA ETN
REFRESH-INTERVAL;VALUE=DURATION:PT1H
X-Robots-Tag:noindex
X-PUBLISHED-TTL:PT1H
BEGIN:VTIMEZONE
TZID:America/New_York
BEGIN:DAYLIGHT
TZOFFSETFROM:-0500
TZOFFSETTO:-0400
TZNAME:EDT
DTSTART:20250309T070000
END:DAYLIGHT
BEGIN:STANDARD
TZOFFSETFROM:-0400
TZOFFSETTO:-0500
TZNAME:EST
DTSTART:20251102T060000
END:STANDARD
BEGIN:DAYLIGHT
TZOFFSETFROM:-0500
TZOFFSETTO:-0400
TZNAME:EDT
DTSTART:20260308T070000
END:DAYLIGHT
BEGIN:STANDARD
TZOFFSETFROM:-0400
TZOFFSETTO:-0500
TZNAME:EST
DTSTART:20261101T060000
END:STANDARD
BEGIN:DAYLIGHT
TZOFFSETFROM:-0500
TZOFFSETTO:-0400
TZNAME:EDT
DTSTART:20270314T070000
END:DAYLIGHT
BEGIN:STANDARD
TZOFFSETFROM:-0400
TZOFFSETTO:-0500
TZNAME:EST
DTSTART:20271107T060000
END:STANDARD
END:VTIMEZONE
BEGIN:VEVENT
DTSTART;TZID=America/New_York:20260105T120000
DTEND;TZID=America/New_York:20260105T130000
DTSTAMP:20260421T151440
CREATED:20250703T193507Z
LAST-MODIFIED:20251203T192503Z
UID:10000492-1767614400-1767618000@www.aiaetn.org
SUMMARY:Equity\, Diversity\, & Inclusion (EDI) Committee
DESCRIPTION:Our EDI Committee’s mission is to assist other committees and the Chapter with recognizing and eliminating institutional injustice\, increasing the diversity of the profession and of future professionals\, and fostering a spirit of inclusiveness for all members\, while working to promote a completely just society for all members of our communities. \n\n\n\nThis committee meets on the first Monday of the month. If you would like to join this committee or want a link to the virtual meetings\, please contact our Chair\, Geoffrey Cavalier\, at cavaliergeoffrey@gmail.com
URL:https://www.aiaetn.org/calendar/edi_comm/2026-01-05/
CATEGORIES:Committees,EDI
ATTACH;FMTTYPE=image/png:https://www.aiaetn.org/site/wp-content/uploads/2025/07/Committees-15.png
END:VEVENT
BEGIN:VEVENT
DTSTART;TZID=America/New_York:20260112T140000
DTEND;TZID=America/New_York:20260112T150000
DTSTAMP:20260421T151440
CREATED:20251203T182836Z
LAST-MODIFIED:20251203T191844Z
UID:10000559-1768226400-1768230000@www.aiaetn.org
SUMMARY:K-12 Committee
DESCRIPTION:Our K-12 Outreach Committee’s focus is introducing architecture to primary and secondary students\, broadening an understanding of the profession’s contributions to our communities\, and encouraging and mentoring those interested in a career in architecture and design.
URL:https://www.aiaetn.org/calendar/k-12-committee/2026-01-12/
ATTACH;FMTTYPE=image/png:https://www.aiaetn.org/site/wp-content/uploads/2025/12/Committees-12.png
END:VEVENT
BEGIN:VEVENT
DTSTART;TZID=America/New_York:20260120T120000
DTEND;TZID=America/New_York:20260120T130000
DTSTAMP:20260421T151440
CREATED:20251203T184636Z
LAST-MODIFIED:20251203T192016Z
UID:10000574-1768910400-1768914000@www.aiaetn.org
SUMMARY:Programming Committee
DESCRIPTION:The Programming Committee plans and coordinates the Chapter’s monthly programming\, selecting speakers through a criteria-based system that includes HSW credit(s)\, sustainability\, diversity\, design excellence\, and tangential disciplines to our profession. \n\n\n\nIf you would like to be a part of this committee\, please reach out to our Programming Chair\, John Sanders\, at jsanders@sanderspace.com. 
URL:https://www.aiaetn.org/calendar/programming-committee/2026-01-20/
ATTACH;FMTTYPE=image/png:https://www.aiaetn.org/site/wp-content/uploads/2025/12/Committees-14.png
END:VEVENT
BEGIN:VEVENT
DTSTART;TZID=America/New_York:20260122T120000
DTEND;TZID=America/New_York:20260122T130000
DTSTAMP:20260421T151440
CREATED:20260116T163931Z
LAST-MODIFIED:20260116T163936Z
UID:10000599-1769083200-1769086800@www.aiaetn.org
SUMMARY:Board of Directors Meeting
DESCRIPTION:
URL:https://www.aiaetn.org/calendar/board-of-directors-meeting-65/
END:VEVENT
BEGIN:VEVENT
DTSTART;TZID=America/New_York:20260122T173000
DTEND;TZID=America/New_York:20260122T193000
DTSTAMP:20260421T151440
CREATED:20260116T164152Z
LAST-MODIFIED:20260116T164200Z
UID:10000600-1769103000-1769110200@www.aiaetn.org
SUMMARY:EPYA January Social
DESCRIPTION:
URL:https://www.aiaetn.org/calendar/epya-january-social/
CATEGORIES:EYPA
ATTACH;FMTTYPE=image/png:https://www.aiaetn.org/site/wp-content/uploads/2026/01/EPYA_JANUARY-HAPPY-HOUR-INVITE_Revised2.png
END:VEVENT
BEGIN:VEVENT
DTSTART;TZID=America/New_York:20260129T120000
DTEND;TZID=America/New_York:20260129T130000
DTSTAMP:20260421T151440
CREATED:20260128T023140Z
LAST-MODIFIED:20260128T231958Z
UID:10000611-1769688000-1769691600@www.aiaetn.org
SUMMARY:COTE 2026 Kick-Off!
DESCRIPTION:Join AIA ETN COTE for our 2026 Kick-off Event @ Barley’s Taproom! We will review 2025’s progress and outline the 2026 AIA ETN COTE meeting/event calendar. Bring a friend and enjoy some free pizza!
URL:https://www.aiaetn.org/calendar/cote-2026-kick-off/
CATEGORIES:COTE
ATTACH;FMTTYPE=image/png:https://www.aiaetn.org/site/wp-content/uploads/2026/01/COTE-PIZZA-PARTY.png
END:VEVENT
END:VCALENDAR