BEGIN:VCALENDAR
VERSION:2.0
PRODID:-//AIA ETN - ECPv6.15.20//NONSGML v1.0//EN
CALSCALE:GREGORIAN
METHOD:PUBLISH
X-ORIGINAL-URL:https://www.aiaetn.org
X-WR-CALDESC:Events for AIA ETN
REFRESH-INTERVAL;VALUE=DURATION:PT1H
X-Robots-Tag:noindex
X-PUBLISHED-TTL:PT1H
BEGIN:VTIMEZONE
TZID:America/New_York
BEGIN:DAYLIGHT
TZOFFSETFROM:-0500
TZOFFSETTO:-0400
TZNAME:EDT
DTSTART:20240310T070000
END:DAYLIGHT
BEGIN:STANDARD
TZOFFSETFROM:-0400
TZOFFSETTO:-0500
TZNAME:EST
DTSTART:20241103T060000
END:STANDARD
BEGIN:DAYLIGHT
TZOFFSETFROM:-0500
TZOFFSETTO:-0400
TZNAME:EDT
DTSTART:20250309T070000
END:DAYLIGHT
BEGIN:STANDARD
TZOFFSETFROM:-0400
TZOFFSETTO:-0500
TZNAME:EST
DTSTART:20251102T060000
END:STANDARD
BEGIN:DAYLIGHT
TZOFFSETFROM:-0500
TZOFFSETTO:-0400
TZNAME:EDT
DTSTART:20260308T070000
END:DAYLIGHT
BEGIN:STANDARD
TZOFFSETFROM:-0400
TZOFFSETTO:-0500
TZNAME:EST
DTSTART:20261101T060000
END:STANDARD
END:VTIMEZONE
BEGIN:VEVENT
DTSTART;TZID=America/New_York:20251103T120000
DTEND;TZID=America/New_York:20251103T130000
DTSTAMP:20260421T183600
CREATED:20250703T193507Z
LAST-MODIFIED:20251203T192503Z
UID:10000490-1762171200-1762174800@www.aiaetn.org
SUMMARY:Equity\, Diversity\, & Inclusion (EDI) Committee
DESCRIPTION:Our EDI Committee’s mission is to assist other committees and the Chapter with recognizing and eliminating institutional injustice\, increasing the diversity of the profession and of future professionals\, and fostering a spirit of inclusiveness for all members\, while working to promote a completely just society for all members of our communities. \n\n\n\nThis committee meets on the first Monday of the month. If you would like to join this committee or want a link to the virtual meetings\, please contact our Chair\, Geoffrey Cavalier\, at cavaliergeoffrey@gmail.com
URL:https://www.aiaetn.org/calendar/edi_comm/2025-11-03/
CATEGORIES:Committees,EDI
ATTACH;FMTTYPE=image/png:https://www.aiaetn.org/site/wp-content/uploads/2025/07/Committees-15.png
END:VEVENT
BEGIN:VEVENT
DTSTART;TZID=America/New_York:20251107T180000
DTEND;TZID=America/New_York:20251107T200000
DTSTAMP:20260421T183600
CREATED:20251023T153840Z
LAST-MODIFIED:20251023T154327Z
UID:10000554-1762538400-1762545600@www.aiaetn.org
SUMMARY:Bricks and Brews 2025
DESCRIPTION:To view the event page and register\, click HERE
URL:https://www.aiaetn.org/calendar/bricks-and-brews-2025/
ATTACH;FMTTYPE=image/png:https://www.aiaetn.org/site/wp-content/uploads/2025/10/BricksStuff-2-1.png
END:VEVENT
BEGIN:VEVENT
DTSTART;TZID=America/New_York:20251110T140000
DTEND;TZID=America/New_York:20251110T150000
DTSTAMP:20260421T183600
CREATED:20231124T183824Z
LAST-MODIFIED:20251023T014600Z
UID:10000373-1762783200-1762786800@www.aiaetn.org
SUMMARY:AIA East Tennessee K-12 Outreach Committee Meeting
DESCRIPTION:AIA East Tennessee’s K-12 Outreach committee focus is introducing architecture to primary and secondary students\, broadening an understanding of the profession’s contributions to our communities\, and encouraging and mentoring those interested in a career in architecture and design. \nOur committee participates in regional career days\, community outreach events\, mentoring programs\, and more.  \nThis committee meets every 2nd Monday of the month. If you would like to be a part of this committee\, please contact our K-12 Committee Chair\, Angela Dailey at adailey@dia-arch.com
URL:https://www.aiaetn.org/calendar/aia-east-tennessee-k-12-outreach-committee-meeting-29/
LOCATION:Via GoTo Meeting
END:VEVENT
BEGIN:VEVENT
DTSTART;TZID=America/New_York:20251111T115000
DTEND;TZID=America/New_York:20251111T130000
DTSTAMP:20260421T183600
CREATED:20240108T191504Z
LAST-MODIFIED:20251110T152613Z
UID:10000427-1762861800-1762866000@www.aiaetn.org
SUMMARY:Tri-Cities Tech Session
DESCRIPTION:Tri-Cities Tech Session – November 2025 sponsored by Workspace Interiors\n                            Register here for the November 2025 Tri-Cities Tech Session. \n\n\nIf you have any issues with registering online\, please reach out to Dustin Durham at dustin@aiaetn.org. \n                        \n                        Name(Required)\n                            \n                            \n                                                    First\n                                                    \n                                                \n                            \n                            \n                                                            Last\n                                                            \n                                                        \n                            \n                        Email(Required)\n                            \n                        Business\, Firm\, or School Name(Required)Are you a Member of AIA East Tennessee?(Required)\n			\n					\n					Yes\n			\n			\n					\n					No\n			Membership Type(Required)Choose from drop down menu.ArchitectAssociateAlliedEmeritusAIA Membership Number(Required)Enter ALLIED if an Allied Member. (You do not have a membership number.)Member Ticket(Required)Select from the drop-down below. Single TicketMultiple TicketsDigital# of Tickets Quantity\n					\n					\n						Price:\n						$0.00\n					\n					\n					 Quantity \n				Guest(s) Names(Required)One name per line\, click + to add more lines.  Please place the names of ALL expected Attendees below. We want to ensure that all of your guests are on our list so that when they attend the event\, they can be directed to the right table.    Add   RemoveGuest(s) Emails(Required)One email per line\, click + to add more lines. We promise to not add your guest to our newsletter or any other promotional correspondence. We want to have their contact information so that they can stay up to date on event information and have the right link to log on!   Add   RemoveMember Meal Choice(Required)Note: If you are joining us virtually\, a link to the Zoom webinar will be sent to you the week of the event. \n								\n								Carnivore\n							\n								\n								Vegetarian\n							\n								\n								No Meal (In-Person)\n							\n								\n								No Meal (Virtual)\n							Guest(s) Meal Selections(Required)Please enter which meal choice your guests will prefer. (Press the + to add orders) Carnivore or Vegetarian.    Add   RemoveNon-Member Ticket(Required)Single TicketMultiple TicketsDigital# of Tickets Quantity\n					\n					\n						Price:\n						$15.00\n					\n					\n					 Quantity \n				Guest(s) Names(Required)One name per line\, click + to add more lines. Please place the names of ALL expected attendees below. We want to ensure that all of your guests are on our list so that when they attend the event\, they can be directed to the right table.    Add   RemoveGuest(s) Emails(Required)One email per line\, click + to add more linesWe promise to not add your guest to our newsletter or any other promotional correspondence. We want to have their contact information so that they can stay up to date on event information and more!\n   Add   RemoveYour Meal Choice(Required)\n								\n								Carnivore\n							\n								\n								Vegetarian\n							\n								\n								No Meal (In-Person)\n							\n								\n								No Meal (Digital)\n							Guest(s) Meal Selections(Required)Please enter which meal choice your guests will prefer. (Press the + to add orders) Carnivore or Vegetarian.    Add   RemoveTotal\n							\n						Credit Card
URL:https://www.aiaetn.org/calendar/tri-cities-tech-session-23/
LOCATION:Food City\, 920 N State of Franklin Rd\, Johnson City\, TN\, United States
CATEGORIES:Tech Sessions
ATTACH;FMTTYPE=image/png:https://www.aiaetn.org/site/wp-content/uploads/2024/01/Committees-9.png
GEO:36.324952;-82.394798
X-APPLE-STRUCTURED-LOCATION;VALUE=URI;X-ADDRESS=Food City 920 N State of Franklin Rd Johnson City TN United States;X-APPLE-RADIUS=500;X-TITLE=920 N State of Franklin Rd:geo:-82.394798,36.324952
END:VEVENT
BEGIN:VEVENT
DTSTART;TZID=America/New_York:20251111T120000
DTEND;TZID=America/New_York:20251111T130000
DTSTAMP:20260421T183600
CREATED:20231111T180848Z
LAST-MODIFIED:20240209T174853Z
UID:10000369-1762862400-1762866000@www.aiaetn.org
SUMMARY:AIA ETN Emerging Professionals Committee Meeting
DESCRIPTION:AIA East Tennessee’s Emerging Professionals Committee is a voice and resource for architecture students\, recent graduates\, and newly licensed architects. This committee is responsible for creating ARE prep course classes\, AXP opportunities\, professional development resources\,  and community-building events for our regional Emerging Professionals. \nWho are Emerging Professionals? \nEmerging Professionals (EP) are professionals who have completed their academic studies up to the point of licensure or up to 10 years after completion of their academic studies. \nWhether you’re seeking information on licensing or testing\, job prospects\, leadership opportunities\, or entrepreneurial issues\, our EP Committee is the place to start!  \nTogether\, we ensure the success of architecture’s next generation. We provide a forum to address firm culture\, student debt\, and other topics. \nThis committee meets every second Tuesday of the month and holds monthly EP Happy Hours/Events.If you would like to be a part of this committee\, please contact Committee Chair\, Cody Rau\, at crau@dia-arch.com. 
URL:https://www.aiaetn.org/calendar/aia-etn-emerging-professionals-committee-meeting-29/
LOCATION:Via Teams
END:VEVENT
BEGIN:VEVENT
DTSTART;TZID=America/New_York:20251113T120000
DTEND;TZID=America/New_York:20251113T130000
DTSTAMP:20260421T183600
CREATED:20231118T181506Z
LAST-MODIFIED:20251023T014100Z
UID:10000371-1763035200-1763038800@www.aiaetn.org
SUMMARY:AIA East Tennessee Programming Committee Meeting
DESCRIPTION:AIA East Tennessee Programming committee plans and coordinates the Chapter’s monthly programming\, selecting speakers through a criteria-based system that includes HSW credit(s)\, sustainability\, diversity\, design excellence\, and tangential disciplines to our profession. \nThis committee normally meets every third Tuesday of the month and is part of ensuring that our monthly design feeds meet AIA’s Core Membership Services. If you would like to be a part of this committee\, please reach out to our Programming Chair\, John Sanders\, at jsanders@sanderspace.com. 
URL:https://www.aiaetn.org/calendar/aia-east-tennessee-programming-committee-meeting-30/
LOCATION:via ZOOM
END:VEVENT
BEGIN:VEVENT
DTSTART;TZID=America/New_York:20251118T115000
DTEND;TZID=America/New_York:20251118T130000
DTSTAMP:20260421T183600
CREATED:20240108T140525Z
LAST-MODIFIED:20251118T143922Z
UID:10000404-1763466600-1763470800@www.aiaetn.org
SUMMARY:November Design Feed
DESCRIPTION:We are no longer selling in-person tickets for this Design Feed to ensure that we have enough food and seats for attendees. If you’d like to attend this Design Feed\, limited walk-ins are available (without a guarantee for food)\, or have a guaranteed digital seat via ZOOM.\n\nWalk-ins can now pay via Square! \n\n\n\nClick Here To Watch Via Zoom Webinar
URL:https://www.aiaetn.org/calendar/design-feed-22/
CATEGORIES:Design Feed
ATTACH;FMTTYPE=image/jpeg:https://www.aiaetn.org/site/wp-content/uploads/2024/01/2025-DF-November-24x36-1-scaled.jpg
END:VEVENT
BEGIN:VEVENT
DTSTART;TZID=America/New_York:20251119T120000
DTEND;TZID=America/New_York:20251119T130000
DTSTAMP:20260421T183600
CREATED:20231127T181556Z
LAST-MODIFIED:20251023T015109Z
UID:10000374-1763553600-1763557200@www.aiaetn.org
SUMMARY:AIA East Tennessee COTE Meeting
DESCRIPTION:AIA East Tennessee Committee on the Environment (COTE®) is a committee for working architects\, allied professionals\, and the public to achieve climate action and climate justice through design. We believe that design excellence is the foundation of a healthy\, sustainable\, and equitable future. Our work promotes design strategies that empower all AIA members to realize the best social and environmental outcomes with the clients and the communities they serve. \nWe meet once a month on the 4th Thursday of the month. We meet at different firms throughout Knoxville each month\, but always offer the meeting digitally via ZOOM. If you would like to join this committee\, please reach out to Cameron Bolin at cbolin@mhminc.com.
URL:https://www.aiaetn.org/calendar/aia-east-tennessee-cote-meeting-27/
LOCATION:McCarty Holsaple McCarty Architects\, 701 Main St\, Knoxville\, TN\, United States
GEO:35.960104;-83.920568
X-APPLE-STRUCTURED-LOCATION;VALUE=URI;X-ADDRESS=McCarty Holsaple McCarty Architects 701 Main St Knoxville TN United States;X-APPLE-RADIUS=500;X-TITLE=701 Main St:geo:-83.920568,35.960104
END:VEVENT
BEGIN:VEVENT
DTSTART;TZID=America/New_York:20251120T120000
DTEND;TZID=America/New_York:20251120T130000
DTSTAMP:20260421T183600
CREATED:20231120T182006Z
LAST-MODIFIED:20240209T174905Z
UID:10000372-1763640000-1763643600@www.aiaetn.org
SUMMARY:Board of Directors Meeting
DESCRIPTION:
URL:https://www.aiaetn.org/calendar/board-of-directors-meeting-62/
END:VEVENT
END:VCALENDAR