BEGIN:VCALENDAR
VERSION:2.0
PRODID:-//AIA ETN - ECPv6.15.20//NONSGML v1.0//EN
CALSCALE:GREGORIAN
METHOD:PUBLISH
X-WR-CALNAME:AIA ETN
X-ORIGINAL-URL:https://www.aiaetn.org
X-WR-CALDESC:Events for AIA ETN
REFRESH-INTERVAL;VALUE=DURATION:PT1H
X-Robots-Tag:noindex
X-PUBLISHED-TTL:PT1H
BEGIN:VTIMEZONE
TZID:America/New_York
BEGIN:DAYLIGHT
TZOFFSETFROM:-0500
TZOFFSETTO:-0400
TZNAME:EDT
DTSTART:20240310T070000
END:DAYLIGHT
BEGIN:STANDARD
TZOFFSETFROM:-0400
TZOFFSETTO:-0500
TZNAME:EST
DTSTART:20241103T060000
END:STANDARD
BEGIN:DAYLIGHT
TZOFFSETFROM:-0500
TZOFFSETTO:-0400
TZNAME:EDT
DTSTART:20250309T070000
END:DAYLIGHT
BEGIN:STANDARD
TZOFFSETFROM:-0400
TZOFFSETTO:-0500
TZNAME:EST
DTSTART:20251102T060000
END:STANDARD
BEGIN:DAYLIGHT
TZOFFSETFROM:-0500
TZOFFSETTO:-0400
TZNAME:EDT
DTSTART:20260308T070000
END:DAYLIGHT
BEGIN:STANDARD
TZOFFSETFROM:-0400
TZOFFSETTO:-0500
TZNAME:EST
DTSTART:20261101T060000
END:STANDARD
END:VTIMEZONE
BEGIN:VEVENT
DTSTART;TZID=America/New_York:20250801T120000
DTEND;TZID=America/New_York:20250801T130000
DTSTAMP:20260422T002155
CREATED:20230801T162658Z
LAST-MODIFIED:20240209T174800Z
UID:10000260-1754049600-1754053200@www.aiaetn.org
SUMMARY:AIA East Tennessee Development Committee Meeting
DESCRIPTION:AIA East Tennessee’s Development committee is tasked with formulating our annual package of partnership opportunities\, manages special events such as the Summer Volleyball League\, Golf Tournament\, and Thunderbowl\, and helps to build the Chapter’s social capital through partnership calls\, meetings\, and more. This committee meets on the first Friday of the month. If you are interested in joining this committee\, please contact our Committee Chair\, Josh Shaffer\, at josh@sparkmanarchitect.com. 
URL:https://www.aiaetn.org/calendar/aia-east-tennessee-development-committee-meeting-25/
LOCATION:via ZOOM
END:VEVENT
BEGIN:VEVENT
DTSTART;TZID=America/New_York:20250804T120000
DTEND;TZID=America/New_York:20250804T130000
DTSTAMP:20260422T002155
CREATED:20250703T193507Z
LAST-MODIFIED:20251203T192503Z
UID:10000487-1754308800-1754312400@www.aiaetn.org
SUMMARY:Equity\, Diversity\, & Inclusion (EDI) Committee
DESCRIPTION:Our EDI Committee’s mission is to assist other committees and the Chapter with recognizing and eliminating institutional injustice\, increasing the diversity of the profession and of future professionals\, and fostering a spirit of inclusiveness for all members\, while working to promote a completely just society for all members of our communities. \n\n\n\nThis committee meets on the first Monday of the month. If you would like to join this committee or want a link to the virtual meetings\, please contact our Chair\, Geoffrey Cavalier\, at cavaliergeoffrey@gmail.com
URL:https://www.aiaetn.org/calendar/edi_comm/2025-08-04/
CATEGORIES:Committees,EDI
ATTACH;FMTTYPE=image/png:https://www.aiaetn.org/site/wp-content/uploads/2025/07/Committees-15.png
END:VEVENT
BEGIN:VEVENT
DTSTART;TZID=America/New_York:20250812T115000
DTEND;TZID=America/New_York:20250812T130000
DTSTAMP:20260422T002155
CREATED:20240108T191224Z
LAST-MODIFIED:20250812T125529Z
UID:10000424-1754999400-1755003600@www.aiaetn.org
SUMMARY:Tri-Cities Tech Session
DESCRIPTION:Access the Zoom Here\n\n\n\n\n\n\n\n\n\n\n\n                \n                        \n                            Tri-Cities Tech Session – August 2025 w/ Ben Dodson\n                            Register here for the August 2025 Tri-Cities Tech Session. \n\n\nIf you have any issues with registering online\, please reach out to Dustin Durham at dustin@aiaetn.org. \n                        \n                        Name(Required)\n                            \n                            \n                                                    First\n                                                    \n                                                \n                            \n                            \n                                                            Last\n                                                            \n                                                        \n                            \n                        Email(Required)\n                            \n                        Business\, Firm\, or School Name(Required)Are you a Member of AIA East Tennessee?(Required)\n			\n					\n					Yes\n			\n			\n					\n					No\n			Membership Type(Required)Choose from drop down menu.ArchitectAssociateAlliedEmeritusAIA Membership Number(Required)Enter ALLIED if an Allied Member. (You do not have a membership number.)Member Ticket(Required)Select from the drop-down below. Single TicketMultiple TicketsDigital# of Tickets Quantity\n					\n					\n						Price:\n						$0.00\n					\n					\n					 Quantity \n				Guest(s) Names(Required)One name per line\, click + to add more lines.  Please place the names of ALL expected Attendees below. We want to ensure that all of your guests are on our list so that when they attend the event\, they can be directed to the right table.    Add   RemoveGuest(s) Emails(Required)One email per line\, click + to add more lines. We promise to not add your guest to our newsletter or any other promotional correspondence. We want to have their contact information so that they can stay up to date on event information and have the right link to log on!   Add   RemoveMember Meal Choice(Required)Note: If you are joining us virtually\, a link to the Zoom webinar will be sent to you the week of the event. \n								\n								Carnivore\n							\n								\n								Vegetarian\n							\n								\n								No Meal (In-Person)\n							\n								\n								No Meal (Virtual)\n							Guest(s) Meal Selections(Required)Please enter which meal choice your guests will prefer. (Press the + to add orders) Carnivore or Vegetarian.    Add   RemoveNon-Member Ticket(Required)Single TicketMultiple TicketsDigital# of Tickets Quantity\n					\n					\n						Price:\n						$15.00\n					\n					\n					 Quantity \n				Guest(s) Names(Required)One name per line\, click + to add more lines. Please place the names of ALL expected attendees below. We want to ensure that all of your guests are on our list so that when they attend the event\, they can be directed to the right table.    Add   RemoveGuest(s) Emails(Required)One email per line\, click + to add more linesWe promise to not add your guest to our newsletter or any other promotional correspondence. We want to have their contact information so that they can stay up to date on event information and more!\n   Add   RemoveYour Meal Choice(Required)\n								\n								Carnivore\n							\n								\n								Vegetarian\n							\n								\n								No Meal (In-Person)\n							\n								\n								No Meal (Digital)\n							Guest(s) Meal Selections(Required)Please enter which meal choice your guests will prefer. (Press the + to add orders) Carnivore or Vegetarian.    Add   RemoveTotal\n							\n						Credit Card
URL:https://www.aiaetn.org/calendar/tri-cities-tech-session-20/
CATEGORIES:Tech Sessions
END:VEVENT
BEGIN:VEVENT
DTSTART;TZID=America/New_York:20250812T120000
DTEND;TZID=America/New_York:20250812T130000
DTSTAMP:20260422T002155
CREATED:20230812T164505Z
LAST-MODIFIED:20240209T174800Z
UID:10000320-1755000000-1755003600@www.aiaetn.org
SUMMARY:AIA ETN Emerging Professionals Committee Meeting
DESCRIPTION:AIA East Tennessee’s Emerging Professionals Committee is a voice and resource for architecture students\, recent graduates\, and newly licensed architects. This committee is responsible for creating ARE prep course classes\, AXP opportunities\, professional development resources\,  and community-building events for our regional Emerging Professionals. \nWho are Emerging Professionals? \nEmerging Professionals (EP) are professionals who have completed their academic studies up to the point of licensure or up to 10 years after completion of their academic studies. \nWhether you’re seeking information on licensing or testing\, job prospects\, leadership opportunities\, or entrepreneurial issues\, our EP Committee is the place to start!  \nTogether\, we ensure the success of architecture’s next generation. We provide a forum to address firm culture\, student debt\, and other topics. \nThis committee meets every second Tuesday of the month and holds monthly EP Happy Hours/Events.If you would like to be a part of this committee\, please contact Committee Chair\, Cody Rau\, at crau@dia-arch.com. 
URL:https://www.aiaetn.org/calendar/aia-etn-emerging-professionals-committee-meeting-26/
LOCATION:Via Teams
END:VEVENT
BEGIN:VEVENT
DTSTART;TZID=America/New_York:20250819T120000
DTEND;TZID=America/New_York:20250819T130000
DTSTAMP:20260422T002155
CREATED:20230819T212441Z
LAST-MODIFIED:20240209T174807Z
UID:10000322-1755604800-1755608400@www.aiaetn.org
SUMMARY:AIA East Tennessee Programming Committee Meeting
DESCRIPTION:AIA East Tennessee Programming committee plans and coordinates the Chapter’s monthly programming\, selecting speakers through a criteria-based system that includes HSW credit(s)\, sustainability\, diversity\, design excellence\, and tangential disciplines to our profession. \nThis committee meets every third Tuesday of the month and is part of ensuring that our monthly design feeds meet AIA’s Core Membership Services. If you would like to be a part of this committee\, please reach out to our Programming Chair\, John Sanders\, at jsanders@sanderspace.com. 
URL:https://www.aiaetn.org/calendar/aia-east-tennessee-programming-committee-meeting-27/
LOCATION:via ZOOM
END:VEVENT
BEGIN:VEVENT
DTSTART;TZID=America/New_York:20250821T120000
DTEND;TZID=America/New_York:20250821T130000
DTSTAMP:20260422T002155
CREATED:20230821T162540Z
LAST-MODIFIED:20240209T174807Z
UID:10000323-1755777600-1755781200@www.aiaetn.org
SUMMARY:Board of Directors Meeting
DESCRIPTION:
URL:https://www.aiaetn.org/calendar/board-of-directors-meeting-59/
END:VEVENT
BEGIN:VEVENT
DTSTART;TZID=America/New_York:20250828T120000
DTEND;TZID=America/New_York:20250828T130000
DTSTAMP:20260422T002155
CREATED:20231024T150817Z
LAST-MODIFIED:20240209T174807Z
UID:10000364-1756382400-1756386000@www.aiaetn.org
SUMMARY:AIA East Tennessee COTE Meeting
DESCRIPTION:AIA East Tennessee Committee on the Environment (COTE®) is a committee for working architects\, allied professionals\, and the public to achieve climate action and climate justice through design. We believe that design excellence is the foundation of a healthy\, sustainable\, and equitable future. Our work promotes design strategies that empower all AIA members to realize the best social and environmental outcomes with the clients and the communities they serve. \nWe meet once a month on the 4th Thursday of the month. We meet at different firms throughout Knoxville each month\, but always offer the meeting digitally via ZOOM. If you would like to join this committee\, please reach out to Cameron Bolin at cbolin@mhminc.com.
URL:https://www.aiaetn.org/calendar/aia-east-tennessee-cote-meeting-24/
LOCATION:McCarty Holsaple McCarty Architects\, 701 Main St\, Knoxville\, TN\, United States
GEO:35.960104;-83.920568
X-APPLE-STRUCTURED-LOCATION;VALUE=URI;X-ADDRESS=McCarty Holsaple McCarty Architects 701 Main St Knoxville TN United States;X-APPLE-RADIUS=500;X-TITLE=701 Main St:geo:-83.920568,35.960104
END:VEVENT
END:VCALENDAR