BEGIN:VCALENDAR
VERSION:2.0
PRODID:-//AIA ETN - ECPv6.15.20//NONSGML v1.0//EN
CALSCALE:GREGORIAN
METHOD:PUBLISH
X-WR-CALNAME:AIA ETN
X-ORIGINAL-URL:https://www.aiaetn.org
X-WR-CALDESC:Events for AIA ETN
REFRESH-INTERVAL;VALUE=DURATION:PT1H
X-Robots-Tag:noindex
X-PUBLISHED-TTL:PT1H
BEGIN:VTIMEZONE
TZID:America/New_York
BEGIN:DAYLIGHT
TZOFFSETFROM:-0500
TZOFFSETTO:-0400
TZNAME:EDT
DTSTART:20230312T070000
END:DAYLIGHT
BEGIN:STANDARD
TZOFFSETFROM:-0400
TZOFFSETTO:-0500
TZNAME:EST
DTSTART:20231105T060000
END:STANDARD
BEGIN:DAYLIGHT
TZOFFSETFROM:-0500
TZOFFSETTO:-0400
TZNAME:EDT
DTSTART:20240310T070000
END:DAYLIGHT
BEGIN:STANDARD
TZOFFSETFROM:-0400
TZOFFSETTO:-0500
TZNAME:EST
DTSTART:20241103T060000
END:STANDARD
BEGIN:DAYLIGHT
TZOFFSETFROM:-0500
TZOFFSETTO:-0400
TZNAME:EDT
DTSTART:20250309T070000
END:DAYLIGHT
BEGIN:STANDARD
TZOFFSETFROM:-0400
TZOFFSETTO:-0500
TZNAME:EST
DTSTART:20251102T060000
END:STANDARD
END:VTIMEZONE
BEGIN:VEVENT
DTSTART;TZID=America/New_York:20240802T120000
DTEND;TZID=America/New_York:20240802T130000
DTSTAMP:20260422T205604
CREATED:20230711T150944Z
LAST-MODIFIED:20240209T174452Z
UID:10000224-1722600000-1722603600@www.aiaetn.org
SUMMARY:AIA East Tennessee Development Committee Meeting
DESCRIPTION:AIA East Tennessee’s Development committee is tasked with formulating our annual package of partnership opportunities\, manages special events such as the Summer Volleyball League\, Golf Tournament\, and Thunderbowl\, and helps to build the Chapter’s social capital through partnership calls\, meetings\, and more. This committee meets on the first Friday of the month. If you are interested in joining this committee\, please contact our Committee Chair\, Josh Shaffer\, at josh@sparkmanarchitect.com. 
URL:https://www.aiaetn.org/calendar/aia-east-tennessee-development-committee-meeting-13/
LOCATION:via ZOOM
END:VEVENT
BEGIN:VEVENT
DTSTART;TZID=America/New_York:20240807T000000
DTEND;TZID=America/New_York:20240809T235959
DTSTAMP:20260422T205604
CREATED:20240111T145723Z
LAST-MODIFIED:20240209T174452Z
UID:10000429-1722988800-1723247999@www.aiaetn.org
SUMMARY:2024 AIA Tennessee Conference on Architecture
DESCRIPTION:We are excited to announce that we are headed to Knoxville for the 2024 state conference.  Our conference will be held at Marriott Knoxville Downtown. \nDetails on events\, sessions\, speakers\, and accommodations forthcoming. \nhttps://aiatn.org/conference/save-the-date-2024/
URL:https://www.aiaetn.org/calendar/2024-aia-tennessee-conference-on-architecture/
LOCATION:Marriott Knoxville Downtown\, 525 Henley St\, Knoxville\, TN\, United States
GEO:35.962963;-83.922382
X-APPLE-STRUCTURED-LOCATION;VALUE=URI;X-ADDRESS=Marriott Knoxville Downtown 525 Henley St Knoxville TN United States;X-APPLE-RADIUS=500;X-TITLE=525 Henley St:geo:-83.922382,35.962963
END:VEVENT
BEGIN:VEVENT
DTSTART;TZID=America/New_York:20240807T200000
DTEND;TZID=America/New_York:20240807T220000
DTSTAMP:20260422T205604
CREATED:20240520T144809Z
LAST-MODIFIED:20240628T155305Z
UID:10000451-1723060800-1723068000@www.aiaetn.org
SUMMARY:2024 Bricks & Brews
DESCRIPTION:Join AIA East Tennessee after the AIA Tennessee Conference on Architecture from 8pm-10pm for Bricks and Brews – a one-night-only pop-up Brick Bar!  Drink\, connect\, and play with LEGOs in a fun\, no-pressure atmosphere at XUL Beer Company\, one of Knoxville’s premier local breweries. For those who like a little competition\, LEGO builds can be entered for judging in one of several fun categories. XUL is within walking\, scooter\, or ride-share distance of the convention\, just past the Old City.  \n\n\n\nRegistration Information: Tickets are $15\, and they include two delicious drinks from XUL Beer Company (non-alcoholic drinks are available) and the chance to play with Legos! All proceeds will support AIA East Tennessee’s mission and programming. \n\n\n\n\nIf you plan to attend AIA Tennessee’s Conference on Architecture\, please do not use the registration link below. There will be an option on your AIA Tennessee Conference Registration to add this event to your total. \n\n\n\nIf you would like to attend for free\, please bring a set of new or gently used Legos to the event. All Lego sets will be donated directly to East Tennsee’s Children’s Hospital.
URL:https://www.aiaetn.org/calendar/2024bricksandbrews/
LOCATION:XUL Beer Company\, 213 E. 5th Avenue\, Knoxville\, Tennessee\, 37917\, United States
ATTACH;FMTTYPE=image/png:https://www.aiaetn.org/site/wp-content/uploads/2024/05/FINAL-BRICKS-AND-BREWS-2024-COVER-.png
END:VEVENT
BEGIN:VEVENT
DTSTART;TZID=America/New_York:20240813T115000
DTEND;TZID=America/New_York:20240813T130000
DTSTAMP:20260422T205604
CREATED:20240108T190320Z
LAST-MODIFIED:20240812T224900Z
UID:10000412-1723549800-1723554000@www.aiaetn.org
SUMMARY:Tri-Cities Tech Session
DESCRIPTION:Join AIA East Tennessee and HomeChoice Windows & Doors for our August Tech Session with Kenny Cobb from NanaWall Systems.  \n\n\n\nDescription: NanaWall System’s knowledgeable Educational Architecture Consultant and Local Representative will present the information you need to confidently design innovative projects using operable glass walls. You will learn the differences between folding and single-track sliding wall systems and how and where they are used. You will also learn how stringent product testing supports design freedom and views imaginative new applications in an ever-increasing marketplace. \n\n\n\nCEU: 1 HSW/LU \n\n\n\nLearning Objectives:  \n\n\n\n\nFamiliarize architects with the definitions\, capabilities\, and usages of large moveable glass wall systems.\n\n\n\n\n\nIllustrate how large operable glass walls can be an integral part of GREEN/Sustainable design both in form and function\n\n\n\nProvide answers on how large operable glass walls can improve the health\, safety and welfare ofbuilding occupants.\n\n\n\nDemonstrate new and innovative ideas to take into the design process for schools\, hospitals andother commercial applications\, and to help you through that process.\n\n\n\n\nHSW:  \n\n\n\n\nBuilding envelope\, sustainable design\, and accessibility\n\n\n\nAcoustics and interior design\n\n\n\nEnergy efficiency and natural hazards\n\n\n\nRenovation and adaptive use\n\n\n\nSecurityStructural considerations\n\n\n\n\n \n\n\n\n\nSecure My Seat
URL:https://www.aiaetn.org/calendar/homechoicetechsession/
LOCATION:Food City\, 920 N State of Franklin Rd\, Johnson City\, TN 37604\, USA
CATEGORIES:Tech Sessions
ATTACH;FMTTYPE=image/png:https://www.aiaetn.org/site/wp-content/uploads/2024/01/HomeChoice-Tri-Cities-Tech-Session.png
END:VEVENT
BEGIN:VEVENT
DTSTART;TZID=America/New_York:20240813T120000
DTEND;TZID=America/New_York:20240813T130000
DTSTAMP:20260422T205604
CREATED:20230711T135857Z
LAST-MODIFIED:20240209T174452Z
UID:10000134-1723550400-1723554000@www.aiaetn.org
SUMMARY:AIA ETN Emerging Professionals Committee Meeting
DESCRIPTION:AIA East Tennessee’s Emerging Professionals Committee is a voice and resource for architecture students\, recent graduates\, and newly licensed architects. This committee is responsible for creating ARE prep course classes\, AXP opportunities\, professional development resources\,  and community-building events for our regional Emerging Professionals. \nWho are Emerging Professionals? \nEmerging Professionals (EP) are professionals who have completed their academic studies up to the point of licensure or up to 10 years after completion of their academic studies. \nWhether you’re seeking information on licensing or testing\, job prospects\, leadership opportunities\, or entrepreneurial issues\, our EP Committee is the place to start!  \nTogether\, we ensure the success of architecture’s next generation. We provide a forum to address firm culture\, student debt\, and other topics. \nThis committee meets every second Tuesday of the month and holds monthly EP Happy Hours/Events.If you would like to be a part of this committee\, please contact Committee Chair\, Cody Rau\, at crau@dia-arch.com. 
URL:https://www.aiaetn.org/calendar/aia-etn-emerging-professionals-committee-meeting-14/
LOCATION:Via Teams
END:VEVENT
BEGIN:VEVENT
DTSTART;TZID=America/New_York:20240815T120000
DTEND;TZID=America/New_York:20240815T130000
DTSTAMP:20260422T205604
CREATED:20221005T120330Z
LAST-MODIFIED:20221127T204357Z
UID:10000045-1723723200-1723726800@www.aiaetn.org
SUMMARY:Board of Directors Meeting
DESCRIPTION:
URL:https://www.aiaetn.org/calendar/board-of-directors-meeting-23/
END:VEVENT
BEGIN:VEVENT
DTSTART;TZID=America/New_York:20240815T120000
DTEND;TZID=America/New_York:20240815T130000
DTSTAMP:20260422T205604
CREATED:20221128T151602Z
LAST-MODIFIED:20240209T174502Z
UID:10000073-1723723200-1723726800@www.aiaetn.org
SUMMARY:Board of Directors Meeting
DESCRIPTION:
URL:https://www.aiaetn.org/calendar/board-of-directors-meeting-47/
END:VEVENT
BEGIN:VEVENT
DTSTART;TZID=America/New_York:20240819T120000
DTEND;TZID=America/New_York:20240819T130000
DTSTAMP:20260422T205604
CREATED:20230711T145235Z
LAST-MODIFIED:20240209T174503Z
UID:10000208-1724068800-1724072400@www.aiaetn.org
SUMMARY:AIA East Tennessee JE+DI Committee Meeting
DESCRIPTION:AIA East Tennessee’s JE+DI committee’s mission is to assist other committees and the Chapter with recognizing and eliminating institutional injustice\, increasing the diversity of the profession and of future professionals\, and fostering a spirit of inclusiveness for all members\, while working to promote a completely just society for all members of our communities. \nThis committee meets on the third Monday of the month. If you would like to join this committee\, please contact our Chair\, Jarrod Arellano\, at jarellano@dia-arch.com.
URL:https://www.aiaetn.org/calendar/aia-east-tennessee-jedi-committee-meeting-13/
LOCATION:via ZOOM
END:VEVENT
BEGIN:VEVENT
DTSTART;TZID=America/New_York:20240820T120000
DTEND;TZID=America/New_York:20240820T130000
DTSTAMP:20260422T205604
CREATED:20230711T143341Z
LAST-MODIFIED:20240209T174503Z
UID:10000184-1724155200-1724158800@www.aiaetn.org
SUMMARY:AIA East Tennessee Programming Committee Meeting
DESCRIPTION:AIA East Tennessee Programming committee plans and coordinates the Chapter’s monthly programming\, selecting speakers through a criteria-based system that includes HSW credit(s)\, sustainability\, diversity\, design excellence\, and tangential disciplines to our profession. \nThis committee meets every third Tuesday of the month and is part of ensuring that our monthly design feeds meet AIA’s Core Membership Services. If you would like to be a part of this committee\, please reach out to our Programming Chair\, John Sanders\, at jsanders@sanderspace.com. 
URL:https://www.aiaetn.org/calendar/aia-east-tennessee-programming-committee-meeting-15/
LOCATION:via ZOOM
END:VEVENT
BEGIN:VEVENT
DTSTART;TZID=America/New_York:20240822T120000
DTEND;TZID=America/New_York:20240822T130000
DTSTAMP:20260422T205604
CREATED:20231024T150512Z
LAST-MODIFIED:20240814T191135Z
UID:10000352-1724328000-1724331600@www.aiaetn.org
SUMMARY:AIA East Tennessee COTE Meeting
DESCRIPTION:AIA East Tennessee Committee on the Environment (COTE®) is a committee for working architects\, allied professionals\, and the public to achieve climate action and climate justice through design. We believe that design excellence is the foundation of a healthy\, sustainable\, and equitable future. Our work promotes design strategies that empower all AIA members to realize the best social and environmental outcomes with the clients and the communities they serve. \nWe meet once a month on the 4th Thursday of the month. We meet at different firms throughout Knoxville each month\, but always offer the meeting digitally via ZOOM. If you would like to join this committee\, please reach out to Cameron Bolin at bolin.cameron@gmail.com. 
URL:https://www.aiaetn.org/calendar/aia-east-tennessee-cote-meeting-12/
LOCATION:McCarty Holsaple McCarty Architects\, 701 Main St\, Knoxville\, TN\, United States
GEO:35.960104;-83.920568
X-APPLE-STRUCTURED-LOCATION;VALUE=URI;X-ADDRESS=McCarty Holsaple McCarty Architects 701 Main St Knoxville TN United States;X-APPLE-RADIUS=500;X-TITLE=701 Main St:geo:-83.920568,35.960104
END:VEVENT
BEGIN:VEVENT
DTSTART;TZID=America/New_York:20240826T120000
DTEND;TZID=America/New_York:20240826T130000
DTSTAMP:20260422T205604
CREATED:20230711T142019Z
LAST-MODIFIED:20240209T174503Z
UID:10000150-1724673600-1724677200@www.aiaetn.org
SUMMARY:AIA East Tennessee K-12 Outreach Committee Meeting
DESCRIPTION:AIA East Tennessee’s K-12 Outreach committee focus is introducing architecture to primary and secondary students\, broadening an understanding of the profession’s contributions to our communities\, and encouraging and mentoring those interested in a career in architecture and design. \nOur committee participates in regional career days\, community outreach events\, mentoring programs\, and more.  \nThis committee meets every 4th Monday of the month. If you would like to be a part of this committee\, please contact our K-12 Committee Chair\, Megan Chafin\, at mchafin@bma1915.com. 
URL:https://www.aiaetn.org/calendar/aia-east-tennessee-k-12-outreach-committee-meeting-14/
LOCATION:Via GoTo Meeting
END:VEVENT
END:VCALENDAR