BEGIN:VCALENDAR
VERSION:2.0
PRODID:-//AIA ETN - ECPv6.15.20//NONSGML v1.0//EN
CALSCALE:GREGORIAN
METHOD:PUBLISH
X-ORIGINAL-URL:https://www.aiaetn.org
X-WR-CALDESC:Events for AIA ETN
REFRESH-INTERVAL;VALUE=DURATION:PT1H
X-Robots-Tag:noindex
X-PUBLISHED-TTL:PT1H
BEGIN:VTIMEZONE
TZID:America/New_York
BEGIN:DAYLIGHT
TZOFFSETFROM:-0500
TZOFFSETTO:-0400
TZNAME:EDT
DTSTART:20230312T070000
END:DAYLIGHT
BEGIN:STANDARD
TZOFFSETFROM:-0400
TZOFFSETTO:-0500
TZNAME:EST
DTSTART:20231105T060000
END:STANDARD
BEGIN:DAYLIGHT
TZOFFSETFROM:-0500
TZOFFSETTO:-0400
TZNAME:EDT
DTSTART:20240310T070000
END:DAYLIGHT
BEGIN:STANDARD
TZOFFSETFROM:-0400
TZOFFSETTO:-0500
TZNAME:EST
DTSTART:20241103T060000
END:STANDARD
BEGIN:DAYLIGHT
TZOFFSETFROM:-0500
TZOFFSETTO:-0400
TZNAME:EDT
DTSTART:20250309T070000
END:DAYLIGHT
BEGIN:STANDARD
TZOFFSETFROM:-0400
TZOFFSETTO:-0500
TZNAME:EST
DTSTART:20251102T060000
END:STANDARD
END:VTIMEZONE
BEGIN:VEVENT
DTSTART;TZID=America/New_York:20240607T120000
DTEND;TZID=America/New_York:20240607T130000
DTSTAMP:20260423T002017
CREATED:20230711T150828Z
LAST-MODIFIED:20240209T174427Z
UID:10000222-1717761600-1717765200@www.aiaetn.org
SUMMARY:AIA East Tennessee Development Committee Meeting
DESCRIPTION:AIA East Tennessee’s Development committee is tasked with formulating our annual package of partnership opportunities\, manages special events such as the Summer Volleyball League\, Golf Tournament\, and Thunderbowl\, and helps to build the Chapter’s social capital through partnership calls\, meetings\, and more. This committee meets on the first Friday of the month. If you are interested in joining this committee\, please contact our Committee Chair\, Josh Shaffer\, at josh@sparkmanarchitect.com. 
URL:https://www.aiaetn.org/calendar/aia-east-tennessee-development-committee-meeting-11/
LOCATION:via ZOOM
END:VEVENT
BEGIN:VEVENT
DTSTART;TZID=America/New_York:20240611T115000
DTEND;TZID=America/New_York:20240611T130000
DTSTAMP:20260423T002017
CREATED:20240108T190223Z
LAST-MODIFIED:20240209T204441Z
UID:10000410-1718106600-1718110800@www.aiaetn.org
SUMMARY:Tri-Cities Tech Session
DESCRIPTION:
URL:https://www.aiaetn.org/calendar/tri-cities-tech-session-6/
LOCATION:Food City\, 920 N State of Franklin Rd\, Johnson City\, TN\, United States
CATEGORIES:Tech Sessions
GEO:36.324952;-82.394798
X-APPLE-STRUCTURED-LOCATION;VALUE=URI;X-ADDRESS=Food City 920 N State of Franklin Rd Johnson City TN United States;X-APPLE-RADIUS=500;X-TITLE=920 N State of Franklin Rd:geo:-82.394798,36.324952
END:VEVENT
BEGIN:VEVENT
DTSTART;TZID=America/New_York:20240611T120000
DTEND;TZID=America/New_York:20240611T130000
DTSTAMP:20260423T002017
CREATED:20230711T135856Z
LAST-MODIFIED:20240209T174427Z
UID:10000132-1718107200-1718110800@www.aiaetn.org
SUMMARY:AIA ETN Emerging Professionals Committee Meeting
DESCRIPTION:AIA East Tennessee’s Emerging Professionals Committee is a voice and resource for architecture students\, recent graduates\, and newly licensed architects. This committee is responsible for creating ARE prep course classes\, AXP opportunities\, professional development resources\,  and community-building events for our regional Emerging Professionals. \nWho are Emerging Professionals? \nEmerging Professionals (EP) are professionals who have completed their academic studies up to the point of licensure or up to 10 years after completion of their academic studies. \nWhether you’re seeking information on licensing or testing\, job prospects\, leadership opportunities\, or entrepreneurial issues\, our EP Committee is the place to start!  \nTogether\, we ensure the success of architecture’s next generation. We provide a forum to address firm culture\, student debt\, and other topics. \nThis committee meets every second Tuesday of the month and holds monthly EP Happy Hours/Events.If you would like to be a part of this committee\, please contact Committee Chair\, Cody Rau\, at crau@dia-arch.com. 
URL:https://www.aiaetn.org/calendar/aia-etn-emerging-professionals-committee-meeting-12/
LOCATION:Via Teams
END:VEVENT
BEGIN:VEVENT
DTSTART;TZID=America/New_York:20240617T120000
DTEND;TZID=America/New_York:20240617T130000
DTSTAMP:20260423T002017
CREATED:20230711T144630Z
LAST-MODIFIED:20240209T174436Z
UID:10000206-1718625600-1718629200@www.aiaetn.org
SUMMARY:AIA East Tennessee JE+DI Committee Meeting
DESCRIPTION:AIA East Tennessee’s JE+DI committee’s mission is to assist other committees and the Chapter with recognizing and eliminating institutional injustice\, increasing the diversity of the profession and of future professionals\, and fostering a spirit of inclusiveness for all members\, while working to promote a completely just society for all members of our communities. \nThis committee meets on the third Monday of the month. If you would like to join this committee\, please contact our Chair\, Jarrod Arellano\, at jarellano@dia-arch.com.
URL:https://www.aiaetn.org/calendar/aia-east-tennessee-jedi-committee-meeting-11/
LOCATION:via ZOOM
END:VEVENT
BEGIN:VEVENT
DTSTART;TZID=America/New_York:20240618T120000
DTEND;TZID=America/New_York:20240618T130000
DTSTAMP:20260423T002017
CREATED:20230711T143254Z
LAST-MODIFIED:20240209T174436Z
UID:10000182-1718712000-1718715600@www.aiaetn.org
SUMMARY:AIA East Tennessee Programming Committee Meeting
DESCRIPTION:AIA East Tennessee Programming committee plans and coordinates the Chapter’s monthly programming\, selecting speakers through a criteria-based system that includes HSW credit(s)\, sustainability\, diversity\, design excellence\, and tangential disciplines to our profession. \nThis committee meets every third Tuesday of the month and is part of ensuring that our monthly design feeds meet AIA’s Core Membership Services. If you would like to be a part of this committee\, please reach out to our Programming Chair\, John Sanders\, at jsanders@sanderspace.com. 
URL:https://www.aiaetn.org/calendar/aia-east-tennessee-programming-committee-meeting-13/
LOCATION:via ZOOM
END:VEVENT
BEGIN:VEVENT
DTSTART;TZID=America/New_York:20240620T120000
DTEND;TZID=America/New_York:20240620T130000
DTSTAMP:20260423T002017
CREATED:20221005T120330Z
LAST-MODIFIED:20221127T204357Z
UID:10000043-1718884800-1718888400@www.aiaetn.org
SUMMARY:Board of Directors Meeting
DESCRIPTION:
URL:https://www.aiaetn.org/calendar/board-of-directors-meeting-21/
END:VEVENT
BEGIN:VEVENT
DTSTART;TZID=America/New_York:20240620T120000
DTEND;TZID=America/New_York:20240620T130000
DTSTAMP:20260423T002017
CREATED:20221128T151601Z
LAST-MODIFIED:20240209T174436Z
UID:10000071-1718884800-1718888400@www.aiaetn.org
SUMMARY:Board of Directors Meeting
DESCRIPTION:
URL:https://www.aiaetn.org/calendar/board-of-directors-meeting-45/
END:VEVENT
BEGIN:VEVENT
DTSTART;TZID=America/New_York:20240620T170000
DTEND;TZID=America/New_York:20240620T190000
DTSTAMP:20260423T002017
CREATED:20240527T183555Z
LAST-MODIFIED:20240606T183506Z
UID:10000454-1718902800-1718910000@www.aiaetn.org
SUMMARY:EPYA Mid-Career Resume & Portfolio Roundtable
DESCRIPTION:Join the EP/YA Committee on June 20th at WorkSpace Interiors for an engaging roundtable conversation & happy hour designed for young professionals interested in the intricacies of switching jobs early or mid-career\, from 5pm – 7pm. This event hosts five panelists who will lead the open discussion and have firsthand experience in successfully transitioning careers. Get practical advice on navigating the job scene within the architecture world\, discover what firms expect when hiring a designer with minimal to mid-level range experience\, and gain insight on overcoming the unique challenges of switching positions mid-career. Engage with peers and professionals\, ask questions\, and gain the knowledge to confidently manage your career trajectory with this open-ended conversation. Whether you’re contemplating a change\, actively pursuing new opportunities\, or even happy with your career and have no plans to switch soon\, this event is your chance to gather essential knowledge and expand your network.  \n\n\n\nThanks to our sponsor\, The Architecture Collaborative\, charcuterie\, wine\, beer\, and non-alcoholic drinks will be available during happy hour! \n\n\n\n\n\nPanel: \n\n\n\nClick on our panelist’s names to connect with them and learn more about their firms and work.  \n\n\n\n\n\n\n\n\n\n\n\nModerator: Haley Zimmerman\, AIA – McCarty Holsaple McCarty\n\n\n\nHaley Zimmerman\, an East Tennessee native\, is a talented designer with an intuitive eye for both the quality and function of space. After graduating from UT Knoxville with a Bachelor of Architecture in 2015\, she joined MHM. With experience on a wide range of projects\, from small healthcare facilities to large corporate headquarters\, she is adept at interpreting the client’s needs to facilitate a thoughtful and creative approach to design. Haley has a keen interest in graphic design\, enjoys supporting the firm’s marketing efforts\, and is heavily involved in design initiatives at MHM. In addition\, she volunteers with AIA East Tennessee\, focusing on emerging professional resources and outreach programs. She also leads the charge in organizing the annual Art Salon as part of [Knoxville] by Design\, East Tennessee’s celebration of the nationally recognized Architecture Week. In 2023\, she was appointed to the board of Random Acts of Flowers. \n\n\n\n\n\n\n\n\n\n\n\n\n\nLauren Bush\, AIA- Open Door Architecture\n\n\n\nLauren Bush\, AIA is a project architect/manager with 14 years of experience leading award-winning projects across all markets and scales\, currently serving the residential market. She thrives on engaging with people and brings excitement and a smile to all project situations helping clients and team members feel at ease at every stage of the process. She excels at translating a project’s goals into beautifully designed\, well-coordinated solutions. Passionate about the community\, Lauren enjoys volunteering with her favorite local organizations and exploring the city with her husband and three boys. \n\n\n\n\n\n\n\n\n\n\n\n\n\nGeoffrey Cavelier\, AIA- Smee + Busby Architecture\, PC\n\n\n\nGeoffrey has over eight years of professional experience in architecture. He received his Bachelor of Architecture from the University of Tennessee College of Architecture and Design in 2015. He has been active in the local CSI chapter since 2014 where he has held various chair and board positions in an effort to maintain a community that advances the design & construction industry.  \n\n\n\n\n\n\n\n\n\n\n\n\n\nMichelle Mokry\, AIA- The Architecture Collaborative\n\n\n\nAs Associate Architect\, Michelle thrives on engaging clients and helping to actualize their ideas. She excels with attention to detail and enjoys using her creative flair to put the finishing touches on every project she encounters\, whether to manage or design. She has experienced various project types\, allowing her to switch gears quickly and be flexible with timeframes and work scopes. Michelle also firmly believes that the ability to communicate effectively with all individuals is essential\, no matter what industry one works in. A graduate of The University of Tennessee School of Architecture in 2004\, Michelle is certified by the National Council of Architectural Registration Boards (NCARB) and an Associate member of the American Institute of Architects (AIA). She also obtained her LEED AP Status in 2007 in the Existing Building O+M category and always looks for a way to bring sustainability into every project\, no matter the scale. \n\n\n\n\n\n\n\n\n\n\n\n\n\nAndrew Newman\, AIA- BarberMcMurry Architects\n\n\n\nDrew is a passionate\, process-oriented architect with strong design and a fervor for innovation\, integrity\, inclusivity\, and collaboration. He has over 10 years of experience in projects\, including office\, healthcare\, and education spaces. His focus is on interpreting and distilling the client’s design objectives\, budget\, and program aspirations into a creative\, memorable solution. Drew is a Cincinnati native who appreciates art\, architecture\, history\, and culture.  \n\n\n\n\n\n\n\n\n\n\n\n\n\nScott Searle\, AIA- Sanders Pace Architecture\n\n\n\nAfter receiving his Bachelor of Architecture degree from the University of Tennessee in 2012\, Scott worked as an Intern Architect at McCarty Holsaple McCarty.  During his time there\, he contributed to various project types and sizes.  In 2014\, he ventured to the Pacific Northwest to gain experience designing highly unique modern homes with David Coleman Architecture in Seattle\, Washington.  Many of his projects have been featured in print and online design publications.  In 2020\, Scott joined Sanders Pace Architecture\, where he focused on the firm’s growing portfolio of single-family residential projects.  His approach to design is elemental\, applying timeless architectural principles to modern challenges and contexts.  He is driven by the belief that a well-designed space plays a key role in the joy of everyday life.
URL:https://www.aiaetn.org/calendar/epyaroundtable/
LOCATION:WorkSpace Interiors\, 618 N Broadway\, Knoxville\, Tennessee\, 37917\, United States
CATEGORIES:EYPA
ATTACH;FMTTYPE=image/png:https://www.aiaetn.org/site/wp-content/uploads/2024/05/EPYA-Mid-Career-Resume-Portfolio-Roundtable-2.png
END:VEVENT
BEGIN:VEVENT
DTSTART;TZID=America/New_York:20240624T120000
DTEND;TZID=America/New_York:20240624T130000
DTSTAMP:20260423T002017
CREATED:20230711T141842Z
LAST-MODIFIED:20240209T174437Z
UID:10000148-1719230400-1719234000@www.aiaetn.org
SUMMARY:AIA East Tennessee K-12 Outreach Committee Meeting
DESCRIPTION:AIA East Tennessee’s K-12 Outreach committee focus is introducing architecture to primary and secondary students\, broadening an understanding of the profession’s contributions to our communities\, and encouraging and mentoring those interested in a career in architecture and design. \nOur committee participates in regional career days\, community outreach events\, mentoring programs\, and more.  \nThis committee meets every 4th Monday of the month. If you would like to be a part of this committee\, please contact our K-12 Committee Chair\, Megan Chafin\, at mchafin@bma1915.com. 
URL:https://www.aiaetn.org/calendar/aia-east-tennessee-k-12-outreach-committee-meeting-12/
LOCATION:Via GoTo Meeting
END:VEVENT
BEGIN:VEVENT
DTSTART;TZID=America/New_York:20240627T173000
DTEND;TZID=America/New_York:20240627T190000
DTSTAMP:20260423T002017
CREATED:20240523T130537Z
LAST-MODIFIED:20240612T165644Z
UID:10000453-1719509400-1719514800@www.aiaetn.org
SUMMARY:JOINT ADU COMPETITION INFO SESSION / COTE MEETING
DESCRIPTION:Join AIA East Tennessee for an exciting joint event on June 27th at Ebony and Ivory Brewing for some Hard Knox Pizza and delicious beverages! (NA options will be available) We will begin with the inaugural AIA East Tennessee | HOUSING ETN – 2024 ADU Design Competition overview and information session for interested design teams. We will discuss the efficacy of accessory dwelling units in providing equitable and attainable housing options in East Tennessee and review this year’s design competition requirements and guidelines. Immediately following\, we will welcome virtual attendance from Scott Moore y Medina of DIAK Architects as he presents on Design For Equitable Communities as a part of the 2024 guest series of the AIA East Tennessee’s Committee on the Environment. \n\n\n\nPlease come support our local businesses and be a part of the mission of AIA East Tennessee in developing the cities\, communities\, and built environment of the 21st Century.
URL:https://www.aiaetn.org/calendar/aducote/
LOCATION:Ebony & Ivory Brewing\, 2300 North Central Street Suite 101\, Knoxville\, Tennessee\, 37917\, United States
CATEGORIES:COTE,Design Awards Gala
ATTACH;FMTTYPE=image/png:https://www.aiaetn.org/site/wp-content/uploads/2024/05/NEW-ADU-COTE-MEETING-FINAL-.png
END:VEVENT
END:VCALENDAR