BEGIN:VCALENDAR
VERSION:2.0
PRODID:-//AIA ETN - ECPv6.15.20//NONSGML v1.0//EN
CALSCALE:GREGORIAN
METHOD:PUBLISH
X-ORIGINAL-URL:https://www.aiaetn.org
X-WR-CALDESC:Events for AIA ETN
REFRESH-INTERVAL;VALUE=DURATION:PT1H
X-Robots-Tag:noindex
X-PUBLISHED-TTL:PT1H
BEGIN:VTIMEZONE
TZID:America/New_York
BEGIN:DAYLIGHT
TZOFFSETFROM:-0500
TZOFFSETTO:-0400
TZNAME:EDT
DTSTART:20250309T070000
END:DAYLIGHT
BEGIN:STANDARD
TZOFFSETFROM:-0400
TZOFFSETTO:-0500
TZNAME:EST
DTSTART:20251102T060000
END:STANDARD
BEGIN:DAYLIGHT
TZOFFSETFROM:-0500
TZOFFSETTO:-0400
TZNAME:EDT
DTSTART:20260308T070000
END:DAYLIGHT
BEGIN:STANDARD
TZOFFSETFROM:-0400
TZOFFSETTO:-0500
TZNAME:EST
DTSTART:20261101T060000
END:STANDARD
BEGIN:DAYLIGHT
TZOFFSETFROM:-0500
TZOFFSETTO:-0400
TZNAME:EDT
DTSTART:20270314T070000
END:DAYLIGHT
BEGIN:STANDARD
TZOFFSETFROM:-0400
TZOFFSETTO:-0500
TZNAME:EST
DTSTART:20271107T060000
END:STANDARD
END:VTIMEZONE
BEGIN:VEVENT
DTSTART;TZID=America/New_York:20260504T120000
DTEND;TZID=America/New_York:20260504T130000
DTSTAMP:20260421T212731
CREATED:20250703T193507Z
LAST-MODIFIED:20251203T192503Z
UID:10000496-1777896000-1777899600@www.aiaetn.org
SUMMARY:Equity\, Diversity\, & Inclusion (EDI) Committee
DESCRIPTION:Our EDI Committee’s mission is to assist other committees and the Chapter with recognizing and eliminating institutional injustice\, increasing the diversity of the profession and of future professionals\, and fostering a spirit of inclusiveness for all members\, while working to promote a completely just society for all members of our communities. \n\n\n\nThis committee meets on the first Monday of the month. If you would like to join this committee or want a link to the virtual meetings\, please contact our Chair\, Geoffrey Cavalier\, at cavaliergeoffrey@gmail.com
URL:https://www.aiaetn.org/calendar/edi_comm/2026-05-04/
CATEGORIES:Committees,EDI
ATTACH;FMTTYPE=image/png:https://www.aiaetn.org/site/wp-content/uploads/2025/07/Committees-15.png
END:VEVENT
BEGIN:VEVENT
DTSTART;TZID=America/New_York:20260511T140000
DTEND;TZID=America/New_York:20260511T150000
DTSTAMP:20260421T212731
CREATED:20251203T182836Z
LAST-MODIFIED:20251203T191844Z
UID:10000563-1778508000-1778511600@www.aiaetn.org
SUMMARY:K-12 Committee
DESCRIPTION:Our K-12 Outreach Committee’s focus is introducing architecture to primary and secondary students\, broadening an understanding of the profession’s contributions to our communities\, and encouraging and mentoring those interested in a career in architecture and design.
URL:https://www.aiaetn.org/calendar/k-12-committee/2026-05-11/
ATTACH;FMTTYPE=image/png:https://www.aiaetn.org/site/wp-content/uploads/2025/12/Committees-12.png
END:VEVENT
BEGIN:VEVENT
DTSTART;TZID=America/New_York:20260512T114500
DTEND;TZID=America/New_York:20260512T130000
DTSTAMP:20260421T212731
CREATED:20260402T230057Z
LAST-MODIFIED:20260402T230606Z
UID:10000604-1778586300-1778590800@www.aiaetn.org
SUMMARY:Tri-Cities Tech Session
DESCRIPTION:Email Mike Stone for more details and to RSVP. Cost is $25 for non-members and free to AIA members. mike@mikestonearchitect.com
URL:https://www.aiaetn.org/calendar/tri-cities-tech-session-26/2026-05-12/
ATTACH;FMTTYPE=image/png:https://www.aiaetn.org/site/wp-content/uploads/2026/01/Sponsopr-2.png
END:VEVENT
BEGIN:VEVENT
DTSTART;TZID=America/New_York:20260513T130000
DTEND;TZID=America/New_York:20260513T140000
DTSTAMP:20260421T212731
CREATED:20260129T171718Z
LAST-MODIFIED:20260209T154847Z
UID:10000676-1778677200-1778680800@www.aiaetn.org
SUMMARY:Regional Affairs Committee
DESCRIPTION:The Regional Affairs Committee discusses the communities and counties in our Chapter outside of the Knox County metro and the issues facing those areas of East Tennessee. All meetings virtual unless otherwise noted.
URL:https://www.aiaetn.org/calendar/regional-affairs-committee/2026-05-13/
ATTACH;FMTTYPE=image/png:https://www.aiaetn.org/site/wp-content/uploads/2026/01/Committees-17.png
END:VEVENT
BEGIN:VEVENT
DTSTART;TZID=America/New_York:20260519T000000
DTEND;TZID=America/New_York:20260519T235959
DTSTAMP:20260421T212731
CREATED:20260421T233829Z
LAST-MODIFIED:20260421T234049Z
UID:10000752-1779148800-1779235199@www.aiaetn.org
SUMMARY:Volleyball League Registration Deadline
DESCRIPTION:Make sure to register at our league page HERE
URL:https://www.aiaetn.org/calendar/volleyball-league-registration-deadline/
CATEGORIES:EYPA
END:VEVENT
BEGIN:VEVENT
DTSTART;TZID=America/New_York:20260519T120000
DTEND;TZID=America/New_York:20260519T130000
DTSTAMP:20260421T212731
CREATED:20251203T184636Z
LAST-MODIFIED:20251203T192016Z
UID:10000578-1779192000-1779195600@www.aiaetn.org
SUMMARY:Programming Committee
DESCRIPTION:The Programming Committee plans and coordinates the Chapter’s monthly programming\, selecting speakers through a criteria-based system that includes HSW credit(s)\, sustainability\, diversity\, design excellence\, and tangential disciplines to our profession. \n\n\n\nIf you would like to be a part of this committee\, please reach out to our Programming Chair\, John Sanders\, at jsanders@sanderspace.com. 
URL:https://www.aiaetn.org/calendar/programming-committee/2026-05-19/
ATTACH;FMTTYPE=image/png:https://www.aiaetn.org/site/wp-content/uploads/2025/12/Committees-14.png
END:VEVENT
BEGIN:VEVENT
DTSTART;TZID=America/New_York:20260526T180000
DTEND;TZID=America/New_York:20260526T200000
DTSTAMP:20260421T212731
CREATED:20260421T234315Z
LAST-MODIFIED:20260421T234555Z
UID:10000753-1779818400-1779825600@www.aiaetn.org
SUMMARY:Volleyball League Weekly Games
DESCRIPTION:Only registered teams can participate! Details on the League can be found HERE.
URL:https://www.aiaetn.org/calendar/volleyball-league-weekly-games/2026-05-26/
CATEGORIES:EYPA
ATTACH;FMTTYPE=image/png:https://www.aiaetn.org/site/wp-content/uploads/2025/04/Purple-and-Yellow-Illustrative-Volleyball-Sports-Match-Announcement-Instagram-Post.png
END:VEVENT
BEGIN:VEVENT
DTSTART;TZID=America/New_York:20260601T120000
DTEND;TZID=America/New_York:20260601T130000
DTSTAMP:20260421T212731
CREATED:20250703T193507Z
LAST-MODIFIED:20251203T192503Z
UID:10000497-1780315200-1780318800@www.aiaetn.org
SUMMARY:Equity\, Diversity\, & Inclusion (EDI) Committee
DESCRIPTION:Our EDI Committee’s mission is to assist other committees and the Chapter with recognizing and eliminating institutional injustice\, increasing the diversity of the profession and of future professionals\, and fostering a spirit of inclusiveness for all members\, while working to promote a completely just society for all members of our communities. \n\n\n\nThis committee meets on the first Monday of the month. If you would like to join this committee or want a link to the virtual meetings\, please contact our Chair\, Geoffrey Cavalier\, at cavaliergeoffrey@gmail.com
URL:https://www.aiaetn.org/calendar/edi_comm/2026-06-01/
CATEGORIES:Committees,EDI
ATTACH;FMTTYPE=image/png:https://www.aiaetn.org/site/wp-content/uploads/2025/07/Committees-15.png
END:VEVENT
BEGIN:VEVENT
DTSTART;TZID=America/New_York:20260602T180000
DTEND;TZID=America/New_York:20260602T200000
DTSTAMP:20260421T212731
CREATED:20260421T234315Z
LAST-MODIFIED:20260421T234555Z
UID:10000754-1780423200-1780430400@www.aiaetn.org
SUMMARY:Volleyball League Weekly Games
DESCRIPTION:Only registered teams can participate! Details on the League can be found HERE.
URL:https://www.aiaetn.org/calendar/volleyball-league-weekly-games/2026-06-02/
CATEGORIES:EYPA
ATTACH;FMTTYPE=image/png:https://www.aiaetn.org/site/wp-content/uploads/2025/04/Purple-and-Yellow-Illustrative-Volleyball-Sports-Match-Announcement-Instagram-Post.png
END:VEVENT
BEGIN:VEVENT
DTSTART;TZID=America/New_York:20260608T140000
DTEND;TZID=America/New_York:20260608T150000
DTSTAMP:20260421T212731
CREATED:20251203T182836Z
LAST-MODIFIED:20251203T191844Z
UID:10000564-1780927200-1780930800@www.aiaetn.org
SUMMARY:K-12 Committee
DESCRIPTION:Our K-12 Outreach Committee’s focus is introducing architecture to primary and secondary students\, broadening an understanding of the profession’s contributions to our communities\, and encouraging and mentoring those interested in a career in architecture and design.
URL:https://www.aiaetn.org/calendar/k-12-committee/2026-06-08/
ATTACH;FMTTYPE=image/png:https://www.aiaetn.org/site/wp-content/uploads/2025/12/Committees-12.png
END:VEVENT
BEGIN:VEVENT
DTSTART;TZID=America/New_York:20260609T114500
DTEND;TZID=America/New_York:20260609T130000
DTSTAMP:20260421T212731
CREATED:20260402T230057Z
LAST-MODIFIED:20260402T230606Z
UID:10000605-1781005500-1781010000@www.aiaetn.org
SUMMARY:Tri-Cities Tech Session
DESCRIPTION:Email Mike Stone for more details and to RSVP. Cost is $25 for non-members and free to AIA members. mike@mikestonearchitect.com
URL:https://www.aiaetn.org/calendar/tri-cities-tech-session-26/2026-06-09/
ATTACH;FMTTYPE=image/png:https://www.aiaetn.org/site/wp-content/uploads/2026/01/Sponsopr-2.png
END:VEVENT
BEGIN:VEVENT
DTSTART;TZID=America/New_York:20260609T180000
DTEND;TZID=America/New_York:20260609T200000
DTSTAMP:20260421T212731
CREATED:20260421T234315Z
LAST-MODIFIED:20260421T234555Z
UID:10000755-1781028000-1781035200@www.aiaetn.org
SUMMARY:Volleyball League Weekly Games
DESCRIPTION:Only registered teams can participate! Details on the League can be found HERE.
URL:https://www.aiaetn.org/calendar/volleyball-league-weekly-games/2026-06-09/
CATEGORIES:EYPA
ATTACH;FMTTYPE=image/png:https://www.aiaetn.org/site/wp-content/uploads/2025/04/Purple-and-Yellow-Illustrative-Volleyball-Sports-Match-Announcement-Instagram-Post.png
END:VEVENT
BEGIN:VEVENT
DTSTART;TZID=America/New_York:20260610T130000
DTEND;TZID=America/New_York:20260610T140000
DTSTAMP:20260421T212731
CREATED:20260129T171718Z
LAST-MODIFIED:20260209T154847Z
UID:10000677-1781096400-1781100000@www.aiaetn.org
SUMMARY:Regional Affairs Committee
DESCRIPTION:The Regional Affairs Committee discusses the communities and counties in our Chapter outside of the Knox County metro and the issues facing those areas of East Tennessee. All meetings virtual unless otherwise noted.
URL:https://www.aiaetn.org/calendar/regional-affairs-committee/2026-06-10/
ATTACH;FMTTYPE=image/png:https://www.aiaetn.org/site/wp-content/uploads/2026/01/Committees-17.png
END:VEVENT
BEGIN:VEVENT
DTSTART;TZID=America/New_York:20260616T120000
DTEND;TZID=America/New_York:20260616T130000
DTSTAMP:20260421T212731
CREATED:20251203T184636Z
LAST-MODIFIED:20251203T192016Z
UID:10000579-1781611200-1781614800@www.aiaetn.org
SUMMARY:Programming Committee
DESCRIPTION:The Programming Committee plans and coordinates the Chapter’s monthly programming\, selecting speakers through a criteria-based system that includes HSW credit(s)\, sustainability\, diversity\, design excellence\, and tangential disciplines to our profession. \n\n\n\nIf you would like to be a part of this committee\, please reach out to our Programming Chair\, John Sanders\, at jsanders@sanderspace.com. 
URL:https://www.aiaetn.org/calendar/programming-committee/2026-06-16/
ATTACH;FMTTYPE=image/png:https://www.aiaetn.org/site/wp-content/uploads/2025/12/Committees-14.png
END:VEVENT
BEGIN:VEVENT
DTSTART;TZID=America/New_York:20260616T180000
DTEND;TZID=America/New_York:20260616T200000
DTSTAMP:20260421T212731
CREATED:20260421T234315Z
LAST-MODIFIED:20260421T234555Z
UID:10000756-1781632800-1781640000@www.aiaetn.org
SUMMARY:Volleyball League Weekly Games
DESCRIPTION:Only registered teams can participate! Details on the League can be found HERE.
URL:https://www.aiaetn.org/calendar/volleyball-league-weekly-games/2026-06-16/
CATEGORIES:EYPA
ATTACH;FMTTYPE=image/png:https://www.aiaetn.org/site/wp-content/uploads/2025/04/Purple-and-Yellow-Illustrative-Volleyball-Sports-Match-Announcement-Instagram-Post.png
END:VEVENT
BEGIN:VEVENT
DTSTART;TZID=America/New_York:20260623T180000
DTEND;TZID=America/New_York:20260623T200000
DTSTAMP:20260421T212731
CREATED:20260421T234315Z
LAST-MODIFIED:20260421T234555Z
UID:10000757-1782237600-1782244800@www.aiaetn.org
SUMMARY:Volleyball League Weekly Games
DESCRIPTION:Only registered teams can participate! Details on the League can be found HERE.
URL:https://www.aiaetn.org/calendar/volleyball-league-weekly-games/2026-06-23/
CATEGORIES:EYPA
ATTACH;FMTTYPE=image/png:https://www.aiaetn.org/site/wp-content/uploads/2025/04/Purple-and-Yellow-Illustrative-Volleyball-Sports-Match-Announcement-Instagram-Post.png
END:VEVENT
BEGIN:VEVENT
DTSTART;TZID=America/New_York:20260624T173000
DTEND;TZID=America/New_York:20260624T190000
DTSTAMP:20260421T212731
CREATED:20260402T225216Z
LAST-MODIFIED:20260402T225632Z
UID:10000748-1782322200-1782327600@www.aiaetn.org
SUMMARY:Small Firm Exchange Meet-Up
DESCRIPTION:These meetings will occur on the 4th Wednesday every other month. 2026 dates are: April 29th\, June 24th\, August 26th\, and October 28th.  Locations will change and are TBD but will be updated here once they are decided.
URL:https://www.aiaetn.org/calendar/small-firm-exchange-meet-up/2026-06-24/
ATTACH;FMTTYPE=image/png:https://www.aiaetn.org/site/wp-content/uploads/2026/04/Committees-19.png
END:VEVENT
BEGIN:VEVENT
DTSTART;TZID=America/New_York:20260630T180000
DTEND;TZID=America/New_York:20260630T200000
DTSTAMP:20260421T212731
CREATED:20260421T234315Z
LAST-MODIFIED:20260421T234555Z
UID:10000758-1782842400-1782849600@www.aiaetn.org
SUMMARY:Volleyball League Weekly Games
DESCRIPTION:Only registered teams can participate! Details on the League can be found HERE.
URL:https://www.aiaetn.org/calendar/volleyball-league-weekly-games/2026-06-30/
CATEGORIES:EYPA
ATTACH;FMTTYPE=image/png:https://www.aiaetn.org/site/wp-content/uploads/2025/04/Purple-and-Yellow-Illustrative-Volleyball-Sports-Match-Announcement-Instagram-Post.png
END:VEVENT
BEGIN:VEVENT
DTSTART;TZID=America/New_York:20260706T120000
DTEND;TZID=America/New_York:20260706T130000
DTSTAMP:20260421T212731
CREATED:20250703T193507Z
LAST-MODIFIED:20251203T192503Z
UID:10000498-1783339200-1783342800@www.aiaetn.org
SUMMARY:Equity\, Diversity\, & Inclusion (EDI) Committee
DESCRIPTION:Our EDI Committee’s mission is to assist other committees and the Chapter with recognizing and eliminating institutional injustice\, increasing the diversity of the profession and of future professionals\, and fostering a spirit of inclusiveness for all members\, while working to promote a completely just society for all members of our communities. \n\n\n\nThis committee meets on the first Monday of the month. If you would like to join this committee or want a link to the virtual meetings\, please contact our Chair\, Geoffrey Cavalier\, at cavaliergeoffrey@gmail.com
URL:https://www.aiaetn.org/calendar/edi_comm/2026-07-06/
CATEGORIES:Committees,EDI
ATTACH;FMTTYPE=image/png:https://www.aiaetn.org/site/wp-content/uploads/2025/07/Committees-15.png
END:VEVENT
BEGIN:VEVENT
DTSTART;TZID=America/New_York:20260707T180000
DTEND;TZID=America/New_York:20260707T200000
DTSTAMP:20260421T212731
CREATED:20260421T234315Z
LAST-MODIFIED:20260421T234555Z
UID:10000759-1783447200-1783454400@www.aiaetn.org
SUMMARY:Volleyball League Weekly Games
DESCRIPTION:Only registered teams can participate! Details on the League can be found HERE.
URL:https://www.aiaetn.org/calendar/volleyball-league-weekly-games/2026-07-07/
CATEGORIES:EYPA
ATTACH;FMTTYPE=image/png:https://www.aiaetn.org/site/wp-content/uploads/2025/04/Purple-and-Yellow-Illustrative-Volleyball-Sports-Match-Announcement-Instagram-Post.png
END:VEVENT
BEGIN:VEVENT
DTSTART;TZID=America/New_York:20260708T130000
DTEND;TZID=America/New_York:20260708T140000
DTSTAMP:20260421T212731
CREATED:20260129T171718Z
LAST-MODIFIED:20260209T154847Z
UID:10000678-1783515600-1783519200@www.aiaetn.org
SUMMARY:Regional Affairs Committee
DESCRIPTION:The Regional Affairs Committee discusses the communities and counties in our Chapter outside of the Knox County metro and the issues facing those areas of East Tennessee. All meetings virtual unless otherwise noted.
URL:https://www.aiaetn.org/calendar/regional-affairs-committee/2026-07-08/
ATTACH;FMTTYPE=image/png:https://www.aiaetn.org/site/wp-content/uploads/2026/01/Committees-17.png
END:VEVENT
BEGIN:VEVENT
DTSTART;TZID=America/New_York:20260713T140000
DTEND;TZID=America/New_York:20260713T150000
DTSTAMP:20260421T212731
CREATED:20251203T182836Z
LAST-MODIFIED:20251203T191844Z
UID:10000565-1783951200-1783954800@www.aiaetn.org
SUMMARY:K-12 Committee
DESCRIPTION:Our K-12 Outreach Committee’s focus is introducing architecture to primary and secondary students\, broadening an understanding of the profession’s contributions to our communities\, and encouraging and mentoring those interested in a career in architecture and design.
URL:https://www.aiaetn.org/calendar/k-12-committee/2026-07-13/
ATTACH;FMTTYPE=image/png:https://www.aiaetn.org/site/wp-content/uploads/2025/12/Committees-12.png
END:VEVENT
BEGIN:VEVENT
DTSTART;TZID=America/New_York:20260714T114500
DTEND;TZID=America/New_York:20260714T130000
DTSTAMP:20260421T212731
CREATED:20260402T230057Z
LAST-MODIFIED:20260402T230606Z
UID:10000606-1784029500-1784034000@www.aiaetn.org
SUMMARY:Tri-Cities Tech Session
DESCRIPTION:Email Mike Stone for more details and to RSVP. Cost is $25 for non-members and free to AIA members. mike@mikestonearchitect.com
URL:https://www.aiaetn.org/calendar/tri-cities-tech-session-26/2026-07-14/
ATTACH;FMTTYPE=image/png:https://www.aiaetn.org/site/wp-content/uploads/2026/01/Sponsopr-2.png
END:VEVENT
BEGIN:VEVENT
DTSTART;TZID=America/New_York:20260714T180000
DTEND;TZID=America/New_York:20260714T200000
DTSTAMP:20260421T212731
CREATED:20260421T234315Z
LAST-MODIFIED:20260421T234555Z
UID:10000760-1784052000-1784059200@www.aiaetn.org
SUMMARY:Volleyball League Weekly Games
DESCRIPTION:Only registered teams can participate! Details on the League can be found HERE.
URL:https://www.aiaetn.org/calendar/volleyball-league-weekly-games/2026-07-14/
CATEGORIES:EYPA
ATTACH;FMTTYPE=image/png:https://www.aiaetn.org/site/wp-content/uploads/2025/04/Purple-and-Yellow-Illustrative-Volleyball-Sports-Match-Announcement-Instagram-Post.png
END:VEVENT
BEGIN:VEVENT
DTSTART;TZID=America/New_York:20260721T120000
DTEND;TZID=America/New_York:20260721T130000
DTSTAMP:20260421T212731
CREATED:20251203T184636Z
LAST-MODIFIED:20251203T192016Z
UID:10000580-1784635200-1784638800@www.aiaetn.org
SUMMARY:Programming Committee
DESCRIPTION:The Programming Committee plans and coordinates the Chapter’s monthly programming\, selecting speakers through a criteria-based system that includes HSW credit(s)\, sustainability\, diversity\, design excellence\, and tangential disciplines to our profession. \n\n\n\nIf you would like to be a part of this committee\, please reach out to our Programming Chair\, John Sanders\, at jsanders@sanderspace.com. 
URL:https://www.aiaetn.org/calendar/programming-committee/2026-07-21/
ATTACH;FMTTYPE=image/png:https://www.aiaetn.org/site/wp-content/uploads/2025/12/Committees-14.png
END:VEVENT
BEGIN:VEVENT
DTSTART;TZID=America/New_York:20260721T180000
DTEND;TZID=America/New_York:20260721T200000
DTSTAMP:20260421T212731
CREATED:20260421T234315Z
LAST-MODIFIED:20260421T234555Z
UID:10000761-1784656800-1784664000@www.aiaetn.org
SUMMARY:Volleyball League Weekly Games
DESCRIPTION:Only registered teams can participate! Details on the League can be found HERE.
URL:https://www.aiaetn.org/calendar/volleyball-league-weekly-games/2026-07-21/
CATEGORIES:EYPA
ATTACH;FMTTYPE=image/png:https://www.aiaetn.org/site/wp-content/uploads/2025/04/Purple-and-Yellow-Illustrative-Volleyball-Sports-Match-Announcement-Instagram-Post.png
END:VEVENT
BEGIN:VEVENT
DTSTART;TZID=America/New_York:20260728T114000
DTEND;TZID=America/New_York:20260728T130000
DTSTAMP:20260421T212731
CREATED:20251203T210437Z
LAST-MODIFIED:20251204T024155Z
UID:10000595-1785238800-1785243600@www.aiaetn.org
SUMMARY:Design Feed
DESCRIPTION:
URL:https://www.aiaetn.org/calendar/design-feed-4/2026-07-28/
ATTACH;FMTTYPE=image/png:https://www.aiaetn.org/site/wp-content/uploads/2025/12/2025DF-June-August-2.png
END:VEVENT
BEGIN:VEVENT
DTSTART;TZID=America/New_York:20260728T180000
DTEND;TZID=America/New_York:20260728T200000
DTSTAMP:20260421T212731
CREATED:20260421T234315Z
LAST-MODIFIED:20260421T234555Z
UID:10000762-1785261600-1785268800@www.aiaetn.org
SUMMARY:Volleyball League Weekly Games
DESCRIPTION:Only registered teams can participate! Details on the League can be found HERE.
URL:https://www.aiaetn.org/calendar/volleyball-league-weekly-games/2026-07-28/
CATEGORIES:EYPA
ATTACH;FMTTYPE=image/png:https://www.aiaetn.org/site/wp-content/uploads/2025/04/Purple-and-Yellow-Illustrative-Volleyball-Sports-Match-Announcement-Instagram-Post.png
END:VEVENT
BEGIN:VEVENT
DTSTART;TZID=America/New_York:20260803T120000
DTEND;TZID=America/New_York:20260803T130000
DTSTAMP:20260421T212731
CREATED:20250703T193507Z
LAST-MODIFIED:20251203T192503Z
UID:10000499-1785758400-1785762000@www.aiaetn.org
SUMMARY:Equity\, Diversity\, & Inclusion (EDI) Committee
DESCRIPTION:Our EDI Committee’s mission is to assist other committees and the Chapter with recognizing and eliminating institutional injustice\, increasing the diversity of the profession and of future professionals\, and fostering a spirit of inclusiveness for all members\, while working to promote a completely just society for all members of our communities. \n\n\n\nThis committee meets on the first Monday of the month. If you would like to join this committee or want a link to the virtual meetings\, please contact our Chair\, Geoffrey Cavalier\, at cavaliergeoffrey@gmail.com
URL:https://www.aiaetn.org/calendar/edi_comm/2026-08-03/
CATEGORIES:Committees,EDI
ATTACH;FMTTYPE=image/png:https://www.aiaetn.org/site/wp-content/uploads/2025/07/Committees-15.png
END:VEVENT
BEGIN:VEVENT
DTSTART;TZID=America/New_York:20260810T140000
DTEND;TZID=America/New_York:20260810T150000
DTSTAMP:20260421T212731
CREATED:20251203T182836Z
LAST-MODIFIED:20251203T191844Z
UID:10000566-1786370400-1786374000@www.aiaetn.org
SUMMARY:K-12 Committee
DESCRIPTION:Our K-12 Outreach Committee’s focus is introducing architecture to primary and secondary students\, broadening an understanding of the profession’s contributions to our communities\, and encouraging and mentoring those interested in a career in architecture and design.
URL:https://www.aiaetn.org/calendar/k-12-committee/2026-08-10/
ATTACH;FMTTYPE=image/png:https://www.aiaetn.org/site/wp-content/uploads/2025/12/Committees-12.png
END:VEVENT
END:VCALENDAR