BEGIN:VCALENDAR
VERSION:2.0
PRODID:-//AIA ETN - ECPv6.15.20//NONSGML v1.0//EN
CALSCALE:GREGORIAN
METHOD:PUBLISH
X-WR-CALNAME:AIA ETN
X-ORIGINAL-URL:https://www.aiaetn.org
X-WR-CALDESC:Events for AIA ETN
REFRESH-INTERVAL;VALUE=DURATION:PT1H
X-Robots-Tag:noindex
X-PUBLISHED-TTL:PT1H
BEGIN:VTIMEZONE
TZID:America/New_York
BEGIN:DAYLIGHT
TZOFFSETFROM:-0500
TZOFFSETTO:-0400
TZNAME:EDT
DTSTART:20210314T070000
END:DAYLIGHT
BEGIN:STANDARD
TZOFFSETFROM:-0400
TZOFFSETTO:-0500
TZNAME:EST
DTSTART:20211107T060000
END:STANDARD
BEGIN:DAYLIGHT
TZOFFSETFROM:-0500
TZOFFSETTO:-0400
TZNAME:EDT
DTSTART:20220313T070000
END:DAYLIGHT
BEGIN:STANDARD
TZOFFSETFROM:-0400
TZOFFSETTO:-0500
TZNAME:EST
DTSTART:20221106T060000
END:STANDARD
BEGIN:DAYLIGHT
TZOFFSETFROM:-0500
TZOFFSETTO:-0400
TZNAME:EDT
DTSTART:20230312T070000
END:DAYLIGHT
BEGIN:STANDARD
TZOFFSETFROM:-0400
TZOFFSETTO:-0500
TZNAME:EST
DTSTART:20231105T060000
END:STANDARD
END:VTIMEZONE
BEGIN:VEVENT
DTSTART;TZID=America/New_York:20221007T170000
DTEND;TZID=America/New_York:20221007T203000
DTSTAMP:20260424T040553
CREATED:20221005T120328Z
LAST-MODIFIED:20221007T121414Z
UID:10000018-1665162000-1665174600@www.aiaetn.org
SUMMARY:Art Salon -  By Design
DESCRIPTION:Join us at The Emporium for our First Friday Gallery Opening celebrating the vast range of original works of art created by architects and related professionals in East Tennessee. Although this is a one-night-only event\, with delicious charcuterie and wine\, you will have a chance all month long to view the art salon pieces at The Emporium!To learn more about our other Knoxville By Design Events\, visit knoxbydesign.org.—Part of  BY DESIGNPresenting Sponsor: SHANNON FOSTER BOLINE GROUP—Sponsored by The Knoxville Museum of Art through the William Shell Endowment FundAllied Partner: CSI Knoxville Chapter
URL:https://www.aiaetn.org/calendar/art-salon-by-design/
LOCATION:Emporium Center / Arts & Culture Alliance\, 100 S Gay St\, Knoxville\, TN 37902\, USA
END:VEVENT
BEGIN:VEVENT
DTSTART;TZID=America/New_York:20221006T173000
DTEND;TZID=America/New_York:20221006T190000
DTSTAMP:20260424T040553
CREATED:20221005T120328Z
LAST-MODIFIED:20221006T121433Z
UID:10000017-1665077400-1665082800@www.aiaetn.org
SUMMARY:EP Happy Hour w/ FSA Lighting
DESCRIPTION:Join other AIA Emerging Professionals\, and FSA Lighting\, on October 6th from 5:30 pm – 7 pm at PostModern Spirits for some delicious drinks (alcoholic and na)\, and an opportunity to hang out with others in the profession.  \n \nThis event is open to all EP’s – students\, architects\, friends – yes\, even engineers! As always\, this is a social event\, so drinks first\, shop talk second. Your first two drinks are free\, thanks to our sponsor!  \n \nWe hope to see you there!
URL:https://www.aiaetn.org/calendar/ep-happy-hour-w-fsa-lighting/
LOCATION:PostModern Spirits\, 205 W Jackson Ave Suite 205\, Knoxville\, TN 37902\, USA
END:VEVENT
END:VCALENDAR