BEGIN:VCALENDAR
VERSION:2.0
PRODID:-//AIA ETN - ECPv6.15.20//NONSGML v1.0//EN
CALSCALE:GREGORIAN
METHOD:PUBLISH
X-WR-CALNAME:AIA ETN
X-ORIGINAL-URL:https://www.aiaetn.org
X-WR-CALDESC:Events for AIA ETN
REFRESH-INTERVAL;VALUE=DURATION:PT1H
X-Robots-Tag:noindex
X-PUBLISHED-TTL:PT1H
BEGIN:VTIMEZONE
TZID:America/New_York
BEGIN:DAYLIGHT
TZOFFSETFROM:-0500
TZOFFSETTO:-0400
TZNAME:EDT
DTSTART:20210314T070000
END:DAYLIGHT
BEGIN:STANDARD
TZOFFSETFROM:-0400
TZOFFSETTO:-0500
TZNAME:EST
DTSTART:20211107T060000
END:STANDARD
BEGIN:DAYLIGHT
TZOFFSETFROM:-0500
TZOFFSETTO:-0400
TZNAME:EDT
DTSTART:20220313T070000
END:DAYLIGHT
BEGIN:STANDARD
TZOFFSETFROM:-0400
TZOFFSETTO:-0500
TZNAME:EST
DTSTART:20221106T060000
END:STANDARD
BEGIN:DAYLIGHT
TZOFFSETFROM:-0500
TZOFFSETTO:-0400
TZNAME:EDT
DTSTART:20230312T070000
END:DAYLIGHT
BEGIN:STANDARD
TZOFFSETFROM:-0400
TZOFFSETTO:-0500
TZNAME:EST
DTSTART:20231105T060000
END:STANDARD
END:VTIMEZONE
BEGIN:VEVENT
DTSTART;TZID=America/New_York:20221215T170000
DTEND;TZID=America/New_York:20221215T190000
DTSTAMP:20260424T022651
CREATED:20221128T151559Z
LAST-MODIFIED:20221215T192852Z
UID:10000053-1671123600-1671130800@www.aiaetn.org
SUMMARY:AIA East Tennessee Volunteer Appreciation Party
DESCRIPTION:Calling all partners\, allied members\, committee members\, board members\, and volunteers of AIA East Tennessee! Join us for a night of Ugly Christmas Sweaters\, delicious food and drinks\, and celebrating YOU at Schulz Brau Brewing Company on December 15th\, from 5pm-7pm. We will have drink tickets for attendees\, prizes for the best Ugly Sweaters\, and the chance to connect with other folks who have helped make an impact through AIA East Tennessee this year!  \nFood will be available for purchase\, and your first two drinks are on us! We can’t wait to see your ugly sweaters and close out 2022 in style! 
URL:https://www.aiaetn.org/calendar/aia-east-tennessee-volunteer-appreciation-party/
LOCATION:Schulz Bräu Brewing Company\, 126 Bernard Ave\, Knoxville\, TN 37917\, USA\, 101 Bernard Ave\, United States
GEO:35.977854;-83.925561
X-APPLE-STRUCTURED-LOCATION;VALUE=URI;X-ADDRESS=Schulz Bräu Brewing Company 126 Bernard Ave Knoxville TN 37917 USA 101 Bernard Ave United States;X-APPLE-RADIUS=500;X-TITLE=101 Bernard Ave:geo:-83.925561,35.977854
END:VEVENT
BEGIN:VEVENT
DTSTART;TZID=America/New_York:20221215T160000
DTEND;TZID=America/New_York:20221215T170000
DTSTAMP:20260424T022651
CREATED:20221128T151559Z
LAST-MODIFIED:20221215T192852Z
UID:10000052-1671120000-1671123600@www.aiaetn.org
SUMMARY:Board of Directors Meeting
DESCRIPTION:
URL:https://www.aiaetn.org/calendar/board-of-directors-meeting-27/
LOCATION:Schulz Bräu Brewing Company\, 126 Bernard Ave\, Knoxville\, TN 37917\, USA\, 101 Bernard Ave\, United States
GEO:35.977854;-83.925561
X-APPLE-STRUCTURED-LOCATION;VALUE=URI;X-ADDRESS=Schulz Bräu Brewing Company 126 Bernard Ave Knoxville TN 37917 USA 101 Bernard Ave United States;X-APPLE-RADIUS=500;X-TITLE=101 Bernard Ave:geo:-83.925561,35.977854
END:VEVENT
BEGIN:VEVENT
DTSTART;TZID=America/New_York:20221122T114500
DTEND;TZID=America/New_York:20221122T130000
DTSTAMP:20260424T022651
CREATED:20221005T120332Z
LAST-MODIFIED:20221121T203003Z
UID:10000048-1669117500-1669122000@www.aiaetn.org
SUMMARY:Beka Sturges\, ASLA\, LEED EP
DESCRIPTION:Beka Sturges\, ASLA\, LEED EP with Reed Hilderbrand\, New Haven\, CT. \nTopic: Landscapes are Relationships \nTickets: https://www.aiaetn.org/2022-nov-design-feed/ \n \n \n 
URL:https://www.aiaetn.org/calendar/beka-sturges-asla-leed-ep/
LOCATION:Foundry On The Fair Site\, 747 Worlds Fair Park Dr\, Knoxville\, TN 37902\, USA\, 700 Worlds Fair Park Dr\, United States
CATEGORIES:Design Feed
GEO:35.966487;-83.924655
X-APPLE-STRUCTURED-LOCATION;VALUE=URI;X-ADDRESS=Foundry On The Fair Site 747 Worlds Fair Park Dr Knoxville TN 37902 USA 700 Worlds Fair Park Dr United States;X-APPLE-RADIUS=500;X-TITLE=700 Worlds Fair Park Dr:geo:-83.924655,35.966487
END:VEVENT
BEGIN:VEVENT
DTSTART;TZID=America/New_York:20221117T120000
DTEND;TZID=America/New_York:20221117T130000
DTSTAMP:20260424T022651
CREATED:20221005T120328Z
LAST-MODIFIED:20221115T191522Z
UID:10000024-1668686400-1668690000@www.aiaetn.org
SUMMARY:Board of Directors Meeting
DESCRIPTION:
URL:https://www.aiaetn.org/calendar/board-of-directors-meeting-2/
END:VEVENT
BEGIN:VEVENT
DTSTART;TZID=America/New_York:20221027T180000
DTEND;TZID=America/New_York:20221027T210000
DTSTAMP:20260424T022651
CREATED:20221005T120328Z
LAST-MODIFIED:20221027T133137Z
UID:10000023-1666893600-1666904400@www.aiaetn.org
SUMMARY:Design Slam! -  By Design
DESCRIPTION:Design SLAM! Knoxville is a fast-paced\, live competition focused on design thinking\, urban design and presentation. Each year\, the event pits teams of Knoxville area designers against one another to solve a local design challenge. \nTeams consisting of makers\, architectural designers\, and allied professionals will be given 1.5 hours to develop and present a solution to the audience and a panel of judges. The People’s Choice – selected by popular vote during the event – and an overall winner will be presented with custom fabricated trophies. \nWe encourage anyone interested in design and urban planning to come grab a beer\, and root for your favorite team.—Part of  BY DESIGNhttps://www.knoxbydesign.orgPresenting Sponsor: SHANNON FOSTER BOLINE GROUP—Sponsored by Proficient Engineering
URL:https://www.aiaetn.org/calendar/design-slam-by-design/
LOCATION:Printshop Beer Co.\, 1532 Island Home Ave\, Knoxville\, TN 37920\, USA
END:VEVENT
BEGIN:VEVENT
DTSTART;TZID=America/New_York:20221025T114500
DTEND;TZID=America/New_York:20221025T130000
DTSTAMP:20260424T022651
CREATED:20221005T120332Z
LAST-MODIFIED:20221024T211438Z
UID:10000047-1666698300-1666702800@www.aiaetn.org
SUMMARY:Bob Borson @ Monthly Membership Meeting
DESCRIPTION:Bob Borson\, FAIA \nLife of an Architect \nTexas \nTo Purchase Tickets: https://www.aiaetn.org/2022-october-design-feed/
URL:https://www.aiaetn.org/calendar/bob-borson-monthly-membership-meeting/
LOCATION:Foundry On The Fair Site\, 747 Worlds Fair Park Dr\, Knoxville\, TN 37902\, USA\, 700 Worlds Fair Park Dr\, United States
CATEGORIES:Design Feed
GEO:35.966487;-83.924655
X-APPLE-STRUCTURED-LOCATION;VALUE=URI;X-ADDRESS=Foundry On The Fair Site 747 Worlds Fair Park Dr Knoxville TN 37902 USA 700 Worlds Fair Park Dr United States;X-APPLE-RADIUS=500;X-TITLE=700 Worlds Fair Park Dr:geo:-83.924655,35.966487
END:VEVENT
BEGIN:VEVENT
DTSTART;TZID=America/New_York:20221022T100000
DTEND;TZID=America/New_York:20221022T120000
DTSTAMP:20260424T022651
CREATED:20221005T120328Z
LAST-MODIFIED:20221022T131420Z
UID:10000022-1666432800-1666440000@www.aiaetn.org
SUMMARY:Knoxville Bricks and Blocks
DESCRIPTION:In recognition of the 40th anniversary of the 1982 World’s Fair in Knoxville\, we invite kids\, grades K-12\, to collaborate with architects and designers to reimagine Knoxville’s signature World’s Fair tower! \nMaster Builder Certificates will be issued upon completion of the program. The event will adhere to any current Knox County regulations and CDC recommendations for indoor events involving children. \nPlease allow plenty of time to park in nearby parking garages near the St. Joseph School. (Parking Photo will be posted in this event!) \nRegistration is free and required. Visit https://www.knoxbydesign.org/knox-bricks/#blocks to reserve your child’s seat at the table. \nPart of  BY DESIGNPresenting Sponsor: SHANNON FOSTER BOLINE GROUP—Allied Partner: Beyond a Brick
URL:https://www.aiaetn.org/calendar/knoxville-bricks-and-blocks/
LOCATION:St. Joseph School\, 1810 Howard Dr\, Knoxville\, TN 37918\, USA
END:VEVENT
BEGIN:VEVENT
DTSTART;TZID=America/New_York:20221020T180000
DTEND;TZID=America/New_York:20221020T200000
DTSTAMP:20260424T022651
CREATED:20221005T120328Z
LAST-MODIFIED:20221020T130023Z
UID:10000021-1666288800-1666296000@www.aiaetn.org
SUMMARY:Knox Bricks and Brews
DESCRIPTION:Join us for a one-night-only pop-up Brick Bar. Drink\, chat\, and play with LEGO in a fun\, no-pressure atmosphere. For those that like a little competition\, LEGO builds can be entered for judging in one of several fun categories for a nominal entry fee. \nRegistration will be limited to 60 people. The event will adhere to any current Knox County regulations for dining and bar establishments. \n$15 per person.—Part of  BY DESIGNhttps://www.knoxbydesign.orgPresenting Sponsor: SHANNON FOSTER-BOLINE GROUP—Allied Partners: Beyond a Brick
URL:https://www.aiaetn.org/calendar/knox-bricks-and-brews/
LOCATION:Hi-Wire Brewing – Knoxville\, 2020 Barber St\, Knoxville\, TN 37920\, USA\, 300 Barber St\, United States
GEO:35.959696;-83.907595
X-APPLE-STRUCTURED-LOCATION;VALUE=URI;X-ADDRESS=Hi-Wire Brewing – Knoxville 2020 Barber St Knoxville TN 37920 USA 300 Barber St United States;X-APPLE-RADIUS=500;X-TITLE=300 Barber St:geo:-83.907595,35.959696
END:VEVENT
BEGIN:VEVENT
DTSTART;TZID=America/New_York:20221020T120000
DTEND;TZID=America/New_York:20221020T130000
DTSTAMP:20260424T022651
CREATED:20221005T120328Z
LAST-MODIFIED:20221020T130023Z
UID:10000020-1666267200-1666270800@www.aiaetn.org
SUMMARY:Board of Directors Meeting
DESCRIPTION:
URL:https://www.aiaetn.org/calendar/board-of-directors-meeting/
END:VEVENT
BEGIN:VEVENT
DTSTART;TZID=America/New_York:20221018T173000
DTEND;TZID=America/New_York:20221018T190000
DTSTAMP:20260424T022651
CREATED:20221005T120328Z
LAST-MODIFIED:20221018T124530Z
UID:10000019-1666114200-1666119600@www.aiaetn.org
SUMMARY:Trivia Night -  By Design
DESCRIPTION:Join us for a fun night of trivia with trivia master\, Brad Overton and put your pop-culture and regional architectural and design knowledge to the test. Custom trophies created by Derek White of Bird on the Wire Studios to be awarded to the top 3 teams. All proceeds go to support the IA Collaborative (IIDA + ASID Student Chapter at the University of Tennessee\, Knoxville College of Architecture & Design). \nThis event is open to everyone and the registration link is above or visit https://www.knoxbydesign.org/trivianight/.—Part of  BY DESIGNhttps://www.knoxbydesign.orgPresenting Sponsor: SHANNON FOSTER BOLINE GROUP—Hosted By: International Interior Design Association—Allied Partner: IA Collaborative (IIDA + ASID Student Chapter at the University of Tennessee\, Knoxville College of Architecture & Design).
URL:https://www.aiaetn.org/calendar/trivia-night-by-design/
LOCATION:Printshop Beer Co.\, 1532 Island Home Ave\, Knoxville\, TN 37920\, USA
END:VEVENT
BEGIN:VEVENT
DTSTART;TZID=America/New_York:20221007T170000
DTEND;TZID=America/New_York:20221007T203000
DTSTAMP:20260424T022651
CREATED:20221005T120328Z
LAST-MODIFIED:20221007T121414Z
UID:10000018-1665162000-1665174600@www.aiaetn.org
SUMMARY:Art Salon -  By Design
DESCRIPTION:Join us at The Emporium for our First Friday Gallery Opening celebrating the vast range of original works of art created by architects and related professionals in East Tennessee. Although this is a one-night-only event\, with delicious charcuterie and wine\, you will have a chance all month long to view the art salon pieces at The Emporium!To learn more about our other Knoxville By Design Events\, visit knoxbydesign.org.—Part of  BY DESIGNPresenting Sponsor: SHANNON FOSTER BOLINE GROUP—Sponsored by The Knoxville Museum of Art through the William Shell Endowment FundAllied Partner: CSI Knoxville Chapter
URL:https://www.aiaetn.org/calendar/art-salon-by-design/
LOCATION:Emporium Center / Arts & Culture Alliance\, 100 S Gay St\, Knoxville\, TN 37902\, USA
END:VEVENT
BEGIN:VEVENT
DTSTART;TZID=America/New_York:20221006T173000
DTEND;TZID=America/New_York:20221006T190000
DTSTAMP:20260424T022651
CREATED:20221005T120328Z
LAST-MODIFIED:20221006T121433Z
UID:10000017-1665077400-1665082800@www.aiaetn.org
SUMMARY:EP Happy Hour w/ FSA Lighting
DESCRIPTION:Join other AIA Emerging Professionals\, and FSA Lighting\, on October 6th from 5:30 pm – 7 pm at PostModern Spirits for some delicious drinks (alcoholic and na)\, and an opportunity to hang out with others in the profession.  \n \nThis event is open to all EP’s – students\, architects\, friends – yes\, even engineers! As always\, this is a social event\, so drinks first\, shop talk second. Your first two drinks are free\, thanks to our sponsor!  \n \nWe hope to see you there!
URL:https://www.aiaetn.org/calendar/ep-happy-hour-w-fsa-lighting/
LOCATION:PostModern Spirits\, 205 W Jackson Ave Suite 205\, Knoxville\, TN 37902\, USA
END:VEVENT
END:VCALENDAR