BEGIN:VCALENDAR
VERSION:2.0
PRODID:-//AIA ETN - ECPv6.15.20//NONSGML v1.0//EN
CALSCALE:GREGORIAN
METHOD:PUBLISH
X-ORIGINAL-URL:https://www.aiaetn.org
X-WR-CALDESC:Events for AIA ETN
REFRESH-INTERVAL;VALUE=DURATION:PT1H
X-Robots-Tag:noindex
X-PUBLISHED-TTL:PT1H
BEGIN:VTIMEZONE
TZID:America/New_York
BEGIN:DAYLIGHT
TZOFFSETFROM:-0500
TZOFFSETTO:-0400
TZNAME:EDT
DTSTART:20280312T070000
END:DAYLIGHT
BEGIN:STANDARD
TZOFFSETFROM:-0400
TZOFFSETTO:-0500
TZNAME:EST
DTSTART:20281105T060000
END:STANDARD
BEGIN:DAYLIGHT
TZOFFSETFROM:-0500
TZOFFSETTO:-0400
TZNAME:EDT
DTSTART:20290311T070000
END:DAYLIGHT
BEGIN:STANDARD
TZOFFSETFROM:-0400
TZOFFSETTO:-0500
TZNAME:EST
DTSTART:20291104T060000
END:STANDARD
BEGIN:DAYLIGHT
TZOFFSETFROM:-0500
TZOFFSETTO:-0400
TZNAME:EDT
DTSTART:20300310T070000
END:DAYLIGHT
BEGIN:STANDARD
TZOFFSETFROM:-0400
TZOFFSETTO:-0500
TZNAME:EST
DTSTART:20301103T060000
END:STANDARD
BEGIN:DAYLIGHT
TZOFFSETFROM:-0500
TZOFFSETTO:-0400
TZNAME:EDT
DTSTART:20310309T070000
END:DAYLIGHT
BEGIN:STANDARD
TZOFFSETFROM:-0400
TZOFFSETTO:-0500
TZNAME:EST
DTSTART:20311102T060000
END:STANDARD
BEGIN:DAYLIGHT
TZOFFSETFROM:-0500
TZOFFSETTO:-0400
TZNAME:EDT
DTSTART:20320314T070000
END:DAYLIGHT
BEGIN:STANDARD
TZOFFSETFROM:-0400
TZOFFSETTO:-0500
TZNAME:EST
DTSTART:20321107T060000
END:STANDARD
END:VTIMEZONE
BEGIN:VEVENT
DTSTART;TZID=America/New_York:20291212T130000
DTEND;TZID=America/New_York:20291212T140000
DTSTAMP:20260422T182320
CREATED:20260129T171718Z
LAST-MODIFIED:20260209T154847Z
UID:10000719-1891774800-1891778400@www.aiaetn.org
SUMMARY:Regional Affairs Committee
DESCRIPTION:The Regional Affairs Committee discusses the communities and counties in our Chapter outside of the Knox County metro and the issues facing those areas of East Tennessee. All meetings virtual unless otherwise noted.
URL:https://www.aiaetn.org/calendar/regional-affairs-committee/2029-12-12/
LOCATION:Tennessee
ATTACH;FMTTYPE=image/png:https://www.aiaetn.org/site/wp-content/uploads/2026/01/Committees-17.png
END:VEVENT
BEGIN:VEVENT
DTSTART;TZID=America/New_York:20300107T120000
DTEND;TZID=America/New_York:20300107T130000
DTSTAMP:20260422T182320
CREATED:20250703T193507Z
LAST-MODIFIED:20251203T192503Z
UID:10000540-1894017600-1894021200@www.aiaetn.org
SUMMARY:Equity\, Diversity\, & Inclusion (EDI) Committee
DESCRIPTION:Our EDI Committee’s mission is to assist other committees and the Chapter with recognizing and eliminating institutional injustice\, increasing the diversity of the profession and of future professionals\, and fostering a spirit of inclusiveness for all members\, while working to promote a completely just society for all members of our communities. \n\n\n\nThis committee meets on the first Monday of the month. If you would like to join this committee or want a link to the virtual meetings\, please contact our Chair\, Geoffrey Cavalier\, at cavaliergeoffrey@gmail.com
URL:https://www.aiaetn.org/calendar/edi_comm/2030-01-07/
LOCATION:Tennessee
CATEGORIES:Committees,EDI
ATTACH;FMTTYPE=image/png:https://www.aiaetn.org/site/wp-content/uploads/2025/07/Committees-15.png
END:VEVENT
BEGIN:VEVENT
DTSTART;TZID=America/New_York:20300109T130000
DTEND;TZID=America/New_York:20300109T140000
DTSTAMP:20260422T182320
CREATED:20260129T171718Z
LAST-MODIFIED:20260209T154847Z
UID:10000720-1894194000-1894197600@www.aiaetn.org
SUMMARY:Regional Affairs Committee
DESCRIPTION:The Regional Affairs Committee discusses the communities and counties in our Chapter outside of the Knox County metro and the issues facing those areas of East Tennessee. All meetings virtual unless otherwise noted.
URL:https://www.aiaetn.org/calendar/regional-affairs-committee/2030-01-09/
LOCATION:Tennessee
ATTACH;FMTTYPE=image/png:https://www.aiaetn.org/site/wp-content/uploads/2026/01/Committees-17.png
END:VEVENT
BEGIN:VEVENT
DTSTART;TZID=America/New_York:20300204T120000
DTEND;TZID=America/New_York:20300204T130000
DTSTAMP:20260422T182320
CREATED:20250703T193507Z
LAST-MODIFIED:20251203T192503Z
UID:10000541-1896436800-1896440400@www.aiaetn.org
SUMMARY:Equity\, Diversity\, & Inclusion (EDI) Committee
DESCRIPTION:Our EDI Committee’s mission is to assist other committees and the Chapter with recognizing and eliminating institutional injustice\, increasing the diversity of the profession and of future professionals\, and fostering a spirit of inclusiveness for all members\, while working to promote a completely just society for all members of our communities. \n\n\n\nThis committee meets on the first Monday of the month. If you would like to join this committee or want a link to the virtual meetings\, please contact our Chair\, Geoffrey Cavalier\, at cavaliergeoffrey@gmail.com
URL:https://www.aiaetn.org/calendar/edi_comm/2030-02-04/
LOCATION:Tennessee
CATEGORIES:Committees,EDI
ATTACH;FMTTYPE=image/png:https://www.aiaetn.org/site/wp-content/uploads/2025/07/Committees-15.png
END:VEVENT
BEGIN:VEVENT
DTSTART;TZID=America/New_York:20300213T130000
DTEND;TZID=America/New_York:20300213T140000
DTSTAMP:20260422T182320
CREATED:20260129T171718Z
LAST-MODIFIED:20260209T154847Z
UID:10000721-1897218000-1897221600@www.aiaetn.org
SUMMARY:Regional Affairs Committee
DESCRIPTION:The Regional Affairs Committee discusses the communities and counties in our Chapter outside of the Knox County metro and the issues facing those areas of East Tennessee. All meetings virtual unless otherwise noted.
URL:https://www.aiaetn.org/calendar/regional-affairs-committee/2030-02-13/
LOCATION:Tennessee
ATTACH;FMTTYPE=image/png:https://www.aiaetn.org/site/wp-content/uploads/2026/01/Committees-17.png
END:VEVENT
BEGIN:VEVENT
DTSTART;TZID=America/New_York:20300304T120000
DTEND;TZID=America/New_York:20300304T130000
DTSTAMP:20260422T182320
CREATED:20250703T193507Z
LAST-MODIFIED:20251203T192503Z
UID:10000542-1898856000-1898859600@www.aiaetn.org
SUMMARY:Equity\, Diversity\, & Inclusion (EDI) Committee
DESCRIPTION:Our EDI Committee’s mission is to assist other committees and the Chapter with recognizing and eliminating institutional injustice\, increasing the diversity of the profession and of future professionals\, and fostering a spirit of inclusiveness for all members\, while working to promote a completely just society for all members of our communities. \n\n\n\nThis committee meets on the first Monday of the month. If you would like to join this committee or want a link to the virtual meetings\, please contact our Chair\, Geoffrey Cavalier\, at cavaliergeoffrey@gmail.com
URL:https://www.aiaetn.org/calendar/edi_comm/2030-03-04/
LOCATION:Tennessee
CATEGORIES:Committees,EDI
ATTACH;FMTTYPE=image/png:https://www.aiaetn.org/site/wp-content/uploads/2025/07/Committees-15.png
END:VEVENT
BEGIN:VEVENT
DTSTART;TZID=America/New_York:20300313T130000
DTEND;TZID=America/New_York:20300313T140000
DTSTAMP:20260422T182320
CREATED:20260129T171718Z
LAST-MODIFIED:20260209T154847Z
UID:10000722-1899637200-1899640800@www.aiaetn.org
SUMMARY:Regional Affairs Committee
DESCRIPTION:The Regional Affairs Committee discusses the communities and counties in our Chapter outside of the Knox County metro and the issues facing those areas of East Tennessee. All meetings virtual unless otherwise noted.
URL:https://www.aiaetn.org/calendar/regional-affairs-committee/2030-03-13/
LOCATION:Tennessee
ATTACH;FMTTYPE=image/png:https://www.aiaetn.org/site/wp-content/uploads/2026/01/Committees-17.png
END:VEVENT
BEGIN:VEVENT
DTSTART;TZID=America/New_York:20300401T120000
DTEND;TZID=America/New_York:20300401T130000
DTSTAMP:20260422T182320
CREATED:20250703T193507Z
LAST-MODIFIED:20251203T192503Z
UID:10000543-1901275200-1901278800@www.aiaetn.org
SUMMARY:Equity\, Diversity\, & Inclusion (EDI) Committee
DESCRIPTION:Our EDI Committee’s mission is to assist other committees and the Chapter with recognizing and eliminating institutional injustice\, increasing the diversity of the profession and of future professionals\, and fostering a spirit of inclusiveness for all members\, while working to promote a completely just society for all members of our communities. \n\n\n\nThis committee meets on the first Monday of the month. If you would like to join this committee or want a link to the virtual meetings\, please contact our Chair\, Geoffrey Cavalier\, at cavaliergeoffrey@gmail.com
URL:https://www.aiaetn.org/calendar/edi_comm/2030-04-01/
LOCATION:Tennessee
CATEGORIES:Committees,EDI
ATTACH;FMTTYPE=image/png:https://www.aiaetn.org/site/wp-content/uploads/2025/07/Committees-15.png
END:VEVENT
BEGIN:VEVENT
DTSTART;TZID=America/New_York:20300410T130000
DTEND;TZID=America/New_York:20300410T140000
DTSTAMP:20260422T182320
CREATED:20260129T171718Z
LAST-MODIFIED:20260209T154847Z
UID:10000723-1902056400-1902060000@www.aiaetn.org
SUMMARY:Regional Affairs Committee
DESCRIPTION:The Regional Affairs Committee discusses the communities and counties in our Chapter outside of the Knox County metro and the issues facing those areas of East Tennessee. All meetings virtual unless otherwise noted.
URL:https://www.aiaetn.org/calendar/regional-affairs-committee/2030-04-10/
LOCATION:Tennessee
ATTACH;FMTTYPE=image/png:https://www.aiaetn.org/site/wp-content/uploads/2026/01/Committees-17.png
END:VEVENT
BEGIN:VEVENT
DTSTART;TZID=America/New_York:20300506T120000
DTEND;TZID=America/New_York:20300506T130000
DTSTAMP:20260422T182320
CREATED:20250703T193507Z
LAST-MODIFIED:20251203T192503Z
UID:10000544-1904299200-1904302800@www.aiaetn.org
SUMMARY:Equity\, Diversity\, & Inclusion (EDI) Committee
DESCRIPTION:Our EDI Committee’s mission is to assist other committees and the Chapter with recognizing and eliminating institutional injustice\, increasing the diversity of the profession and of future professionals\, and fostering a spirit of inclusiveness for all members\, while working to promote a completely just society for all members of our communities. \n\n\n\nThis committee meets on the first Monday of the month. If you would like to join this committee or want a link to the virtual meetings\, please contact our Chair\, Geoffrey Cavalier\, at cavaliergeoffrey@gmail.com
URL:https://www.aiaetn.org/calendar/edi_comm/2030-05-06/
LOCATION:Tennessee
CATEGORIES:Committees,EDI
ATTACH;FMTTYPE=image/png:https://www.aiaetn.org/site/wp-content/uploads/2025/07/Committees-15.png
END:VEVENT
BEGIN:VEVENT
DTSTART;TZID=America/New_York:20300508T130000
DTEND;TZID=America/New_York:20300508T140000
DTSTAMP:20260422T182320
CREATED:20260129T171718Z
LAST-MODIFIED:20260209T154847Z
UID:10000724-1904475600-1904479200@www.aiaetn.org
SUMMARY:Regional Affairs Committee
DESCRIPTION:The Regional Affairs Committee discusses the communities and counties in our Chapter outside of the Knox County metro and the issues facing those areas of East Tennessee. All meetings virtual unless otherwise noted.
URL:https://www.aiaetn.org/calendar/regional-affairs-committee/2030-05-08/
LOCATION:Tennessee
ATTACH;FMTTYPE=image/png:https://www.aiaetn.org/site/wp-content/uploads/2026/01/Committees-17.png
END:VEVENT
BEGIN:VEVENT
DTSTART;TZID=America/New_York:20300603T120000
DTEND;TZID=America/New_York:20300603T130000
DTSTAMP:20260422T182320
CREATED:20250703T193507Z
LAST-MODIFIED:20251203T192503Z
UID:10000545-1906718400-1906722000@www.aiaetn.org
SUMMARY:Equity\, Diversity\, & Inclusion (EDI) Committee
DESCRIPTION:Our EDI Committee’s mission is to assist other committees and the Chapter with recognizing and eliminating institutional injustice\, increasing the diversity of the profession and of future professionals\, and fostering a spirit of inclusiveness for all members\, while working to promote a completely just society for all members of our communities. \n\n\n\nThis committee meets on the first Monday of the month. If you would like to join this committee or want a link to the virtual meetings\, please contact our Chair\, Geoffrey Cavalier\, at cavaliergeoffrey@gmail.com
URL:https://www.aiaetn.org/calendar/edi_comm/2030-06-03/
LOCATION:Tennessee
CATEGORIES:Committees,EDI
ATTACH;FMTTYPE=image/png:https://www.aiaetn.org/site/wp-content/uploads/2025/07/Committees-15.png
END:VEVENT
BEGIN:VEVENT
DTSTART;TZID=America/New_York:20300612T130000
DTEND;TZID=America/New_York:20300612T140000
DTSTAMP:20260422T182320
CREATED:20260129T171718Z
LAST-MODIFIED:20260209T154847Z
UID:10000725-1907499600-1907503200@www.aiaetn.org
SUMMARY:Regional Affairs Committee
DESCRIPTION:The Regional Affairs Committee discusses the communities and counties in our Chapter outside of the Knox County metro and the issues facing those areas of East Tennessee. All meetings virtual unless otherwise noted.
URL:https://www.aiaetn.org/calendar/regional-affairs-committee/2030-06-12/
LOCATION:Tennessee
ATTACH;FMTTYPE=image/png:https://www.aiaetn.org/site/wp-content/uploads/2026/01/Committees-17.png
END:VEVENT
BEGIN:VEVENT
DTSTART;TZID=America/New_York:20300701T120000
DTEND;TZID=America/New_York:20300701T130000
DTSTAMP:20260422T182320
CREATED:20250703T193507Z
LAST-MODIFIED:20251203T192503Z
UID:10000546-1909137600-1909141200@www.aiaetn.org
SUMMARY:Equity\, Diversity\, & Inclusion (EDI) Committee
DESCRIPTION:Our EDI Committee’s mission is to assist other committees and the Chapter with recognizing and eliminating institutional injustice\, increasing the diversity of the profession and of future professionals\, and fostering a spirit of inclusiveness for all members\, while working to promote a completely just society for all members of our communities. \n\n\n\nThis committee meets on the first Monday of the month. If you would like to join this committee or want a link to the virtual meetings\, please contact our Chair\, Geoffrey Cavalier\, at cavaliergeoffrey@gmail.com
URL:https://www.aiaetn.org/calendar/edi_comm/2030-07-01/
LOCATION:Tennessee
CATEGORIES:Committees,EDI
ATTACH;FMTTYPE=image/png:https://www.aiaetn.org/site/wp-content/uploads/2025/07/Committees-15.png
END:VEVENT
BEGIN:VEVENT
DTSTART;TZID=America/New_York:20300710T130000
DTEND;TZID=America/New_York:20300710T140000
DTSTAMP:20260422T182320
CREATED:20260129T171718Z
LAST-MODIFIED:20260209T154847Z
UID:10000726-1909918800-1909922400@www.aiaetn.org
SUMMARY:Regional Affairs Committee
DESCRIPTION:The Regional Affairs Committee discusses the communities and counties in our Chapter outside of the Knox County metro and the issues facing those areas of East Tennessee. All meetings virtual unless otherwise noted.
URL:https://www.aiaetn.org/calendar/regional-affairs-committee/2030-07-10/
LOCATION:Tennessee
ATTACH;FMTTYPE=image/png:https://www.aiaetn.org/site/wp-content/uploads/2026/01/Committees-17.png
END:VEVENT
BEGIN:VEVENT
DTSTART;TZID=America/New_York:20300805T120000
DTEND;TZID=America/New_York:20300805T130000
DTSTAMP:20260422T182320
CREATED:20250703T193507Z
LAST-MODIFIED:20251203T192503Z
UID:10000587-1912161600-1912165200@www.aiaetn.org
SUMMARY:Equity\, Diversity\, & Inclusion (EDI) Committee
DESCRIPTION:Our EDI Committee’s mission is to assist other committees and the Chapter with recognizing and eliminating institutional injustice\, increasing the diversity of the profession and of future professionals\, and fostering a spirit of inclusiveness for all members\, while working to promote a completely just society for all members of our communities. \n\n\n\nThis committee meets on the first Monday of the month. If you would like to join this committee or want a link to the virtual meetings\, please contact our Chair\, Geoffrey Cavalier\, at cavaliergeoffrey@gmail.com
URL:https://www.aiaetn.org/calendar/edi_comm/2030-08-05/
LOCATION:Tennessee
CATEGORIES:Committees,EDI
ATTACH;FMTTYPE=image/png:https://www.aiaetn.org/site/wp-content/uploads/2025/07/Committees-15.png
END:VEVENT
BEGIN:VEVENT
DTSTART;TZID=America/New_York:20300814T130000
DTEND;TZID=America/New_York:20300814T140000
DTSTAMP:20260422T182320
CREATED:20260129T171718Z
LAST-MODIFIED:20260209T154847Z
UID:10000727-1912942800-1912946400@www.aiaetn.org
SUMMARY:Regional Affairs Committee
DESCRIPTION:The Regional Affairs Committee discusses the communities and counties in our Chapter outside of the Knox County metro and the issues facing those areas of East Tennessee. All meetings virtual unless otherwise noted.
URL:https://www.aiaetn.org/calendar/regional-affairs-committee/2030-08-14/
LOCATION:Tennessee
ATTACH;FMTTYPE=image/png:https://www.aiaetn.org/site/wp-content/uploads/2026/01/Committees-17.png
END:VEVENT
BEGIN:VEVENT
DTSTART;TZID=America/New_York:20300902T120000
DTEND;TZID=America/New_York:20300902T130000
DTSTAMP:20260422T182320
CREATED:20250703T193507Z
LAST-MODIFIED:20251203T192503Z
UID:10000588-1914580800-1914584400@www.aiaetn.org
SUMMARY:Equity\, Diversity\, & Inclusion (EDI) Committee
DESCRIPTION:Our EDI Committee’s mission is to assist other committees and the Chapter with recognizing and eliminating institutional injustice\, increasing the diversity of the profession and of future professionals\, and fostering a spirit of inclusiveness for all members\, while working to promote a completely just society for all members of our communities. \n\n\n\nThis committee meets on the first Monday of the month. If you would like to join this committee or want a link to the virtual meetings\, please contact our Chair\, Geoffrey Cavalier\, at cavaliergeoffrey@gmail.com
URL:https://www.aiaetn.org/calendar/edi_comm/2030-09-02/
LOCATION:Tennessee
CATEGORIES:Committees,EDI
ATTACH;FMTTYPE=image/png:https://www.aiaetn.org/site/wp-content/uploads/2025/07/Committees-15.png
END:VEVENT
BEGIN:VEVENT
DTSTART;TZID=America/New_York:20300911T130000
DTEND;TZID=America/New_York:20300911T140000
DTSTAMP:20260422T182320
CREATED:20260129T171718Z
LAST-MODIFIED:20260209T154847Z
UID:10000728-1915362000-1915365600@www.aiaetn.org
SUMMARY:Regional Affairs Committee
DESCRIPTION:The Regional Affairs Committee discusses the communities and counties in our Chapter outside of the Knox County metro and the issues facing those areas of East Tennessee. All meetings virtual unless otherwise noted.
URL:https://www.aiaetn.org/calendar/regional-affairs-committee/2030-09-11/
LOCATION:Tennessee
ATTACH;FMTTYPE=image/png:https://www.aiaetn.org/site/wp-content/uploads/2026/01/Committees-17.png
END:VEVENT
BEGIN:VEVENT
DTSTART;TZID=America/New_York:20301007T120000
DTEND;TZID=America/New_York:20301007T130000
DTSTAMP:20260422T182320
CREATED:20250703T193507Z
LAST-MODIFIED:20251203T192503Z
UID:10000589-1917604800-1917608400@www.aiaetn.org
SUMMARY:Equity\, Diversity\, & Inclusion (EDI) Committee
DESCRIPTION:Our EDI Committee’s mission is to assist other committees and the Chapter with recognizing and eliminating institutional injustice\, increasing the diversity of the profession and of future professionals\, and fostering a spirit of inclusiveness for all members\, while working to promote a completely just society for all members of our communities. \n\n\n\nThis committee meets on the first Monday of the month. If you would like to join this committee or want a link to the virtual meetings\, please contact our Chair\, Geoffrey Cavalier\, at cavaliergeoffrey@gmail.com
URL:https://www.aiaetn.org/calendar/edi_comm/2030-10-07/
LOCATION:Tennessee
CATEGORIES:Committees,EDI
ATTACH;FMTTYPE=image/png:https://www.aiaetn.org/site/wp-content/uploads/2025/07/Committees-15.png
END:VEVENT
BEGIN:VEVENT
DTSTART;TZID=America/New_York:20301009T130000
DTEND;TZID=America/New_York:20301009T140000
DTSTAMP:20260422T182320
CREATED:20260129T171718Z
LAST-MODIFIED:20260209T154847Z
UID:10000729-1917781200-1917784800@www.aiaetn.org
SUMMARY:Regional Affairs Committee
DESCRIPTION:The Regional Affairs Committee discusses the communities and counties in our Chapter outside of the Knox County metro and the issues facing those areas of East Tennessee. All meetings virtual unless otherwise noted.
URL:https://www.aiaetn.org/calendar/regional-affairs-committee/2030-10-09/
LOCATION:Tennessee
ATTACH;FMTTYPE=image/png:https://www.aiaetn.org/site/wp-content/uploads/2026/01/Committees-17.png
END:VEVENT
BEGIN:VEVENT
DTSTART;TZID=America/New_York:20301104T120000
DTEND;TZID=America/New_York:20301104T130000
DTSTAMP:20260422T182320
CREATED:20250703T193507Z
LAST-MODIFIED:20251203T192503Z
UID:10000590-1920024000-1920027600@www.aiaetn.org
SUMMARY:Equity\, Diversity\, & Inclusion (EDI) Committee
DESCRIPTION:Our EDI Committee’s mission is to assist other committees and the Chapter with recognizing and eliminating institutional injustice\, increasing the diversity of the profession and of future professionals\, and fostering a spirit of inclusiveness for all members\, while working to promote a completely just society for all members of our communities. \n\n\n\nThis committee meets on the first Monday of the month. If you would like to join this committee or want a link to the virtual meetings\, please contact our Chair\, Geoffrey Cavalier\, at cavaliergeoffrey@gmail.com
URL:https://www.aiaetn.org/calendar/edi_comm/2030-11-04/
LOCATION:Tennessee
CATEGORIES:Committees,EDI
ATTACH;FMTTYPE=image/png:https://www.aiaetn.org/site/wp-content/uploads/2025/07/Committees-15.png
END:VEVENT
BEGIN:VEVENT
DTSTART;TZID=America/New_York:20301113T130000
DTEND;TZID=America/New_York:20301113T140000
DTSTAMP:20260422T182320
CREATED:20260129T171718Z
LAST-MODIFIED:20260209T154847Z
UID:10000730-1920805200-1920808800@www.aiaetn.org
SUMMARY:Regional Affairs Committee
DESCRIPTION:The Regional Affairs Committee discusses the communities and counties in our Chapter outside of the Knox County metro and the issues facing those areas of East Tennessee. All meetings virtual unless otherwise noted.
URL:https://www.aiaetn.org/calendar/regional-affairs-committee/2030-11-13/
LOCATION:Tennessee
ATTACH;FMTTYPE=image/png:https://www.aiaetn.org/site/wp-content/uploads/2026/01/Committees-17.png
END:VEVENT
BEGIN:VEVENT
DTSTART;TZID=America/New_York:20301202T120000
DTEND;TZID=America/New_York:20301202T130000
DTSTAMP:20260422T182320
CREATED:20250703T193507Z
LAST-MODIFIED:20251203T192503Z
UID:10000591-1922443200-1922446800@www.aiaetn.org
SUMMARY:Equity\, Diversity\, & Inclusion (EDI) Committee
DESCRIPTION:Our EDI Committee’s mission is to assist other committees and the Chapter with recognizing and eliminating institutional injustice\, increasing the diversity of the profession and of future professionals\, and fostering a spirit of inclusiveness for all members\, while working to promote a completely just society for all members of our communities. \n\n\n\nThis committee meets on the first Monday of the month. If you would like to join this committee or want a link to the virtual meetings\, please contact our Chair\, Geoffrey Cavalier\, at cavaliergeoffrey@gmail.com
URL:https://www.aiaetn.org/calendar/edi_comm/2030-12-02/
LOCATION:Tennessee
CATEGORIES:Committees,EDI
ATTACH;FMTTYPE=image/png:https://www.aiaetn.org/site/wp-content/uploads/2025/07/Committees-15.png
END:VEVENT
BEGIN:VEVENT
DTSTART;TZID=America/New_York:20301211T130000
DTEND;TZID=America/New_York:20301211T140000
DTSTAMP:20260422T182320
CREATED:20260129T171718Z
LAST-MODIFIED:20260209T154847Z
UID:10000731-1923224400-1923228000@www.aiaetn.org
SUMMARY:Regional Affairs Committee
DESCRIPTION:The Regional Affairs Committee discusses the communities and counties in our Chapter outside of the Knox County metro and the issues facing those areas of East Tennessee. All meetings virtual unless otherwise noted.
URL:https://www.aiaetn.org/calendar/regional-affairs-committee/2030-12-11/
LOCATION:Tennessee
ATTACH;FMTTYPE=image/png:https://www.aiaetn.org/site/wp-content/uploads/2026/01/Committees-17.png
END:VEVENT
BEGIN:VEVENT
DTSTART;TZID=America/New_York:20310106T120000
DTEND;TZID=America/New_York:20310106T130000
DTSTAMP:20260422T182320
CREATED:20250703T193507Z
LAST-MODIFIED:20251203T192503Z
UID:10000737-1925467200-1925470800@www.aiaetn.org
SUMMARY:Equity\, Diversity\, & Inclusion (EDI) Committee
DESCRIPTION:Our EDI Committee’s mission is to assist other committees and the Chapter with recognizing and eliminating institutional injustice\, increasing the diversity of the profession and of future professionals\, and fostering a spirit of inclusiveness for all members\, while working to promote a completely just society for all members of our communities. \n\n\n\nThis committee meets on the first Monday of the month. If you would like to join this committee or want a link to the virtual meetings\, please contact our Chair\, Geoffrey Cavalier\, at cavaliergeoffrey@gmail.com
URL:https://www.aiaetn.org/calendar/edi_comm/2031-01-06/
LOCATION:Tennessee
CATEGORIES:Committees,EDI
ATTACH;FMTTYPE=image/png:https://www.aiaetn.org/site/wp-content/uploads/2025/07/Committees-15.png
END:VEVENT
BEGIN:VEVENT
DTSTART;TZID=America/New_York:20310108T130000
DTEND;TZID=America/New_York:20310108T140000
DTSTAMP:20260422T182320
CREATED:20260129T171718Z
LAST-MODIFIED:20260209T154847Z
UID:10000732-1925643600-1925647200@www.aiaetn.org
SUMMARY:Regional Affairs Committee
DESCRIPTION:The Regional Affairs Committee discusses the communities and counties in our Chapter outside of the Knox County metro and the issues facing those areas of East Tennessee. All meetings virtual unless otherwise noted.
URL:https://www.aiaetn.org/calendar/regional-affairs-committee/2031-01-08/
LOCATION:Tennessee
ATTACH;FMTTYPE=image/png:https://www.aiaetn.org/site/wp-content/uploads/2026/01/Committees-17.png
END:VEVENT
BEGIN:VEVENT
DTSTART;TZID=America/New_York:20310203T120000
DTEND;TZID=America/New_York:20310203T130000
DTSTAMP:20260422T182320
CREATED:20250703T193507Z
LAST-MODIFIED:20251203T192503Z
UID:10000738-1927886400-1927890000@www.aiaetn.org
SUMMARY:Equity\, Diversity\, & Inclusion (EDI) Committee
DESCRIPTION:Our EDI Committee’s mission is to assist other committees and the Chapter with recognizing and eliminating institutional injustice\, increasing the diversity of the profession and of future professionals\, and fostering a spirit of inclusiveness for all members\, while working to promote a completely just society for all members of our communities. \n\n\n\nThis committee meets on the first Monday of the month. If you would like to join this committee or want a link to the virtual meetings\, please contact our Chair\, Geoffrey Cavalier\, at cavaliergeoffrey@gmail.com
URL:https://www.aiaetn.org/calendar/edi_comm/2031-02-03/
LOCATION:Tennessee
CATEGORIES:Committees,EDI
ATTACH;FMTTYPE=image/png:https://www.aiaetn.org/site/wp-content/uploads/2025/07/Committees-15.png
END:VEVENT
END:VCALENDAR