BEGIN:VCALENDAR
VERSION:2.0
PRODID:-//AIA ETN - ECPv6.15.20//NONSGML v1.0//EN
CALSCALE:GREGORIAN
METHOD:PUBLISH
X-ORIGINAL-URL:https://www.aiaetn.org
X-WR-CALDESC:Events for AIA ETN
REFRESH-INTERVAL;VALUE=DURATION:PT1H
X-Robots-Tag:noindex
X-PUBLISHED-TTL:PT1H
BEGIN:VTIMEZONE
TZID:America/New_York
BEGIN:DAYLIGHT
TZOFFSETFROM:-0500
TZOFFSETTO:-0400
TZNAME:EDT
DTSTART:20270314T070000
END:DAYLIGHT
BEGIN:STANDARD
TZOFFSETFROM:-0400
TZOFFSETTO:-0500
TZNAME:EST
DTSTART:20271107T060000
END:STANDARD
BEGIN:DAYLIGHT
TZOFFSETFROM:-0500
TZOFFSETTO:-0400
TZNAME:EDT
DTSTART:20280312T070000
END:DAYLIGHT
BEGIN:STANDARD
TZOFFSETFROM:-0400
TZOFFSETTO:-0500
TZNAME:EST
DTSTART:20281105T060000
END:STANDARD
BEGIN:DAYLIGHT
TZOFFSETFROM:-0500
TZOFFSETTO:-0400
TZNAME:EDT
DTSTART:20290311T070000
END:DAYLIGHT
BEGIN:STANDARD
TZOFFSETFROM:-0400
TZOFFSETTO:-0500
TZNAME:EST
DTSTART:20291104T060000
END:STANDARD
BEGIN:DAYLIGHT
TZOFFSETFROM:-0500
TZOFFSETTO:-0400
TZNAME:EDT
DTSTART:20300310T070000
END:DAYLIGHT
BEGIN:STANDARD
TZOFFSETFROM:-0400
TZOFFSETTO:-0500
TZNAME:EST
DTSTART:20301103T060000
END:STANDARD
END:VTIMEZONE
BEGIN:VEVENT
DTSTART;TZID=America/New_York:20280703T120000
DTEND;TZID=America/New_York:20280703T130000
DTSTAMP:20260421T223536
CREATED:20250703T193507Z
LAST-MODIFIED:20251203T192503Z
UID:10000522-1846238400-1846242000@www.aiaetn.org
SUMMARY:Equity\, Diversity\, & Inclusion (EDI) Committee
DESCRIPTION:Our EDI Committee’s mission is to assist other committees and the Chapter with recognizing and eliminating institutional injustice\, increasing the diversity of the profession and of future professionals\, and fostering a spirit of inclusiveness for all members\, while working to promote a completely just society for all members of our communities. \n\n\n\nThis committee meets on the first Monday of the month. If you would like to join this committee or want a link to the virtual meetings\, please contact our Chair\, Geoffrey Cavalier\, at cavaliergeoffrey@gmail.com
URL:https://www.aiaetn.org/calendar/edi_comm/2028-07-03/
CATEGORIES:Committees,EDI
ATTACH;FMTTYPE=image/png:https://www.aiaetn.org/site/wp-content/uploads/2025/07/Committees-15.png
END:VEVENT
BEGIN:VEVENT
DTSTART;TZID=America/New_York:20280712T130000
DTEND;TZID=America/New_York:20280712T140000
DTSTAMP:20260421T223536
CREATED:20260129T171718Z
LAST-MODIFIED:20260209T154847Z
UID:10000702-1847019600-1847023200@www.aiaetn.org
SUMMARY:Regional Affairs Committee
DESCRIPTION:The Regional Affairs Committee discusses the communities and counties in our Chapter outside of the Knox County metro and the issues facing those areas of East Tennessee. All meetings virtual unless otherwise noted.
URL:https://www.aiaetn.org/calendar/regional-affairs-committee/2028-07-12/
ATTACH;FMTTYPE=image/png:https://www.aiaetn.org/site/wp-content/uploads/2026/01/Committees-17.png
END:VEVENT
BEGIN:VEVENT
DTSTART;TZID=America/New_York:20280807T120000
DTEND;TZID=America/New_York:20280807T130000
DTSTAMP:20260421T223536
CREATED:20250703T193507Z
LAST-MODIFIED:20251203T192503Z
UID:10000523-1849262400-1849266000@www.aiaetn.org
SUMMARY:Equity\, Diversity\, & Inclusion (EDI) Committee
DESCRIPTION:Our EDI Committee’s mission is to assist other committees and the Chapter with recognizing and eliminating institutional injustice\, increasing the diversity of the profession and of future professionals\, and fostering a spirit of inclusiveness for all members\, while working to promote a completely just society for all members of our communities. \n\n\n\nThis committee meets on the first Monday of the month. If you would like to join this committee or want a link to the virtual meetings\, please contact our Chair\, Geoffrey Cavalier\, at cavaliergeoffrey@gmail.com
URL:https://www.aiaetn.org/calendar/edi_comm/2028-08-07/
CATEGORIES:Committees,EDI
ATTACH;FMTTYPE=image/png:https://www.aiaetn.org/site/wp-content/uploads/2025/07/Committees-15.png
END:VEVENT
BEGIN:VEVENT
DTSTART;TZID=America/New_York:20280809T130000
DTEND;TZID=America/New_York:20280809T140000
DTSTAMP:20260421T223536
CREATED:20260129T171718Z
LAST-MODIFIED:20260209T154847Z
UID:10000703-1849438800-1849442400@www.aiaetn.org
SUMMARY:Regional Affairs Committee
DESCRIPTION:The Regional Affairs Committee discusses the communities and counties in our Chapter outside of the Knox County metro and the issues facing those areas of East Tennessee. All meetings virtual unless otherwise noted.
URL:https://www.aiaetn.org/calendar/regional-affairs-committee/2028-08-09/
ATTACH;FMTTYPE=image/png:https://www.aiaetn.org/site/wp-content/uploads/2026/01/Committees-17.png
END:VEVENT
BEGIN:VEVENT
DTSTART;TZID=America/New_York:20280904T120000
DTEND;TZID=America/New_York:20280904T130000
DTSTAMP:20260421T223536
CREATED:20250703T193507Z
LAST-MODIFIED:20251203T192503Z
UID:10000524-1851681600-1851685200@www.aiaetn.org
SUMMARY:Equity\, Diversity\, & Inclusion (EDI) Committee
DESCRIPTION:Our EDI Committee’s mission is to assist other committees and the Chapter with recognizing and eliminating institutional injustice\, increasing the diversity of the profession and of future professionals\, and fostering a spirit of inclusiveness for all members\, while working to promote a completely just society for all members of our communities. \n\n\n\nThis committee meets on the first Monday of the month. If you would like to join this committee or want a link to the virtual meetings\, please contact our Chair\, Geoffrey Cavalier\, at cavaliergeoffrey@gmail.com
URL:https://www.aiaetn.org/calendar/edi_comm/2028-09-04/
CATEGORIES:Committees,EDI
ATTACH;FMTTYPE=image/png:https://www.aiaetn.org/site/wp-content/uploads/2025/07/Committees-15.png
END:VEVENT
BEGIN:VEVENT
DTSTART;TZID=America/New_York:20280913T130000
DTEND;TZID=America/New_York:20280913T140000
DTSTAMP:20260421T223536
CREATED:20260129T171718Z
LAST-MODIFIED:20260209T154847Z
UID:10000704-1852462800-1852466400@www.aiaetn.org
SUMMARY:Regional Affairs Committee
DESCRIPTION:The Regional Affairs Committee discusses the communities and counties in our Chapter outside of the Knox County metro and the issues facing those areas of East Tennessee. All meetings virtual unless otherwise noted.
URL:https://www.aiaetn.org/calendar/regional-affairs-committee/2028-09-13/
ATTACH;FMTTYPE=image/png:https://www.aiaetn.org/site/wp-content/uploads/2026/01/Committees-17.png
END:VEVENT
BEGIN:VEVENT
DTSTART;TZID=America/New_York:20281002T120000
DTEND;TZID=America/New_York:20281002T130000
DTSTAMP:20260421T223536
CREATED:20250703T193507Z
LAST-MODIFIED:20251203T192503Z
UID:10000525-1854100800-1854104400@www.aiaetn.org
SUMMARY:Equity\, Diversity\, & Inclusion (EDI) Committee
DESCRIPTION:Our EDI Committee’s mission is to assist other committees and the Chapter with recognizing and eliminating institutional injustice\, increasing the diversity of the profession and of future professionals\, and fostering a spirit of inclusiveness for all members\, while working to promote a completely just society for all members of our communities. \n\n\n\nThis committee meets on the first Monday of the month. If you would like to join this committee or want a link to the virtual meetings\, please contact our Chair\, Geoffrey Cavalier\, at cavaliergeoffrey@gmail.com
URL:https://www.aiaetn.org/calendar/edi_comm/2028-10-02/
CATEGORIES:Committees,EDI
ATTACH;FMTTYPE=image/png:https://www.aiaetn.org/site/wp-content/uploads/2025/07/Committees-15.png
END:VEVENT
BEGIN:VEVENT
DTSTART;TZID=America/New_York:20281011T130000
DTEND;TZID=America/New_York:20281011T140000
DTSTAMP:20260421T223536
CREATED:20260129T171718Z
LAST-MODIFIED:20260209T154847Z
UID:10000705-1854882000-1854885600@www.aiaetn.org
SUMMARY:Regional Affairs Committee
DESCRIPTION:The Regional Affairs Committee discusses the communities and counties in our Chapter outside of the Knox County metro and the issues facing those areas of East Tennessee. All meetings virtual unless otherwise noted.
URL:https://www.aiaetn.org/calendar/regional-affairs-committee/2028-10-11/
ATTACH;FMTTYPE=image/png:https://www.aiaetn.org/site/wp-content/uploads/2026/01/Committees-17.png
END:VEVENT
BEGIN:VEVENT
DTSTART;TZID=America/New_York:20281106T120000
DTEND;TZID=America/New_York:20281106T130000
DTSTAMP:20260421T223536
CREATED:20250703T193507Z
LAST-MODIFIED:20251203T192503Z
UID:10000526-1857124800-1857128400@www.aiaetn.org
SUMMARY:Equity\, Diversity\, & Inclusion (EDI) Committee
DESCRIPTION:Our EDI Committee’s mission is to assist other committees and the Chapter with recognizing and eliminating institutional injustice\, increasing the diversity of the profession and of future professionals\, and fostering a spirit of inclusiveness for all members\, while working to promote a completely just society for all members of our communities. \n\n\n\nThis committee meets on the first Monday of the month. If you would like to join this committee or want a link to the virtual meetings\, please contact our Chair\, Geoffrey Cavalier\, at cavaliergeoffrey@gmail.com
URL:https://www.aiaetn.org/calendar/edi_comm/2028-11-06/
CATEGORIES:Committees,EDI
ATTACH;FMTTYPE=image/png:https://www.aiaetn.org/site/wp-content/uploads/2025/07/Committees-15.png
END:VEVENT
BEGIN:VEVENT
DTSTART;TZID=America/New_York:20281108T130000
DTEND;TZID=America/New_York:20281108T140000
DTSTAMP:20260421T223536
CREATED:20260129T171718Z
LAST-MODIFIED:20260209T154847Z
UID:10000706-1857301200-1857304800@www.aiaetn.org
SUMMARY:Regional Affairs Committee
DESCRIPTION:The Regional Affairs Committee discusses the communities and counties in our Chapter outside of the Knox County metro and the issues facing those areas of East Tennessee. All meetings virtual unless otherwise noted.
URL:https://www.aiaetn.org/calendar/regional-affairs-committee/2028-11-08/
ATTACH;FMTTYPE=image/png:https://www.aiaetn.org/site/wp-content/uploads/2026/01/Committees-17.png
END:VEVENT
BEGIN:VEVENT
DTSTART;TZID=America/New_York:20281204T120000
DTEND;TZID=America/New_York:20281204T130000
DTSTAMP:20260421T223536
CREATED:20250703T193507Z
LAST-MODIFIED:20251203T192503Z
UID:10000527-1859544000-1859547600@www.aiaetn.org
SUMMARY:Equity\, Diversity\, & Inclusion (EDI) Committee
DESCRIPTION:Our EDI Committee’s mission is to assist other committees and the Chapter with recognizing and eliminating institutional injustice\, increasing the diversity of the profession and of future professionals\, and fostering a spirit of inclusiveness for all members\, while working to promote a completely just society for all members of our communities. \n\n\n\nThis committee meets on the first Monday of the month. If you would like to join this committee or want a link to the virtual meetings\, please contact our Chair\, Geoffrey Cavalier\, at cavaliergeoffrey@gmail.com
URL:https://www.aiaetn.org/calendar/edi_comm/2028-12-04/
CATEGORIES:Committees,EDI
ATTACH;FMTTYPE=image/png:https://www.aiaetn.org/site/wp-content/uploads/2025/07/Committees-15.png
END:VEVENT
BEGIN:VEVENT
DTSTART;TZID=America/New_York:20281213T130000
DTEND;TZID=America/New_York:20281213T140000
DTSTAMP:20260421T223536
CREATED:20260129T171718Z
LAST-MODIFIED:20260209T154847Z
UID:10000707-1860325200-1860328800@www.aiaetn.org
SUMMARY:Regional Affairs Committee
DESCRIPTION:The Regional Affairs Committee discusses the communities and counties in our Chapter outside of the Knox County metro and the issues facing those areas of East Tennessee. All meetings virtual unless otherwise noted.
URL:https://www.aiaetn.org/calendar/regional-affairs-committee/2028-12-13/
ATTACH;FMTTYPE=image/png:https://www.aiaetn.org/site/wp-content/uploads/2026/01/Committees-17.png
END:VEVENT
BEGIN:VEVENT
DTSTART;TZID=America/New_York:20290101T120000
DTEND;TZID=America/New_York:20290101T130000
DTSTAMP:20260421T223536
CREATED:20250703T193507Z
LAST-MODIFIED:20251203T192503Z
UID:10000528-1861963200-1861966800@www.aiaetn.org
SUMMARY:Equity\, Diversity\, & Inclusion (EDI) Committee
DESCRIPTION:Our EDI Committee’s mission is to assist other committees and the Chapter with recognizing and eliminating institutional injustice\, increasing the diversity of the profession and of future professionals\, and fostering a spirit of inclusiveness for all members\, while working to promote a completely just society for all members of our communities. \n\n\n\nThis committee meets on the first Monday of the month. If you would like to join this committee or want a link to the virtual meetings\, please contact our Chair\, Geoffrey Cavalier\, at cavaliergeoffrey@gmail.com
URL:https://www.aiaetn.org/calendar/edi_comm/2029-01-01/
CATEGORIES:Committees,EDI
ATTACH;FMTTYPE=image/png:https://www.aiaetn.org/site/wp-content/uploads/2025/07/Committees-15.png
END:VEVENT
BEGIN:VEVENT
DTSTART;TZID=America/New_York:20290110T130000
DTEND;TZID=America/New_York:20290110T140000
DTSTAMP:20260421T223536
CREATED:20260129T171718Z
LAST-MODIFIED:20260209T154847Z
UID:10000708-1862744400-1862748000@www.aiaetn.org
SUMMARY:Regional Affairs Committee
DESCRIPTION:The Regional Affairs Committee discusses the communities and counties in our Chapter outside of the Knox County metro and the issues facing those areas of East Tennessee. All meetings virtual unless otherwise noted.
URL:https://www.aiaetn.org/calendar/regional-affairs-committee/2029-01-10/
ATTACH;FMTTYPE=image/png:https://www.aiaetn.org/site/wp-content/uploads/2026/01/Committees-17.png
END:VEVENT
BEGIN:VEVENT
DTSTART;TZID=America/New_York:20290205T120000
DTEND;TZID=America/New_York:20290205T130000
DTSTAMP:20260421T223536
CREATED:20250703T193507Z
LAST-MODIFIED:20251203T192503Z
UID:10000529-1864987200-1864990800@www.aiaetn.org
SUMMARY:Equity\, Diversity\, & Inclusion (EDI) Committee
DESCRIPTION:Our EDI Committee’s mission is to assist other committees and the Chapter with recognizing and eliminating institutional injustice\, increasing the diversity of the profession and of future professionals\, and fostering a spirit of inclusiveness for all members\, while working to promote a completely just society for all members of our communities. \n\n\n\nThis committee meets on the first Monday of the month. If you would like to join this committee or want a link to the virtual meetings\, please contact our Chair\, Geoffrey Cavalier\, at cavaliergeoffrey@gmail.com
URL:https://www.aiaetn.org/calendar/edi_comm/2029-02-05/
CATEGORIES:Committees,EDI
ATTACH;FMTTYPE=image/png:https://www.aiaetn.org/site/wp-content/uploads/2025/07/Committees-15.png
END:VEVENT
BEGIN:VEVENT
DTSTART;TZID=America/New_York:20290214T130000
DTEND;TZID=America/New_York:20290214T140000
DTSTAMP:20260421T223536
CREATED:20260129T171718Z
LAST-MODIFIED:20260209T154847Z
UID:10000709-1865768400-1865772000@www.aiaetn.org
SUMMARY:Regional Affairs Committee
DESCRIPTION:The Regional Affairs Committee discusses the communities and counties in our Chapter outside of the Knox County metro and the issues facing those areas of East Tennessee. All meetings virtual unless otherwise noted.
URL:https://www.aiaetn.org/calendar/regional-affairs-committee/2029-02-14/
ATTACH;FMTTYPE=image/png:https://www.aiaetn.org/site/wp-content/uploads/2026/01/Committees-17.png
END:VEVENT
BEGIN:VEVENT
DTSTART;TZID=America/New_York:20290305T120000
DTEND;TZID=America/New_York:20290305T130000
DTSTAMP:20260421T223536
CREATED:20250703T193507Z
LAST-MODIFIED:20251203T192503Z
UID:10000530-1867406400-1867410000@www.aiaetn.org
SUMMARY:Equity\, Diversity\, & Inclusion (EDI) Committee
DESCRIPTION:Our EDI Committee’s mission is to assist other committees and the Chapter with recognizing and eliminating institutional injustice\, increasing the diversity of the profession and of future professionals\, and fostering a spirit of inclusiveness for all members\, while working to promote a completely just society for all members of our communities. \n\n\n\nThis committee meets on the first Monday of the month. If you would like to join this committee or want a link to the virtual meetings\, please contact our Chair\, Geoffrey Cavalier\, at cavaliergeoffrey@gmail.com
URL:https://www.aiaetn.org/calendar/edi_comm/2029-03-05/
CATEGORIES:Committees,EDI
ATTACH;FMTTYPE=image/png:https://www.aiaetn.org/site/wp-content/uploads/2025/07/Committees-15.png
END:VEVENT
BEGIN:VEVENT
DTSTART;TZID=America/New_York:20290314T130000
DTEND;TZID=America/New_York:20290314T140000
DTSTAMP:20260421T223536
CREATED:20260129T171718Z
LAST-MODIFIED:20260209T154847Z
UID:10000710-1868187600-1868191200@www.aiaetn.org
SUMMARY:Regional Affairs Committee
DESCRIPTION:The Regional Affairs Committee discusses the communities and counties in our Chapter outside of the Knox County metro and the issues facing those areas of East Tennessee. All meetings virtual unless otherwise noted.
URL:https://www.aiaetn.org/calendar/regional-affairs-committee/2029-03-14/
ATTACH;FMTTYPE=image/png:https://www.aiaetn.org/site/wp-content/uploads/2026/01/Committees-17.png
END:VEVENT
BEGIN:VEVENT
DTSTART;TZID=America/New_York:20290402T120000
DTEND;TZID=America/New_York:20290402T130000
DTSTAMP:20260421T223536
CREATED:20250703T193507Z
LAST-MODIFIED:20251203T192503Z
UID:10000531-1869825600-1869829200@www.aiaetn.org
SUMMARY:Equity\, Diversity\, & Inclusion (EDI) Committee
DESCRIPTION:Our EDI Committee’s mission is to assist other committees and the Chapter with recognizing and eliminating institutional injustice\, increasing the diversity of the profession and of future professionals\, and fostering a spirit of inclusiveness for all members\, while working to promote a completely just society for all members of our communities. \n\n\n\nThis committee meets on the first Monday of the month. If you would like to join this committee or want a link to the virtual meetings\, please contact our Chair\, Geoffrey Cavalier\, at cavaliergeoffrey@gmail.com
URL:https://www.aiaetn.org/calendar/edi_comm/2029-04-02/
CATEGORIES:Committees,EDI
ATTACH;FMTTYPE=image/png:https://www.aiaetn.org/site/wp-content/uploads/2025/07/Committees-15.png
END:VEVENT
BEGIN:VEVENT
DTSTART;TZID=America/New_York:20290411T130000
DTEND;TZID=America/New_York:20290411T140000
DTSTAMP:20260421T223536
CREATED:20260129T171718Z
LAST-MODIFIED:20260209T154847Z
UID:10000711-1870606800-1870610400@www.aiaetn.org
SUMMARY:Regional Affairs Committee
DESCRIPTION:The Regional Affairs Committee discusses the communities and counties in our Chapter outside of the Knox County metro and the issues facing those areas of East Tennessee. All meetings virtual unless otherwise noted.
URL:https://www.aiaetn.org/calendar/regional-affairs-committee/2029-04-11/
ATTACH;FMTTYPE=image/png:https://www.aiaetn.org/site/wp-content/uploads/2026/01/Committees-17.png
END:VEVENT
BEGIN:VEVENT
DTSTART;TZID=America/New_York:20290507T120000
DTEND;TZID=America/New_York:20290507T130000
DTSTAMP:20260421T223536
CREATED:20250703T193507Z
LAST-MODIFIED:20251203T192503Z
UID:10000532-1872849600-1872853200@www.aiaetn.org
SUMMARY:Equity\, Diversity\, & Inclusion (EDI) Committee
DESCRIPTION:Our EDI Committee’s mission is to assist other committees and the Chapter with recognizing and eliminating institutional injustice\, increasing the diversity of the profession and of future professionals\, and fostering a spirit of inclusiveness for all members\, while working to promote a completely just society for all members of our communities. \n\n\n\nThis committee meets on the first Monday of the month. If you would like to join this committee or want a link to the virtual meetings\, please contact our Chair\, Geoffrey Cavalier\, at cavaliergeoffrey@gmail.com
URL:https://www.aiaetn.org/calendar/edi_comm/2029-05-07/
CATEGORIES:Committees,EDI
ATTACH;FMTTYPE=image/png:https://www.aiaetn.org/site/wp-content/uploads/2025/07/Committees-15.png
END:VEVENT
BEGIN:VEVENT
DTSTART;TZID=America/New_York:20290509T130000
DTEND;TZID=America/New_York:20290509T140000
DTSTAMP:20260421T223536
CREATED:20260129T171718Z
LAST-MODIFIED:20260209T154847Z
UID:10000712-1873026000-1873029600@www.aiaetn.org
SUMMARY:Regional Affairs Committee
DESCRIPTION:The Regional Affairs Committee discusses the communities and counties in our Chapter outside of the Knox County metro and the issues facing those areas of East Tennessee. All meetings virtual unless otherwise noted.
URL:https://www.aiaetn.org/calendar/regional-affairs-committee/2029-05-09/
ATTACH;FMTTYPE=image/png:https://www.aiaetn.org/site/wp-content/uploads/2026/01/Committees-17.png
END:VEVENT
BEGIN:VEVENT
DTSTART;TZID=America/New_York:20290604T120000
DTEND;TZID=America/New_York:20290604T130000
DTSTAMP:20260421T223536
CREATED:20250703T193507Z
LAST-MODIFIED:20251203T192503Z
UID:10000533-1875268800-1875272400@www.aiaetn.org
SUMMARY:Equity\, Diversity\, & Inclusion (EDI) Committee
DESCRIPTION:Our EDI Committee’s mission is to assist other committees and the Chapter with recognizing and eliminating institutional injustice\, increasing the diversity of the profession and of future professionals\, and fostering a spirit of inclusiveness for all members\, while working to promote a completely just society for all members of our communities. \n\n\n\nThis committee meets on the first Monday of the month. If you would like to join this committee or want a link to the virtual meetings\, please contact our Chair\, Geoffrey Cavalier\, at cavaliergeoffrey@gmail.com
URL:https://www.aiaetn.org/calendar/edi_comm/2029-06-04/
CATEGORIES:Committees,EDI
ATTACH;FMTTYPE=image/png:https://www.aiaetn.org/site/wp-content/uploads/2025/07/Committees-15.png
END:VEVENT
BEGIN:VEVENT
DTSTART;TZID=America/New_York:20290613T130000
DTEND;TZID=America/New_York:20290613T140000
DTSTAMP:20260421T223536
CREATED:20260129T171718Z
LAST-MODIFIED:20260209T154847Z
UID:10000713-1876050000-1876053600@www.aiaetn.org
SUMMARY:Regional Affairs Committee
DESCRIPTION:The Regional Affairs Committee discusses the communities and counties in our Chapter outside of the Knox County metro and the issues facing those areas of East Tennessee. All meetings virtual unless otherwise noted.
URL:https://www.aiaetn.org/calendar/regional-affairs-committee/2029-06-13/
ATTACH;FMTTYPE=image/png:https://www.aiaetn.org/site/wp-content/uploads/2026/01/Committees-17.png
END:VEVENT
BEGIN:VEVENT
DTSTART;TZID=America/New_York:20290702T120000
DTEND;TZID=America/New_York:20290702T130000
DTSTAMP:20260421T223536
CREATED:20250703T193507Z
LAST-MODIFIED:20251203T192503Z
UID:10000534-1877688000-1877691600@www.aiaetn.org
SUMMARY:Equity\, Diversity\, & Inclusion (EDI) Committee
DESCRIPTION:Our EDI Committee’s mission is to assist other committees and the Chapter with recognizing and eliminating institutional injustice\, increasing the diversity of the profession and of future professionals\, and fostering a spirit of inclusiveness for all members\, while working to promote a completely just society for all members of our communities. \n\n\n\nThis committee meets on the first Monday of the month. If you would like to join this committee or want a link to the virtual meetings\, please contact our Chair\, Geoffrey Cavalier\, at cavaliergeoffrey@gmail.com
URL:https://www.aiaetn.org/calendar/edi_comm/2029-07-02/
CATEGORIES:Committees,EDI
ATTACH;FMTTYPE=image/png:https://www.aiaetn.org/site/wp-content/uploads/2025/07/Committees-15.png
END:VEVENT
BEGIN:VEVENT
DTSTART;TZID=America/New_York:20290711T130000
DTEND;TZID=America/New_York:20290711T140000
DTSTAMP:20260421T223536
CREATED:20260129T171718Z
LAST-MODIFIED:20260209T154847Z
UID:10000714-1878469200-1878472800@www.aiaetn.org
SUMMARY:Regional Affairs Committee
DESCRIPTION:The Regional Affairs Committee discusses the communities and counties in our Chapter outside of the Knox County metro and the issues facing those areas of East Tennessee. All meetings virtual unless otherwise noted.
URL:https://www.aiaetn.org/calendar/regional-affairs-committee/2029-07-11/
ATTACH;FMTTYPE=image/png:https://www.aiaetn.org/site/wp-content/uploads/2026/01/Committees-17.png
END:VEVENT
BEGIN:VEVENT
DTSTART;TZID=America/New_York:20290806T120000
DTEND;TZID=America/New_York:20290806T130000
DTSTAMP:20260421T223536
CREATED:20250703T193507Z
LAST-MODIFIED:20251203T192503Z
UID:10000535-1880712000-1880715600@www.aiaetn.org
SUMMARY:Equity\, Diversity\, & Inclusion (EDI) Committee
DESCRIPTION:Our EDI Committee’s mission is to assist other committees and the Chapter with recognizing and eliminating institutional injustice\, increasing the diversity of the profession and of future professionals\, and fostering a spirit of inclusiveness for all members\, while working to promote a completely just society for all members of our communities. \n\n\n\nThis committee meets on the first Monday of the month. If you would like to join this committee or want a link to the virtual meetings\, please contact our Chair\, Geoffrey Cavalier\, at cavaliergeoffrey@gmail.com
URL:https://www.aiaetn.org/calendar/edi_comm/2029-08-06/
CATEGORIES:Committees,EDI
ATTACH;FMTTYPE=image/png:https://www.aiaetn.org/site/wp-content/uploads/2025/07/Committees-15.png
END:VEVENT
BEGIN:VEVENT
DTSTART;TZID=America/New_York:20290808T130000
DTEND;TZID=America/New_York:20290808T140000
DTSTAMP:20260421T223536
CREATED:20260129T171718Z
LAST-MODIFIED:20260209T154847Z
UID:10000715-1880888400-1880892000@www.aiaetn.org
SUMMARY:Regional Affairs Committee
DESCRIPTION:The Regional Affairs Committee discusses the communities and counties in our Chapter outside of the Knox County metro and the issues facing those areas of East Tennessee. All meetings virtual unless otherwise noted.
URL:https://www.aiaetn.org/calendar/regional-affairs-committee/2029-08-08/
ATTACH;FMTTYPE=image/png:https://www.aiaetn.org/site/wp-content/uploads/2026/01/Committees-17.png
END:VEVENT
BEGIN:VEVENT
DTSTART;TZID=America/New_York:20290903T120000
DTEND;TZID=America/New_York:20290903T130000
DTSTAMP:20260421T223536
CREATED:20250703T193507Z
LAST-MODIFIED:20251203T192503Z
UID:10000536-1883131200-1883134800@www.aiaetn.org
SUMMARY:Equity\, Diversity\, & Inclusion (EDI) Committee
DESCRIPTION:Our EDI Committee’s mission is to assist other committees and the Chapter with recognizing and eliminating institutional injustice\, increasing the diversity of the profession and of future professionals\, and fostering a spirit of inclusiveness for all members\, while working to promote a completely just society for all members of our communities. \n\n\n\nThis committee meets on the first Monday of the month. If you would like to join this committee or want a link to the virtual meetings\, please contact our Chair\, Geoffrey Cavalier\, at cavaliergeoffrey@gmail.com
URL:https://www.aiaetn.org/calendar/edi_comm/2029-09-03/
CATEGORIES:Committees,EDI
ATTACH;FMTTYPE=image/png:https://www.aiaetn.org/site/wp-content/uploads/2025/07/Committees-15.png
END:VEVENT
BEGIN:VEVENT
DTSTART;TZID=America/New_York:20290912T130000
DTEND;TZID=America/New_York:20290912T140000
DTSTAMP:20260421T223536
CREATED:20260129T171718Z
LAST-MODIFIED:20260209T154847Z
UID:10000716-1883912400-1883916000@www.aiaetn.org
SUMMARY:Regional Affairs Committee
DESCRIPTION:The Regional Affairs Committee discusses the communities and counties in our Chapter outside of the Knox County metro and the issues facing those areas of East Tennessee. All meetings virtual unless otherwise noted.
URL:https://www.aiaetn.org/calendar/regional-affairs-committee/2029-09-12/
ATTACH;FMTTYPE=image/png:https://www.aiaetn.org/site/wp-content/uploads/2026/01/Committees-17.png
END:VEVENT
END:VCALENDAR