BEGIN:VCALENDAR
VERSION:2.0
PRODID:-//AIA ETN - ECPv6.15.20//NONSGML v1.0//EN
CALSCALE:GREGORIAN
METHOD:PUBLISH
X-WR-CALNAME:AIA ETN
X-ORIGINAL-URL:https://www.aiaetn.org
X-WR-CALDESC:Events for AIA ETN
REFRESH-INTERVAL;VALUE=DURATION:PT1H
X-Robots-Tag:noindex
X-PUBLISHED-TTL:PT1H
BEGIN:VTIMEZONE
TZID:America/New_York
BEGIN:DAYLIGHT
TZOFFSETFROM:-0500
TZOFFSETTO:-0400
TZNAME:EDT
DTSTART:20290311T070000
END:DAYLIGHT
BEGIN:STANDARD
TZOFFSETFROM:-0400
TZOFFSETTO:-0500
TZNAME:EST
DTSTART:20291104T060000
END:STANDARD
BEGIN:DAYLIGHT
TZOFFSETFROM:-0500
TZOFFSETTO:-0400
TZNAME:EDT
DTSTART:20300310T070000
END:DAYLIGHT
BEGIN:STANDARD
TZOFFSETFROM:-0400
TZOFFSETTO:-0500
TZNAME:EST
DTSTART:20301103T060000
END:STANDARD
BEGIN:DAYLIGHT
TZOFFSETFROM:-0500
TZOFFSETTO:-0400
TZNAME:EDT
DTSTART:20310309T070000
END:DAYLIGHT
BEGIN:STANDARD
TZOFFSETFROM:-0400
TZOFFSETTO:-0500
TZNAME:EST
DTSTART:20311102T060000
END:STANDARD
BEGIN:DAYLIGHT
TZOFFSETFROM:-0500
TZOFFSETTO:-0400
TZNAME:EDT
DTSTART:20320314T070000
END:DAYLIGHT
BEGIN:STANDARD
TZOFFSETFROM:-0400
TZOFFSETTO:-0500
TZNAME:EST
DTSTART:20321107T060000
END:STANDARD
END:VTIMEZONE
BEGIN:VEVENT
DTSTART;TZID=America/New_York:20300911T130000
DTEND;TZID=America/New_York:20300911T140000
DTSTAMP:20260422T184502
CREATED:20260129T171718Z
LAST-MODIFIED:20260209T154847Z
UID:10000728-1915362000-1915365600@www.aiaetn.org
SUMMARY:Regional Affairs Committee
DESCRIPTION:The Regional Affairs Committee discusses the communities and counties in our Chapter outside of the Knox County metro and the issues facing those areas of East Tennessee. All meetings virtual unless otherwise noted.
URL:https://www.aiaetn.org/calendar/regional-affairs-committee/2030-09-11/
ATTACH;FMTTYPE=image/png:https://www.aiaetn.org/site/wp-content/uploads/2026/01/Committees-17.png
END:VEVENT
BEGIN:VEVENT
DTSTART;TZID=America/New_York:20301007T120000
DTEND;TZID=America/New_York:20301007T130000
DTSTAMP:20260422T184502
CREATED:20250703T193507Z
LAST-MODIFIED:20251203T192503Z
UID:10000589-1917604800-1917608400@www.aiaetn.org
SUMMARY:Equity\, Diversity\, & Inclusion (EDI) Committee
DESCRIPTION:Our EDI Committee’s mission is to assist other committees and the Chapter with recognizing and eliminating institutional injustice\, increasing the diversity of the profession and of future professionals\, and fostering a spirit of inclusiveness for all members\, while working to promote a completely just society for all members of our communities. \n\n\n\nThis committee meets on the first Monday of the month. If you would like to join this committee or want a link to the virtual meetings\, please contact our Chair\, Geoffrey Cavalier\, at cavaliergeoffrey@gmail.com
URL:https://www.aiaetn.org/calendar/edi_comm/2030-10-07/
CATEGORIES:Committees,EDI
ATTACH;FMTTYPE=image/png:https://www.aiaetn.org/site/wp-content/uploads/2025/07/Committees-15.png
END:VEVENT
BEGIN:VEVENT
DTSTART;TZID=America/New_York:20301009T130000
DTEND;TZID=America/New_York:20301009T140000
DTSTAMP:20260422T184502
CREATED:20260129T171718Z
LAST-MODIFIED:20260209T154847Z
UID:10000729-1917781200-1917784800@www.aiaetn.org
SUMMARY:Regional Affairs Committee
DESCRIPTION:The Regional Affairs Committee discusses the communities and counties in our Chapter outside of the Knox County metro and the issues facing those areas of East Tennessee. All meetings virtual unless otherwise noted.
URL:https://www.aiaetn.org/calendar/regional-affairs-committee/2030-10-09/
ATTACH;FMTTYPE=image/png:https://www.aiaetn.org/site/wp-content/uploads/2026/01/Committees-17.png
END:VEVENT
BEGIN:VEVENT
DTSTART;TZID=America/New_York:20301104T120000
DTEND;TZID=America/New_York:20301104T130000
DTSTAMP:20260422T184502
CREATED:20250703T193507Z
LAST-MODIFIED:20251203T192503Z
UID:10000590-1920024000-1920027600@www.aiaetn.org
SUMMARY:Equity\, Diversity\, & Inclusion (EDI) Committee
DESCRIPTION:Our EDI Committee’s mission is to assist other committees and the Chapter with recognizing and eliminating institutional injustice\, increasing the diversity of the profession and of future professionals\, and fostering a spirit of inclusiveness for all members\, while working to promote a completely just society for all members of our communities. \n\n\n\nThis committee meets on the first Monday of the month. If you would like to join this committee or want a link to the virtual meetings\, please contact our Chair\, Geoffrey Cavalier\, at cavaliergeoffrey@gmail.com
URL:https://www.aiaetn.org/calendar/edi_comm/2030-11-04/
CATEGORIES:Committees,EDI
ATTACH;FMTTYPE=image/png:https://www.aiaetn.org/site/wp-content/uploads/2025/07/Committees-15.png
END:VEVENT
BEGIN:VEVENT
DTSTART;TZID=America/New_York:20301113T130000
DTEND;TZID=America/New_York:20301113T140000
DTSTAMP:20260422T184502
CREATED:20260129T171718Z
LAST-MODIFIED:20260209T154847Z
UID:10000730-1920805200-1920808800@www.aiaetn.org
SUMMARY:Regional Affairs Committee
DESCRIPTION:The Regional Affairs Committee discusses the communities and counties in our Chapter outside of the Knox County metro and the issues facing those areas of East Tennessee. All meetings virtual unless otherwise noted.
URL:https://www.aiaetn.org/calendar/regional-affairs-committee/2030-11-13/
ATTACH;FMTTYPE=image/png:https://www.aiaetn.org/site/wp-content/uploads/2026/01/Committees-17.png
END:VEVENT
BEGIN:VEVENT
DTSTART;TZID=America/New_York:20301202T120000
DTEND;TZID=America/New_York:20301202T130000
DTSTAMP:20260422T184502
CREATED:20250703T193507Z
LAST-MODIFIED:20251203T192503Z
UID:10000591-1922443200-1922446800@www.aiaetn.org
SUMMARY:Equity\, Diversity\, & Inclusion (EDI) Committee
DESCRIPTION:Our EDI Committee’s mission is to assist other committees and the Chapter with recognizing and eliminating institutional injustice\, increasing the diversity of the profession and of future professionals\, and fostering a spirit of inclusiveness for all members\, while working to promote a completely just society for all members of our communities. \n\n\n\nThis committee meets on the first Monday of the month. If you would like to join this committee or want a link to the virtual meetings\, please contact our Chair\, Geoffrey Cavalier\, at cavaliergeoffrey@gmail.com
URL:https://www.aiaetn.org/calendar/edi_comm/2030-12-02/
CATEGORIES:Committees,EDI
ATTACH;FMTTYPE=image/png:https://www.aiaetn.org/site/wp-content/uploads/2025/07/Committees-15.png
END:VEVENT
BEGIN:VEVENT
DTSTART;TZID=America/New_York:20301211T130000
DTEND;TZID=America/New_York:20301211T140000
DTSTAMP:20260422T184502
CREATED:20260129T171718Z
LAST-MODIFIED:20260209T154847Z
UID:10000731-1923224400-1923228000@www.aiaetn.org
SUMMARY:Regional Affairs Committee
DESCRIPTION:The Regional Affairs Committee discusses the communities and counties in our Chapter outside of the Knox County metro and the issues facing those areas of East Tennessee. All meetings virtual unless otherwise noted.
URL:https://www.aiaetn.org/calendar/regional-affairs-committee/2030-12-11/
ATTACH;FMTTYPE=image/png:https://www.aiaetn.org/site/wp-content/uploads/2026/01/Committees-17.png
END:VEVENT
BEGIN:VEVENT
DTSTART;TZID=America/New_York:20310106T120000
DTEND;TZID=America/New_York:20310106T130000
DTSTAMP:20260422T184502
CREATED:20250703T193507Z
LAST-MODIFIED:20251203T192503Z
UID:10000737-1925467200-1925470800@www.aiaetn.org
SUMMARY:Equity\, Diversity\, & Inclusion (EDI) Committee
DESCRIPTION:Our EDI Committee’s mission is to assist other committees and the Chapter with recognizing and eliminating institutional injustice\, increasing the diversity of the profession and of future professionals\, and fostering a spirit of inclusiveness for all members\, while working to promote a completely just society for all members of our communities. \n\n\n\nThis committee meets on the first Monday of the month. If you would like to join this committee or want a link to the virtual meetings\, please contact our Chair\, Geoffrey Cavalier\, at cavaliergeoffrey@gmail.com
URL:https://www.aiaetn.org/calendar/edi_comm/2031-01-06/
CATEGORIES:Committees,EDI
ATTACH;FMTTYPE=image/png:https://www.aiaetn.org/site/wp-content/uploads/2025/07/Committees-15.png
END:VEVENT
BEGIN:VEVENT
DTSTART;TZID=America/New_York:20310108T130000
DTEND;TZID=America/New_York:20310108T140000
DTSTAMP:20260422T184502
CREATED:20260129T171718Z
LAST-MODIFIED:20260209T154847Z
UID:10000732-1925643600-1925647200@www.aiaetn.org
SUMMARY:Regional Affairs Committee
DESCRIPTION:The Regional Affairs Committee discusses the communities and counties in our Chapter outside of the Knox County metro and the issues facing those areas of East Tennessee. All meetings virtual unless otherwise noted.
URL:https://www.aiaetn.org/calendar/regional-affairs-committee/2031-01-08/
ATTACH;FMTTYPE=image/png:https://www.aiaetn.org/site/wp-content/uploads/2026/01/Committees-17.png
END:VEVENT
BEGIN:VEVENT
DTSTART;TZID=America/New_York:20310203T120000
DTEND;TZID=America/New_York:20310203T130000
DTSTAMP:20260422T184502
CREATED:20250703T193507Z
LAST-MODIFIED:20251203T192503Z
UID:10000738-1927886400-1927890000@www.aiaetn.org
SUMMARY:Equity\, Diversity\, & Inclusion (EDI) Committee
DESCRIPTION:Our EDI Committee’s mission is to assist other committees and the Chapter with recognizing and eliminating institutional injustice\, increasing the diversity of the profession and of future professionals\, and fostering a spirit of inclusiveness for all members\, while working to promote a completely just society for all members of our communities. \n\n\n\nThis committee meets on the first Monday of the month. If you would like to join this committee or want a link to the virtual meetings\, please contact our Chair\, Geoffrey Cavalier\, at cavaliergeoffrey@gmail.com
URL:https://www.aiaetn.org/calendar/edi_comm/2031-02-03/
CATEGORIES:Committees,EDI
ATTACH;FMTTYPE=image/png:https://www.aiaetn.org/site/wp-content/uploads/2025/07/Committees-15.png
END:VEVENT
END:VCALENDAR