BEGIN:VCALENDAR
VERSION:2.0
PRODID:-//AIA ETN - ECPv6.15.20//NONSGML v1.0//EN
CALSCALE:GREGORIAN
METHOD:PUBLISH
X-ORIGINAL-URL:https://www.aiaetn.org
X-WR-CALDESC:Events for AIA ETN
REFRESH-INTERVAL;VALUE=DURATION:PT1H
X-Robots-Tag:noindex
X-PUBLISHED-TTL:PT1H
BEGIN:VTIMEZONE
TZID:America/New_York
BEGIN:DAYLIGHT
TZOFFSETFROM:-0500
TZOFFSETTO:-0400
TZNAME:EDT
DTSTART:20240310T070000
END:DAYLIGHT
BEGIN:STANDARD
TZOFFSETFROM:-0400
TZOFFSETTO:-0500
TZNAME:EST
DTSTART:20241103T060000
END:STANDARD
BEGIN:DAYLIGHT
TZOFFSETFROM:-0500
TZOFFSETTO:-0400
TZNAME:EDT
DTSTART:20250309T070000
END:DAYLIGHT
BEGIN:STANDARD
TZOFFSETFROM:-0400
TZOFFSETTO:-0500
TZNAME:EST
DTSTART:20251102T060000
END:STANDARD
BEGIN:DAYLIGHT
TZOFFSETFROM:-0500
TZOFFSETTO:-0400
TZNAME:EDT
DTSTART:20260308T070000
END:DAYLIGHT
BEGIN:STANDARD
TZOFFSETFROM:-0400
TZOFFSETTO:-0500
TZNAME:EST
DTSTART:20261101T060000
END:STANDARD
END:VTIMEZONE
BEGIN:VEVENT
DTSTART;TZID=America/New_York:20251014T115000
DTEND;TZID=America/New_York:20251014T130000
DTSTAMP:20260422T122329
CREATED:20240108T191241Z
LAST-MODIFIED:20251008T173628Z
UID:10000426-1760442600-1760446800@www.aiaetn.org
SUMMARY:Tri-Cities Tech Session
DESCRIPTION:Tri-Cities Tech Session – October 2025 with SESCO Lighting\n                            Register here for the October 2025 Tri-Cities Tech Session. \n\n\nIf you have any issues with registering online\, please reach out to Dustin Durham at dustin@aiaetn.org. \n                        \n                        Name(Required)\n                            \n                            \n                                                    First\n                                                    \n                                                \n                            \n                            \n                                                            Last\n                                                            \n                                                        \n                            \n                        Email(Required)\n                            \n                        Business\, Firm\, or School Name(Required)Are you a Member of AIA East Tennessee?(Required)\n			\n					\n					Yes\n			\n			\n					\n					No\n			Membership Type(Required)Choose from drop down menu.ArchitectAssociateAlliedEmeritusAIA Membership Number(Required)Enter ALLIED if an Allied Member. (You do not have a membership number.)Member Ticket(Required)Select from the drop-down below. Single TicketMultiple TicketsDigital# of Tickets Quantity\n					\n					\n						Price:\n						$0.00\n					\n					\n					 Quantity \n				Guest(s) Names(Required)One name per line\, click + to add more lines.  Please place the names of ALL expected Attendees below. We want to ensure that all of your guests are on our list so that when they attend the event\, they can be directed to the right table.    Add   RemoveGuest(s) Emails(Required)One email per line\, click + to add more lines. We promise to not add your guest to our newsletter or any other promotional correspondence. We want to have their contact information so that they can stay up to date on event information and have the right link to log on!   Add   RemoveMember Meal Choice(Required)Note: If you are joining us virtually\, a link to the Zoom webinar will be sent to you the week of the event. \n								\n								Carnivore\n							\n								\n								Vegetarian\n							\n								\n								No Meal (In-Person)\n							\n								\n								No Meal (Virtual)\n							Guest(s) Meal Selections(Required)Please enter which meal choice your guests will prefer. (Press the + to add orders) Carnivore or Vegetarian.    Add   RemoveNon-Member Ticket(Required)Single TicketMultiple TicketsDigital# of Tickets Quantity\n					\n					\n						Price:\n						$15.00\n					\n					\n					 Quantity \n				Guest(s) Names(Required)One name per line\, click + to add more lines. Please place the names of ALL expected attendees below. We want to ensure that all of your guests are on our list so that when they attend the event\, they can be directed to the right table.    Add   RemoveGuest(s) Emails(Required)One email per line\, click + to add more linesWe promise to not add your guest to our newsletter or any other promotional correspondence. We want to have their contact information so that they can stay up to date on event information and more!\n   Add   RemoveYour Meal Choice(Required)\n								\n								Carnivore\n							\n								\n								Vegetarian\n							\n								\n								No Meal (In-Person)\n							\n								\n								No Meal (Digital)\n							Guest(s) Meal Selections(Required)Please enter which meal choice your guests will prefer. (Press the + to add orders) Carnivore or Vegetarian.    Add   RemoveTotal\n							\n						Credit Card
URL:https://www.aiaetn.org/calendar/tri-cities-tech-session-22/
LOCATION:Tennessee
CATEGORIES:Tech Sessions
END:VEVENT
END:VCALENDAR