BEGIN:VCALENDAR
VERSION:2.0
PRODID:-//AIA ETN - ECPv6.15.20//NONSGML v1.0//EN
CALSCALE:GREGORIAN
METHOD:PUBLISH
X-WR-CALNAME:AIA ETN
X-ORIGINAL-URL:https://www.aiaetn.org
X-WR-CALDESC:Events for AIA ETN
REFRESH-INTERVAL;VALUE=DURATION:PT1H
X-Robots-Tag:noindex
X-PUBLISHED-TTL:PT1H
BEGIN:VTIMEZONE
TZID:America/New_York
BEGIN:DAYLIGHT
TZOFFSETFROM:-0500
TZOFFSETTO:-0400
TZNAME:EDT
DTSTART:20230312T070000
END:DAYLIGHT
BEGIN:STANDARD
TZOFFSETFROM:-0400
TZOFFSETTO:-0500
TZNAME:EST
DTSTART:20231105T060000
END:STANDARD
BEGIN:DAYLIGHT
TZOFFSETFROM:-0500
TZOFFSETTO:-0400
TZNAME:EDT
DTSTART:20240310T070000
END:DAYLIGHT
BEGIN:STANDARD
TZOFFSETFROM:-0400
TZOFFSETTO:-0500
TZNAME:EST
DTSTART:20241103T060000
END:STANDARD
BEGIN:DAYLIGHT
TZOFFSETFROM:-0500
TZOFFSETTO:-0400
TZNAME:EDT
DTSTART:20250309T070000
END:DAYLIGHT
BEGIN:STANDARD
TZOFFSETFROM:-0400
TZOFFSETTO:-0500
TZNAME:EST
DTSTART:20251102T060000
END:STANDARD
END:VTIMEZONE
BEGIN:VEVENT
DTSTART;TZID=America/New_York:20240813T115000
DTEND;TZID=America/New_York:20240813T130000
DTSTAMP:20260423T125136
CREATED:20240108T190320Z
LAST-MODIFIED:20240812T224900Z
UID:10000412-1723549800-1723554000@www.aiaetn.org
SUMMARY:Tri-Cities Tech Session
DESCRIPTION:Join AIA East Tennessee and HomeChoice Windows & Doors for our August Tech Session with Kenny Cobb from NanaWall Systems.  \n\n\n\nDescription: NanaWall System’s knowledgeable Educational Architecture Consultant and Local Representative will present the information you need to confidently design innovative projects using operable glass walls. You will learn the differences between folding and single-track sliding wall systems and how and where they are used. You will also learn how stringent product testing supports design freedom and views imaginative new applications in an ever-increasing marketplace. \n\n\n\nCEU: 1 HSW/LU \n\n\n\nLearning Objectives:  \n\n\n\n\nFamiliarize architects with the definitions\, capabilities\, and usages of large moveable glass wall systems.\n\n\n\n\n\nIllustrate how large operable glass walls can be an integral part of GREEN/Sustainable design both in form and function\n\n\n\nProvide answers on how large operable glass walls can improve the health\, safety and welfare ofbuilding occupants.\n\n\n\nDemonstrate new and innovative ideas to take into the design process for schools\, hospitals andother commercial applications\, and to help you through that process.\n\n\n\n\nHSW:  \n\n\n\n\nBuilding envelope\, sustainable design\, and accessibility\n\n\n\nAcoustics and interior design\n\n\n\nEnergy efficiency and natural hazards\n\n\n\nRenovation and adaptive use\n\n\n\nSecurityStructural considerations\n\n\n\n\n \n\n\n\n\nSecure My Seat
URL:https://www.aiaetn.org/calendar/homechoicetechsession/
LOCATION:Food City\, 920 N State of Franklin Rd\, Johnson City\, TN 37604\, USA
CATEGORIES:Tech Sessions
ATTACH;FMTTYPE=image/png:https://www.aiaetn.org/site/wp-content/uploads/2024/01/HomeChoice-Tri-Cities-Tech-Session.png
END:VEVENT
END:VCALENDAR