BEGIN:VCALENDAR
VERSION:2.0
PRODID:-//AIA ETN - ECPv6.15.20//NONSGML v1.0//EN
CALSCALE:GREGORIAN
METHOD:PUBLISH
X-ORIGINAL-URL:https://www.aiaetn.org
X-WR-CALDESC:Events for AIA ETN
REFRESH-INTERVAL;VALUE=DURATION:PT1H
X-Robots-Tag:noindex
X-PUBLISHED-TTL:PT1H
BEGIN:VTIMEZONE
TZID:America/New_York
BEGIN:DAYLIGHT
TZOFFSETFROM:-0500
TZOFFSETTO:-0400
TZNAME:EDT
DTSTART:20240310T070000
END:DAYLIGHT
BEGIN:STANDARD
TZOFFSETFROM:-0400
TZOFFSETTO:-0500
TZNAME:EST
DTSTART:20241103T060000
END:STANDARD
BEGIN:DAYLIGHT
TZOFFSETFROM:-0500
TZOFFSETTO:-0400
TZNAME:EDT
DTSTART:20250309T070000
END:DAYLIGHT
BEGIN:STANDARD
TZOFFSETFROM:-0400
TZOFFSETTO:-0500
TZNAME:EST
DTSTART:20251102T060000
END:STANDARD
BEGIN:DAYLIGHT
TZOFFSETFROM:-0500
TZOFFSETTO:-0400
TZNAME:EDT
DTSTART:20260308T070000
END:DAYLIGHT
BEGIN:STANDARD
TZOFFSETFROM:-0400
TZOFFSETTO:-0500
TZNAME:EST
DTSTART:20261101T060000
END:STANDARD
END:VTIMEZONE
BEGIN:VEVENT
DTSTART;TZID=America/New_York:20251118T115000
DTEND;TZID=America/New_York:20251118T130000
DTSTAMP:20260421T172250
CREATED:20240108T140525Z
LAST-MODIFIED:20251118T143922Z
UID:10000404-1763466600-1763470800@www.aiaetn.org
SUMMARY:November Design Feed
DESCRIPTION:We are no longer selling in-person tickets for this Design Feed to ensure that we have enough food and seats for attendees. If you’d like to attend this Design Feed\, limited walk-ins are available (without a guarantee for food)\, or have a guaranteed digital seat via ZOOM.\n\nWalk-ins can now pay via Square! \n\n\n\nClick Here To Watch Via Zoom Webinar
URL:https://www.aiaetn.org/calendar/design-feed-22/
CATEGORIES:Design Feed
ATTACH;FMTTYPE=image/jpeg:https://www.aiaetn.org/site/wp-content/uploads/2024/01/2025-DF-November-24x36-1-scaled.jpg
END:VEVENT
END:VCALENDAR