BEGIN:VCALENDAR
VERSION:2.0
PRODID:-//AIA ETN - ECPv6.15.20//NONSGML v1.0//EN
CALSCALE:GREGORIAN
METHOD:PUBLISH
X-WR-CALNAME:AIA ETN
X-ORIGINAL-URL:https://www.aiaetn.org
X-WR-CALDESC:Events for AIA ETN
REFRESH-INTERVAL;VALUE=DURATION:PT1H
X-Robots-Tag:noindex
X-PUBLISHED-TTL:PT1H
BEGIN:VTIMEZONE
TZID:America/New_York
BEGIN:DAYLIGHT
TZOFFSETFROM:-0500
TZOFFSETTO:-0400
TZNAME:EDT
DTSTART:20240310T070000
END:DAYLIGHT
BEGIN:STANDARD
TZOFFSETFROM:-0400
TZOFFSETTO:-0500
TZNAME:EST
DTSTART:20241103T060000
END:STANDARD
BEGIN:DAYLIGHT
TZOFFSETFROM:-0500
TZOFFSETTO:-0400
TZNAME:EDT
DTSTART:20250309T070000
END:DAYLIGHT
BEGIN:STANDARD
TZOFFSETFROM:-0400
TZOFFSETTO:-0500
TZNAME:EST
DTSTART:20251102T060000
END:STANDARD
BEGIN:DAYLIGHT
TZOFFSETFROM:-0500
TZOFFSETTO:-0400
TZNAME:EDT
DTSTART:20260308T070000
END:DAYLIGHT
BEGIN:STANDARD
TZOFFSETFROM:-0400
TZOFFSETTO:-0500
TZNAME:EST
DTSTART:20261101T060000
END:STANDARD
END:VTIMEZONE
BEGIN:VEVENT
DTSTART;TZID=America/New_York:20250722T114000
DTEND;TZID=America/New_York:20250722T130000
DTSTAMP:20260422T005823
CREATED:20250630T164213Z
LAST-MODIFIED:20250721T175733Z
UID:10000485-1753184400-1753189200@www.aiaetn.org
SUMMARY:Design Feed - July 2025
DESCRIPTION:This talk explores the work of Charlotte Perriand’s early career and its influence Le Corbusier’s vision of domestic living in the 1920s and early 1930s.  It explores how changing gender identities and social conditions (such as women working and the so-called servant crisis) affected the atelier’s furniture and interior designs\, examining in particular the impact of an emerging domestic reform movement in Germany and France (especially the writings of Paulette Bernège). One theme that will be considered is the new importance that the kitchen gained in the European modern architecture in the late 1920s. Perriand’s design of the Salon d’Automne apartment of 1929 will be discussed as a pivotal project. \n\n\nWe are no longer selling in-person tickets for this Design Feed to ensure that we have enough food and seats for attendees. If you’d like to attend this Design Feed\, limited walk-ins are available (without a guarantee for food)\, or have a guaranteed digital seat via ZOOM.\n\nWalk-ins can now pay via Square!
URL:https://www.aiaetn.org/calendar/design-feed-july2025/
LOCATION:Jackson Terminal\, 213 W Jackson Ave\, Knoxville\, TN 37902\, USA
CATEGORIES:Design Feed
ATTACH;FMTTYPE=image/png:https://www.aiaetn.org/site/wp-content/uploads/2025/06/2025-DF-July-24x36-1-scaled.png
END:VEVENT
END:VCALENDAR